BEGIN:VCALENDAR
VERSION:2.0
PRODID:-//Eglise du Coeur eucharistique de Jesus - ECPv6.15.20//NONSGML v1.0//EN
CALSCALE:GREGORIAN
METHOD:PUBLISH
X-ORIGINAL-URL:https://coeur-eucharistique.net
X-WR-CALDESC:Évènements pour Eglise du Coeur eucharistique de Jesus
REFRESH-INTERVAL;VALUE=DURATION:PT1H
X-Robots-Tag:noindex
X-PUBLISHED-TTL:PT1H
BEGIN:VTIMEZONE
TZID:Europe/Paris
BEGIN:DAYLIGHT
TZOFFSETFROM:+0100
TZOFFSETTO:+0200
TZNAME:CEST
DTSTART:20270328T010000
END:DAYLIGHT
BEGIN:STANDARD
TZOFFSETFROM:+0200
TZOFFSETTO:+0100
TZNAME:CET
DTSTART:20271031T010000
END:STANDARD
BEGIN:DAYLIGHT
TZOFFSETFROM:+0100
TZOFFSETTO:+0200
TZNAME:CEST
DTSTART:20280326T010000
END:DAYLIGHT
BEGIN:STANDARD
TZOFFSETFROM:+0200
TZOFFSETTO:+0100
TZNAME:CET
DTSTART:20281029T010000
END:STANDARD
BEGIN:DAYLIGHT
TZOFFSETFROM:+0100
TZOFFSETTO:+0200
TZNAME:CEST
DTSTART:20290325T010000
END:DAYLIGHT
BEGIN:STANDARD
TZOFFSETFROM:+0200
TZOFFSETTO:+0100
TZNAME:CET
DTSTART:20291028T010000
END:STANDARD
END:VTIMEZONE
BEGIN:VEVENT
DTSTART;TZID=Europe/Paris:20281109T180000
DTEND;TZID=Europe/Paris:20281109T190000
DTSTAMP:20260424T154131
CREATED:20260313T122822Z
LAST-MODIFIED:20260313T122822Z
UID:10016980-1857405600-1857409200@coeur-eucharistique.net
SUMMARY:Accueil du curé
DESCRIPTION:Le Curé reçoit directement\, sans rendez-vous\, au parloir situé sous le porche de l’église\, le jeudi de 18h à 19h\, et sur rendez-vous en rédigeant votre message (cliquez ici).
URL:https://coeur-eucharistique.net/event/accueil-du-cure/2028-11-09/
LOCATION:Église du Coeur Eucharistique
ATTACH;FMTTYPE=image/jpeg:https://coeur-eucharistique.net/wp-content/uploads/2022/04/Bandeau_au-coeur-du-monde_02.jpg
END:VEVENT
BEGIN:VEVENT
DTSTART;TZID=Europe/Paris:20281110T120000
DTEND;TZID=Europe/Paris:20281110T123000
DTSTAMP:20260424T154131
CREATED:20250320T111820Z
LAST-MODIFIED:20250320T111820Z
UID:10013636-1857470400-1857472200@coeur-eucharistique.net
SUMMARY:Angelus & Chapelet
DESCRIPTION:Angelus et chapelet animé par Anne\, aux pieds de Notre-Dame de Lourdes.
URL:https://coeur-eucharistique.net/event/angelus-chapelet/2028-11-10/
CATEGORIES:Culte et prières
ATTACH;FMTTYPE=image/jpeg:https://coeur-eucharistique.net/wp-content/uploads/2023/09/IMG_2931.jpg
END:VEVENT
BEGIN:VEVENT
DTSTART;TZID=Europe/Paris:20281110T180000
DTEND;TZID=Europe/Paris:20281110T190000
DTSTAMP:20260424T154131
CREATED:20250703T133838Z
LAST-MODIFIED:20260313T121358Z
UID:10016720-1857492000-1857495600@coeur-eucharistique.net
SUMMARY:Confession
DESCRIPTION:« Notre espérance est ferme\, puisque\, dans le Fils du Père « nous avons la rédemption\, la rémission de nos péchés » (Col 1\, 14). Le signe efficace et indubitable de son pardon\, nous le trouvons dans les sacrements de son Église. » \n Catéchisme de l’Église Catholique\, n° 2839 \n\n  \nLe sacrement de la Pénitence et de la Réconciliation est proposé à la paroisse du Coeur Eucharistique de Jésus tous les vendredis de 18h à 19h.
URL:https://coeur-eucharistique.net/event/confession-3/2028-11-10/
LOCATION:Église du Coeur Eucharistique
CATEGORIES:Confession,Culte et prières
ATTACH;FMTTYPE=image/jpeg:https://coeur-eucharistique.net/wp-content/uploads/2023/10/josh-applegate-_TgzNXPF9IM-unsplash-scaled-e1704450627851.jpg
END:VEVENT
BEGIN:VEVENT
DTSTART;TZID=Europe/Paris:20281110T190000
DTEND;TZID=Europe/Paris:20281110T200000
DTSTAMP:20260424T154131
CREATED:20260313T123232Z
LAST-MODIFIED:20260313T144310Z
UID:10018807-1857495600-1857499200@coeur-eucharistique.net
SUMMARY:Messe du jour
DESCRIPTION:Célébrée dans la chapelle de la Vierge Marie\, au fond à gauche dans l’église.
URL:https://coeur-eucharistique.net/event/messe-du-jour-2/2028-11-10/
LOCATION:Église du Coeur Eucharistique
CATEGORIES:Culte et prières
ATTACH;FMTTYPE=image/jpeg:https://coeur-eucharistique.net/wp-content/uploads/2023/09/IMG_2967-scaled.jpg
END:VEVENT
BEGIN:VEVENT
DTSTART;TZID=Europe/Paris:20281112T101500
DTEND;TZID=Europe/Paris:20281112T113000
DTSTAMP:20260424T154131
CREATED:20230620T145605Z
LAST-MODIFIED:20260414T090100Z
UID:10010733-1857636900-1857641400@coeur-eucharistique.net
SUMMARY:Messe dominicale
DESCRIPTION:
URL:https://coeur-eucharistique.net/event/nom-de-levenement-a-2-2/2028-11-12/
LOCATION:Église du Coeur Eucharistique
CATEGORIES:Culte et prières
ATTACH;FMTTYPE=image/jpeg:https://coeur-eucharistique.net/wp-content/uploads/2023/09/SC043-scaled.jpg
END:VEVENT
BEGIN:VEVENT
DTSTART;TZID=Europe/Paris:20281112T183000
DTEND;TZID=Europe/Paris:20281112T193000
DTSTAMP:20260424T154131
CREATED:20230911T201959Z
LAST-MODIFIED:20260414T085846Z
UID:10007756-1857666600-1857670200@coeur-eucharistique.net
SUMMARY:Messe dominicale
DESCRIPTION:
URL:https://coeur-eucharistique.net/event/messe-dominicale/2028-11-12/
LOCATION:Église du Coeur Eucharistique
CATEGORIES:Culte et prières
ATTACH;FMTTYPE=image/jpeg:https://coeur-eucharistique.net/wp-content/uploads/2023/09/SC043-scaled.jpg
END:VEVENT
BEGIN:VEVENT
DTSTART;TZID=Europe/Paris:20281113T193000
DTEND;TZID=Europe/Paris:20281113T203000
DTSTAMP:20260424T154131
CREATED:20231014T090416Z
LAST-MODIFIED:20240703T155214Z
UID:10007744-1857756600-1857760200@coeur-eucharistique.net
SUMMARY:Frat des étudiants
DESCRIPTION:Petites réunions (moins d’une heure) de méditation\, de prière et de partage dans une maison\, deux ou trois soirs par mois\, pour nous soutenir dans la foi et la charité et que la Parole de Dieu illumine le coeurs des étudiants ! 👨‍🎓📚
URL:https://coeur-eucharistique.net/event/frat-des-etudiants/2028-11-13/
LOCATION:Chez Alexis\, 22 rue du Lieutenant Chauré\, Paris\, 75020\, France
CATEGORIES:Frat des étudiants,Fraternités du Cœur
ATTACH;FMTTYPE=image/jpeg:https://coeur-eucharistique.net/wp-content/uploads/2023/10/alexis-brown-omeaHbEFlN4-unsplash-scaled.jpg
END:VEVENT
BEGIN:VEVENT
DTSTART;TZID=Europe/Paris:20281114T120000
DTEND;TZID=Europe/Paris:20281114T123000
DTSTAMP:20260424T154131
CREATED:20230914T091933Z
LAST-MODIFIED:20240703T122637Z
UID:10011224-1857816000-1857817800@coeur-eucharistique.net
SUMMARY:Chapelet
DESCRIPTION:Angelus et chalet animé par Anne\, aux pieds de Notre-Dame de Lourdes\, avant la messe de 12h30.
URL:https://coeur-eucharistique.net/event/chapelet/2028-11-14/
CATEGORIES:Culte et prières
ATTACH;FMTTYPE=image/jpeg:https://coeur-eucharistique.net/wp-content/uploads/2023/09/IMG_2931.jpg
END:VEVENT
BEGIN:VEVENT
DTSTART;TZID=Europe/Paris:20281114T123000
DTEND;TZID=Europe/Paris:20281114T130000
DTSTAMP:20260424T154131
CREATED:20250521T104320Z
LAST-MODIFIED:20260313T144449Z
UID:10017520-1857817800-1857819600@coeur-eucharistique.net
SUMMARY:Messe du jour
DESCRIPTION:Célébrée dans la chapelle de la Vierge Marie\, au fond à gauche dans l’église.
URL:https://coeur-eucharistique.net/event/messe-du-jour-9-3/2028-11-14/
LOCATION:Église du Coeur Eucharistique
CATEGORIES:Culte et prières
ATTACH;FMTTYPE=image/jpeg:https://coeur-eucharistique.net/wp-content/uploads/2023/09/IMG_2967-scaled.jpg
END:VEVENT
BEGIN:VEVENT
DTSTART;TZID=Europe/Paris:20281115T123000
DTEND;TZID=Europe/Paris:20281115T130000
DTSTAMP:20260424T154131
CREATED:20250521T104320Z
LAST-MODIFIED:20260313T144449Z
UID:10017521-1857904200-1857906000@coeur-eucharistique.net
SUMMARY:Messe du jour
DESCRIPTION:Célébrée dans la chapelle de la Vierge Marie\, au fond à gauche dans l’église.
URL:https://coeur-eucharistique.net/event/messe-du-jour-9-3/2028-11-15/
LOCATION:Église du Coeur Eucharistique
CATEGORIES:Culte et prières
ATTACH;FMTTYPE=image/jpeg:https://coeur-eucharistique.net/wp-content/uploads/2023/09/IMG_2967-scaled.jpg
END:VEVENT
BEGIN:VEVENT
DTSTART;TZID=Europe/Paris:20281116T123000
DTEND;TZID=Europe/Paris:20281116T130000
DTSTAMP:20260424T154131
CREATED:20250521T104320Z
LAST-MODIFIED:20260313T144449Z
UID:10017522-1857990600-1857992400@coeur-eucharistique.net
SUMMARY:Messe du jour
DESCRIPTION:Célébrée dans la chapelle de la Vierge Marie\, au fond à gauche dans l’église.
URL:https://coeur-eucharistique.net/event/messe-du-jour-9-3/2028-11-16/
LOCATION:Église du Coeur Eucharistique
CATEGORIES:Culte et prières
ATTACH;FMTTYPE=image/jpeg:https://coeur-eucharistique.net/wp-content/uploads/2023/09/IMG_2967-scaled.jpg
END:VEVENT
BEGIN:VEVENT
DTSTART;TZID=Europe/Paris:20281116T180000
DTEND;TZID=Europe/Paris:20281116T190000
DTSTAMP:20260424T154131
CREATED:20260313T122822Z
LAST-MODIFIED:20260313T122822Z
UID:10016981-1858010400-1858014000@coeur-eucharistique.net
SUMMARY:Accueil du curé
DESCRIPTION:Le Curé reçoit directement\, sans rendez-vous\, au parloir situé sous le porche de l’église\, le jeudi de 18h à 19h\, et sur rendez-vous en rédigeant votre message (cliquez ici).
URL:https://coeur-eucharistique.net/event/accueil-du-cure/2028-11-16/
LOCATION:Église du Coeur Eucharistique
ATTACH;FMTTYPE=image/jpeg:https://coeur-eucharistique.net/wp-content/uploads/2022/04/Bandeau_au-coeur-du-monde_02.jpg
END:VEVENT
BEGIN:VEVENT
DTSTART;TZID=Europe/Paris:20281117T120000
DTEND;TZID=Europe/Paris:20281117T123000
DTSTAMP:20260424T154131
CREATED:20250320T111820Z
LAST-MODIFIED:20250320T111820Z
UID:10013637-1858075200-1858077000@coeur-eucharistique.net
SUMMARY:Angelus & Chapelet
DESCRIPTION:Angelus et chapelet animé par Anne\, aux pieds de Notre-Dame de Lourdes.
URL:https://coeur-eucharistique.net/event/angelus-chapelet/2028-11-17/
CATEGORIES:Culte et prières
ATTACH;FMTTYPE=image/jpeg:https://coeur-eucharistique.net/wp-content/uploads/2023/09/IMG_2931.jpg
END:VEVENT
BEGIN:VEVENT
DTSTART;TZID=Europe/Paris:20281117T180000
DTEND;TZID=Europe/Paris:20281117T190000
DTSTAMP:20260424T154131
CREATED:20250703T133838Z
LAST-MODIFIED:20260313T121358Z
UID:10016721-1858096800-1858100400@coeur-eucharistique.net
SUMMARY:Confession
DESCRIPTION:« Notre espérance est ferme\, puisque\, dans le Fils du Père « nous avons la rédemption\, la rémission de nos péchés » (Col 1\, 14). Le signe efficace et indubitable de son pardon\, nous le trouvons dans les sacrements de son Église. » \n Catéchisme de l’Église Catholique\, n° 2839 \n\n  \nLe sacrement de la Pénitence et de la Réconciliation est proposé à la paroisse du Coeur Eucharistique de Jésus tous les vendredis de 18h à 19h.
URL:https://coeur-eucharistique.net/event/confession-3/2028-11-17/
LOCATION:Église du Coeur Eucharistique
CATEGORIES:Confession,Culte et prières
ATTACH;FMTTYPE=image/jpeg:https://coeur-eucharistique.net/wp-content/uploads/2023/10/josh-applegate-_TgzNXPF9IM-unsplash-scaled-e1704450627851.jpg
END:VEVENT
BEGIN:VEVENT
DTSTART;TZID=Europe/Paris:20281117T190000
DTEND;TZID=Europe/Paris:20281117T200000
DTSTAMP:20260424T154131
CREATED:20260313T123232Z
LAST-MODIFIED:20260313T144310Z
UID:10018808-1858100400-1858104000@coeur-eucharistique.net
SUMMARY:Messe du jour
DESCRIPTION:Célébrée dans la chapelle de la Vierge Marie\, au fond à gauche dans l’église.
URL:https://coeur-eucharistique.net/event/messe-du-jour-2/2028-11-17/
LOCATION:Église du Coeur Eucharistique
CATEGORIES:Culte et prières
ATTACH;FMTTYPE=image/jpeg:https://coeur-eucharistique.net/wp-content/uploads/2023/09/IMG_2967-scaled.jpg
END:VEVENT
BEGIN:VEVENT
DTSTART;TZID=Europe/Paris:20281119T101500
DTEND;TZID=Europe/Paris:20281119T113000
DTSTAMP:20260424T154131
CREATED:20230620T145605Z
LAST-MODIFIED:20260414T090100Z
UID:10010734-1858241700-1858246200@coeur-eucharistique.net
SUMMARY:Messe dominicale
DESCRIPTION:
URL:https://coeur-eucharistique.net/event/nom-de-levenement-a-2-2/2028-11-19/
LOCATION:Église du Coeur Eucharistique
CATEGORIES:Culte et prières
ATTACH;FMTTYPE=image/jpeg:https://coeur-eucharistique.net/wp-content/uploads/2023/09/SC043-scaled.jpg
END:VEVENT
BEGIN:VEVENT
DTSTART;TZID=Europe/Paris:20281119T183000
DTEND;TZID=Europe/Paris:20281119T193000
DTSTAMP:20260424T154131
CREATED:20230911T201959Z
LAST-MODIFIED:20260414T085846Z
UID:10007757-1858271400-1858275000@coeur-eucharistique.net
SUMMARY:Messe dominicale
DESCRIPTION:
URL:https://coeur-eucharistique.net/event/messe-dominicale/2028-11-19/
LOCATION:Église du Coeur Eucharistique
CATEGORIES:Culte et prières
ATTACH;FMTTYPE=image/jpeg:https://coeur-eucharistique.net/wp-content/uploads/2023/09/SC043-scaled.jpg
END:VEVENT
BEGIN:VEVENT
DTSTART;TZID=Europe/Paris:20281120T193000
DTEND;TZID=Europe/Paris:20281120T203000
DTSTAMP:20260424T154131
CREATED:20231014T090416Z
LAST-MODIFIED:20240703T155214Z
UID:10008408-1858361400-1858365000@coeur-eucharistique.net
SUMMARY:Frat des étudiants
DESCRIPTION:Petites réunions (moins d’une heure) de méditation\, de prière et de partage dans une maison\, deux ou trois soirs par mois\, pour nous soutenir dans la foi et la charité et que la Parole de Dieu illumine le coeurs des étudiants ! 👨‍🎓📚
URL:https://coeur-eucharistique.net/event/frat-des-etudiants/2028-11-20/
LOCATION:Chez Alexis\, 22 rue du Lieutenant Chauré\, Paris\, 75020\, France
CATEGORIES:Frat des étudiants,Fraternités du Cœur
ATTACH;FMTTYPE=image/jpeg:https://coeur-eucharistique.net/wp-content/uploads/2023/10/alexis-brown-omeaHbEFlN4-unsplash-scaled.jpg
END:VEVENT
BEGIN:VEVENT
DTSTART;TZID=Europe/Paris:20281121T120000
DTEND;TZID=Europe/Paris:20281121T123000
DTSTAMP:20260424T154131
CREATED:20230914T091933Z
LAST-MODIFIED:20240703T122637Z
UID:10011225-1858420800-1858422600@coeur-eucharistique.net
SUMMARY:Chapelet
DESCRIPTION:Angelus et chalet animé par Anne\, aux pieds de Notre-Dame de Lourdes\, avant la messe de 12h30.
URL:https://coeur-eucharistique.net/event/chapelet/2028-11-21/
CATEGORIES:Culte et prières
ATTACH;FMTTYPE=image/jpeg:https://coeur-eucharistique.net/wp-content/uploads/2023/09/IMG_2931.jpg
END:VEVENT
BEGIN:VEVENT
DTSTART;TZID=Europe/Paris:20281121T123000
DTEND;TZID=Europe/Paris:20281121T130000
DTSTAMP:20260424T154131
CREATED:20250521T104320Z
LAST-MODIFIED:20260313T144449Z
UID:10017523-1858422600-1858424400@coeur-eucharistique.net
SUMMARY:Messe du jour
DESCRIPTION:Célébrée dans la chapelle de la Vierge Marie\, au fond à gauche dans l’église.
URL:https://coeur-eucharistique.net/event/messe-du-jour-9-3/2028-11-21/
LOCATION:Église du Coeur Eucharistique
CATEGORIES:Culte et prières
ATTACH;FMTTYPE=image/jpeg:https://coeur-eucharistique.net/wp-content/uploads/2023/09/IMG_2967-scaled.jpg
END:VEVENT
BEGIN:VEVENT
DTSTART;TZID=Europe/Paris:20281122T123000
DTEND;TZID=Europe/Paris:20281122T130000
DTSTAMP:20260424T154131
CREATED:20250521T104320Z
LAST-MODIFIED:20260313T144449Z
UID:10017524-1858509000-1858510800@coeur-eucharistique.net
SUMMARY:Messe du jour
DESCRIPTION:Célébrée dans la chapelle de la Vierge Marie\, au fond à gauche dans l’église.
URL:https://coeur-eucharistique.net/event/messe-du-jour-9-3/2028-11-22/
LOCATION:Église du Coeur Eucharistique
CATEGORIES:Culte et prières
ATTACH;FMTTYPE=image/jpeg:https://coeur-eucharistique.net/wp-content/uploads/2023/09/IMG_2967-scaled.jpg
END:VEVENT
BEGIN:VEVENT
DTSTART;TZID=Europe/Paris:20281123T123000
DTEND;TZID=Europe/Paris:20281123T130000
DTSTAMP:20260424T154131
CREATED:20250521T104320Z
LAST-MODIFIED:20260313T144449Z
UID:10017525-1858595400-1858597200@coeur-eucharistique.net
SUMMARY:Messe du jour
DESCRIPTION:Célébrée dans la chapelle de la Vierge Marie\, au fond à gauche dans l’église.
URL:https://coeur-eucharistique.net/event/messe-du-jour-9-3/2028-11-23/
LOCATION:Église du Coeur Eucharistique
CATEGORIES:Culte et prières
ATTACH;FMTTYPE=image/jpeg:https://coeur-eucharistique.net/wp-content/uploads/2023/09/IMG_2967-scaled.jpg
END:VEVENT
BEGIN:VEVENT
DTSTART;TZID=Europe/Paris:20281123T180000
DTEND;TZID=Europe/Paris:20281123T190000
DTSTAMP:20260424T154131
CREATED:20260313T122822Z
LAST-MODIFIED:20260313T122822Z
UID:10016982-1858615200-1858618800@coeur-eucharistique.net
SUMMARY:Accueil du curé
DESCRIPTION:Le Curé reçoit directement\, sans rendez-vous\, au parloir situé sous le porche de l’église\, le jeudi de 18h à 19h\, et sur rendez-vous en rédigeant votre message (cliquez ici).
URL:https://coeur-eucharistique.net/event/accueil-du-cure/2028-11-23/
LOCATION:Église du Coeur Eucharistique
ATTACH;FMTTYPE=image/jpeg:https://coeur-eucharistique.net/wp-content/uploads/2022/04/Bandeau_au-coeur-du-monde_02.jpg
END:VEVENT
BEGIN:VEVENT
DTSTART;TZID=Europe/Paris:20281124T120000
DTEND;TZID=Europe/Paris:20281124T123000
DTSTAMP:20260424T154131
CREATED:20250320T111820Z
LAST-MODIFIED:20250320T111820Z
UID:10013638-1858680000-1858681800@coeur-eucharistique.net
SUMMARY:Angelus & Chapelet
DESCRIPTION:Angelus et chapelet animé par Anne\, aux pieds de Notre-Dame de Lourdes.
URL:https://coeur-eucharistique.net/event/angelus-chapelet/2028-11-24/
CATEGORIES:Culte et prières
ATTACH;FMTTYPE=image/jpeg:https://coeur-eucharistique.net/wp-content/uploads/2023/09/IMG_2931.jpg
END:VEVENT
BEGIN:VEVENT
DTSTART;TZID=Europe/Paris:20281124T180000
DTEND;TZID=Europe/Paris:20281124T190000
DTSTAMP:20260424T154131
CREATED:20250703T133838Z
LAST-MODIFIED:20260313T121358Z
UID:10016722-1858701600-1858705200@coeur-eucharistique.net
SUMMARY:Confession
DESCRIPTION:« Notre espérance est ferme\, puisque\, dans le Fils du Père « nous avons la rédemption\, la rémission de nos péchés » (Col 1\, 14). Le signe efficace et indubitable de son pardon\, nous le trouvons dans les sacrements de son Église. » \n Catéchisme de l’Église Catholique\, n° 2839 \n\n  \nLe sacrement de la Pénitence et de la Réconciliation est proposé à la paroisse du Coeur Eucharistique de Jésus tous les vendredis de 18h à 19h.
URL:https://coeur-eucharistique.net/event/confession-3/2028-11-24/
LOCATION:Église du Coeur Eucharistique
CATEGORIES:Confession,Culte et prières
ATTACH;FMTTYPE=image/jpeg:https://coeur-eucharistique.net/wp-content/uploads/2023/10/josh-applegate-_TgzNXPF9IM-unsplash-scaled-e1704450627851.jpg
END:VEVENT
BEGIN:VEVENT
DTSTART;TZID=Europe/Paris:20281124T190000
DTEND;TZID=Europe/Paris:20281124T200000
DTSTAMP:20260424T154131
CREATED:20260313T123232Z
LAST-MODIFIED:20260313T144310Z
UID:10018809-1858705200-1858708800@coeur-eucharistique.net
SUMMARY:Messe du jour
DESCRIPTION:Célébrée dans la chapelle de la Vierge Marie\, au fond à gauche dans l’église.
URL:https://coeur-eucharistique.net/event/messe-du-jour-2/2028-11-24/
LOCATION:Église du Coeur Eucharistique
CATEGORIES:Culte et prières
ATTACH;FMTTYPE=image/jpeg:https://coeur-eucharistique.net/wp-content/uploads/2023/09/IMG_2967-scaled.jpg
END:VEVENT
BEGIN:VEVENT
DTSTART;TZID=Europe/Paris:20281126T101500
DTEND;TZID=Europe/Paris:20281126T113000
DTSTAMP:20260424T154131
CREATED:20230620T145605Z
LAST-MODIFIED:20260414T090100Z
UID:10010735-1858846500-1858851000@coeur-eucharistique.net
SUMMARY:Messe dominicale
DESCRIPTION:
URL:https://coeur-eucharistique.net/event/nom-de-levenement-a-2-2/2028-11-26/
LOCATION:Église du Coeur Eucharistique
CATEGORIES:Culte et prières
ATTACH;FMTTYPE=image/jpeg:https://coeur-eucharistique.net/wp-content/uploads/2023/09/SC043-scaled.jpg
END:VEVENT
BEGIN:VEVENT
DTSTART;TZID=Europe/Paris:20281126T183000
DTEND;TZID=Europe/Paris:20281126T193000
DTSTAMP:20260424T154131
CREATED:20230911T201959Z
LAST-MODIFIED:20260414T085846Z
UID:10007758-1858876200-1858879800@coeur-eucharistique.net
SUMMARY:Messe dominicale
DESCRIPTION:
URL:https://coeur-eucharistique.net/event/messe-dominicale/2028-11-26/
LOCATION:Église du Coeur Eucharistique
CATEGORIES:Culte et prières
ATTACH;FMTTYPE=image/jpeg:https://coeur-eucharistique.net/wp-content/uploads/2023/09/SC043-scaled.jpg
END:VEVENT
BEGIN:VEVENT
DTSTART;TZID=Europe/Paris:20281127T193000
DTEND;TZID=Europe/Paris:20281127T203000
DTSTAMP:20260424T154131
CREATED:20231014T090416Z
LAST-MODIFIED:20240703T155214Z
UID:10007745-1858966200-1858969800@coeur-eucharistique.net
SUMMARY:Frat des étudiants
DESCRIPTION:Petites réunions (moins d’une heure) de méditation\, de prière et de partage dans une maison\, deux ou trois soirs par mois\, pour nous soutenir dans la foi et la charité et que la Parole de Dieu illumine le coeurs des étudiants ! 👨‍🎓📚
URL:https://coeur-eucharistique.net/event/frat-des-etudiants/2028-11-27/
LOCATION:Chez Alexis\, 22 rue du Lieutenant Chauré\, Paris\, 75020\, France
CATEGORIES:Frat des étudiants,Fraternités du Cœur
ATTACH;FMTTYPE=image/jpeg:https://coeur-eucharistique.net/wp-content/uploads/2023/10/alexis-brown-omeaHbEFlN4-unsplash-scaled.jpg
END:VEVENT
BEGIN:VEVENT
DTSTART;TZID=Europe/Paris:20281128T120000
DTEND;TZID=Europe/Paris:20281128T123000
DTSTAMP:20260424T154131
CREATED:20230914T091933Z
LAST-MODIFIED:20240703T122637Z
UID:10011226-1859025600-1859027400@coeur-eucharistique.net
SUMMARY:Chapelet
DESCRIPTION:Angelus et chalet animé par Anne\, aux pieds de Notre-Dame de Lourdes\, avant la messe de 12h30.
URL:https://coeur-eucharistique.net/event/chapelet/2028-11-28/
CATEGORIES:Culte et prières
ATTACH;FMTTYPE=image/jpeg:https://coeur-eucharistique.net/wp-content/uploads/2023/09/IMG_2931.jpg
END:VEVENT
END:VCALENDAR