BEGIN:VCALENDAR
VERSION:2.0
PRODID:-//Eglise du Coeur eucharistique de Jesus - ECPv6.15.20//NONSGML v1.0//EN
CALSCALE:GREGORIAN
METHOD:PUBLISH
X-ORIGINAL-URL:https://coeur-eucharistique.net
X-WR-CALDESC:Évènements pour Eglise du Coeur eucharistique de Jesus
REFRESH-INTERVAL;VALUE=DURATION:PT1H
X-Robots-Tag:noindex
X-PUBLISHED-TTL:PT1H
BEGIN:VTIMEZONE
TZID:Europe/Paris
BEGIN:DAYLIGHT
TZOFFSETFROM:+0100
TZOFFSETTO:+0200
TZNAME:CEST
DTSTART:20270328T010000
END:DAYLIGHT
BEGIN:STANDARD
TZOFFSETFROM:+0200
TZOFFSETTO:+0100
TZNAME:CET
DTSTART:20271031T010000
END:STANDARD
BEGIN:DAYLIGHT
TZOFFSETFROM:+0100
TZOFFSETTO:+0200
TZNAME:CEST
DTSTART:20280326T010000
END:DAYLIGHT
BEGIN:STANDARD
TZOFFSETFROM:+0200
TZOFFSETTO:+0100
TZNAME:CET
DTSTART:20281029T010000
END:STANDARD
BEGIN:DAYLIGHT
TZOFFSETFROM:+0100
TZOFFSETTO:+0200
TZNAME:CEST
DTSTART:20290325T010000
END:DAYLIGHT
BEGIN:STANDARD
TZOFFSETFROM:+0200
TZOFFSETTO:+0100
TZNAME:CET
DTSTART:20291028T010000
END:STANDARD
END:VTIMEZONE
BEGIN:VEVENT
DTSTART;TZID=Europe/Paris:20280614T123000
DTEND;TZID=Europe/Paris:20280614T130000
DTSTAMP:20260424T054502
CREATED:20250521T104320Z
LAST-MODIFIED:20260313T144449Z
UID:10017455-1844598600-1844600400@coeur-eucharistique.net
SUMMARY:Messe du jour
DESCRIPTION:Célébrée dans la chapelle de la Vierge Marie\, au fond à gauche dans l’église.
URL:https://coeur-eucharistique.net/event/messe-du-jour-9-3/2028-06-14/
LOCATION:Église du Coeur Eucharistique
CATEGORIES:Culte et prières
ATTACH;FMTTYPE=image/jpeg:https://coeur-eucharistique.net/wp-content/uploads/2023/09/IMG_2967-scaled.jpg
END:VEVENT
BEGIN:VEVENT
DTSTART;TZID=Europe/Paris:20280615T123000
DTEND;TZID=Europe/Paris:20280615T130000
DTSTAMP:20260424T054502
CREATED:20250521T104320Z
LAST-MODIFIED:20260313T144449Z
UID:10017456-1844685000-1844686800@coeur-eucharistique.net
SUMMARY:Messe du jour
DESCRIPTION:Célébrée dans la chapelle de la Vierge Marie\, au fond à gauche dans l’église.
URL:https://coeur-eucharistique.net/event/messe-du-jour-9-3/2028-06-15/
LOCATION:Église du Coeur Eucharistique
CATEGORIES:Culte et prières
ATTACH;FMTTYPE=image/jpeg:https://coeur-eucharistique.net/wp-content/uploads/2023/09/IMG_2967-scaled.jpg
END:VEVENT
BEGIN:VEVENT
DTSTART;TZID=Europe/Paris:20280615T180000
DTEND;TZID=Europe/Paris:20280615T190000
DTSTAMP:20260424T054502
CREATED:20260313T122822Z
LAST-MODIFIED:20260313T122822Z
UID:10016959-1844704800-1844708400@coeur-eucharistique.net
SUMMARY:Accueil du curé
DESCRIPTION:Le Curé reçoit directement\, sans rendez-vous\, au parloir situé sous le porche de l’église\, le jeudi de 18h à 19h\, et sur rendez-vous en rédigeant votre message (cliquez ici).
URL:https://coeur-eucharistique.net/event/accueil-du-cure/2028-06-15/
LOCATION:Église du Coeur Eucharistique
ATTACH;FMTTYPE=image/jpeg:https://coeur-eucharistique.net/wp-content/uploads/2022/04/Bandeau_au-coeur-du-monde_02.jpg
END:VEVENT
BEGIN:VEVENT
DTSTART;TZID=Europe/Paris:20280616T120000
DTEND;TZID=Europe/Paris:20280616T123000
DTSTAMP:20260424T054502
CREATED:20250320T111820Z
LAST-MODIFIED:20250320T111820Z
UID:10013615-1844769600-1844771400@coeur-eucharistique.net
SUMMARY:Angelus & Chapelet
DESCRIPTION:Angelus et chapelet animé par Anne\, aux pieds de Notre-Dame de Lourdes.
URL:https://coeur-eucharistique.net/event/angelus-chapelet/2028-06-16/
CATEGORIES:Culte et prières
ATTACH;FMTTYPE=image/jpeg:https://coeur-eucharistique.net/wp-content/uploads/2023/09/IMG_2931.jpg
END:VEVENT
BEGIN:VEVENT
DTSTART;TZID=Europe/Paris:20280616T180000
DTEND;TZID=Europe/Paris:20280616T190000
DTSTAMP:20260424T054502
CREATED:20250703T133838Z
LAST-MODIFIED:20260313T121358Z
UID:10016699-1844791200-1844794800@coeur-eucharistique.net
SUMMARY:Confession
DESCRIPTION:« Notre espérance est ferme\, puisque\, dans le Fils du Père « nous avons la rédemption\, la rémission de nos péchés » (Col 1\, 14). Le signe efficace et indubitable de son pardon\, nous le trouvons dans les sacrements de son Église. » \n Catéchisme de l’Église Catholique\, n° 2839 \n\n  \nLe sacrement de la Pénitence et de la Réconciliation est proposé à la paroisse du Coeur Eucharistique de Jésus tous les vendredis de 18h à 19h.
URL:https://coeur-eucharistique.net/event/confession-3/2028-06-16/
LOCATION:Église du Coeur Eucharistique
CATEGORIES:Confession,Culte et prières
ATTACH;FMTTYPE=image/jpeg:https://coeur-eucharistique.net/wp-content/uploads/2023/10/josh-applegate-_TgzNXPF9IM-unsplash-scaled-e1704450627851.jpg
END:VEVENT
BEGIN:VEVENT
DTSTART;TZID=Europe/Paris:20280616T190000
DTEND;TZID=Europe/Paris:20280616T200000
DTSTAMP:20260424T054502
CREATED:20260313T123232Z
LAST-MODIFIED:20260313T144310Z
UID:10018786-1844794800-1844798400@coeur-eucharistique.net
SUMMARY:Messe du jour
DESCRIPTION:Célébrée dans la chapelle de la Vierge Marie\, au fond à gauche dans l’église.
URL:https://coeur-eucharistique.net/event/messe-du-jour-2/2028-06-16/
LOCATION:Église du Coeur Eucharistique
CATEGORIES:Culte et prières
ATTACH;FMTTYPE=image/jpeg:https://coeur-eucharistique.net/wp-content/uploads/2023/09/IMG_2967-scaled.jpg
END:VEVENT
BEGIN:VEVENT
DTSTART;TZID=Europe/Paris:20280617T120000
DTEND;TZID=Europe/Paris:20280617T130000
DTSTAMP:20260424T054502
CREATED:20260313T123425Z
LAST-MODIFIED:20260313T144243Z
UID:10019307-1844856000-1844859600@coeur-eucharistique.net
SUMMARY:Messe du jour
DESCRIPTION:Célébrée dans la chapelle de la Vierge Marie\, au fond à gauche dans l’église.
URL:https://coeur-eucharistique.net/event/messe-du-jour-7/2028-06-17/
LOCATION:Église du Coeur Eucharistique
CATEGORIES:Culte et prières
ATTACH;FMTTYPE=image/jpeg:https://coeur-eucharistique.net/wp-content/uploads/2023/09/IMG_2967-scaled.jpg
END:VEVENT
BEGIN:VEVENT
DTSTART;TZID=Europe/Paris:20280618T101500
DTEND;TZID=Europe/Paris:20280618T113000
DTSTAMP:20260424T054502
CREATED:20230620T145605Z
LAST-MODIFIED:20260414T090100Z
UID:10003620-1844936100-1844940600@coeur-eucharistique.net
SUMMARY:Messe dominicale
DESCRIPTION:
URL:https://coeur-eucharistique.net/event/nom-de-levenement-a-2-2/2028-06-18/
LOCATION:Église du Coeur Eucharistique
CATEGORIES:Culte et prières
ATTACH;FMTTYPE=image/jpeg:https://coeur-eucharistique.net/wp-content/uploads/2023/09/SC043-scaled.jpg
END:VEVENT
BEGIN:VEVENT
DTSTART;TZID=Europe/Paris:20280618T183000
DTEND;TZID=Europe/Paris:20280618T193000
DTSTAMP:20260424T054502
CREATED:20230911T201959Z
LAST-MODIFIED:20260414T085846Z
UID:10004143-1844965800-1844969400@coeur-eucharistique.net
SUMMARY:Messe dominicale
DESCRIPTION:
URL:https://coeur-eucharistique.net/event/messe-dominicale/2028-06-18/
LOCATION:Église du Coeur Eucharistique
CATEGORIES:Culte et prières
ATTACH;FMTTYPE=image/jpeg:https://coeur-eucharistique.net/wp-content/uploads/2023/09/SC043-scaled.jpg
END:VEVENT
BEGIN:VEVENT
DTSTART;TZID=Europe/Paris:20280619T193000
DTEND;TZID=Europe/Paris:20280619T203000
DTSTAMP:20260424T054502
CREATED:20231014T090416Z
LAST-MODIFIED:20240703T155214Z
UID:10008403-1845055800-1845059400@coeur-eucharistique.net
SUMMARY:Frat des étudiants
DESCRIPTION:Petites réunions (moins d’une heure) de méditation\, de prière et de partage dans une maison\, deux ou trois soirs par mois\, pour nous soutenir dans la foi et la charité et que la Parole de Dieu illumine le coeurs des étudiants ! 👨‍🎓📚
URL:https://coeur-eucharistique.net/event/frat-des-etudiants/2028-06-19/
LOCATION:Chez Alexis\, 22 rue du Lieutenant Chauré\, Paris\, 75020\, France
CATEGORIES:Frat des étudiants,Fraternités du Cœur
ATTACH;FMTTYPE=image/jpeg:https://coeur-eucharistique.net/wp-content/uploads/2023/10/alexis-brown-omeaHbEFlN4-unsplash-scaled.jpg
END:VEVENT
BEGIN:VEVENT
DTSTART;TZID=Europe/Paris:20280620T120000
DTEND;TZID=Europe/Paris:20280620T123000
DTSTAMP:20260424T054502
CREATED:20230914T091933Z
LAST-MODIFIED:20240703T122637Z
UID:10005751-1845115200-1845117000@coeur-eucharistique.net
SUMMARY:Chapelet
DESCRIPTION:Angelus et chalet animé par Anne\, aux pieds de Notre-Dame de Lourdes\, avant la messe de 12h30.
URL:https://coeur-eucharistique.net/event/chapelet/2028-06-20/
CATEGORIES:Culte et prières
ATTACH;FMTTYPE=image/jpeg:https://coeur-eucharistique.net/wp-content/uploads/2023/09/IMG_2931.jpg
END:VEVENT
BEGIN:VEVENT
DTSTART;TZID=Europe/Paris:20280620T123000
DTEND;TZID=Europe/Paris:20280620T130000
DTSTAMP:20260424T054502
CREATED:20250521T104320Z
LAST-MODIFIED:20260313T144449Z
UID:10017457-1845117000-1845118800@coeur-eucharistique.net
SUMMARY:Messe du jour
DESCRIPTION:Célébrée dans la chapelle de la Vierge Marie\, au fond à gauche dans l’église.
URL:https://coeur-eucharistique.net/event/messe-du-jour-9-3/2028-06-20/
LOCATION:Église du Coeur Eucharistique
CATEGORIES:Culte et prières
ATTACH;FMTTYPE=image/jpeg:https://coeur-eucharistique.net/wp-content/uploads/2023/09/IMG_2967-scaled.jpg
END:VEVENT
BEGIN:VEVENT
DTSTART;TZID=Europe/Paris:20280621T123000
DTEND;TZID=Europe/Paris:20280621T130000
DTSTAMP:20260424T054502
CREATED:20250521T104320Z
LAST-MODIFIED:20260313T144449Z
UID:10017458-1845203400-1845205200@coeur-eucharistique.net
SUMMARY:Messe du jour
DESCRIPTION:Célébrée dans la chapelle de la Vierge Marie\, au fond à gauche dans l’église.
URL:https://coeur-eucharistique.net/event/messe-du-jour-9-3/2028-06-21/
LOCATION:Église du Coeur Eucharistique
CATEGORIES:Culte et prières
ATTACH;FMTTYPE=image/jpeg:https://coeur-eucharistique.net/wp-content/uploads/2023/09/IMG_2967-scaled.jpg
END:VEVENT
BEGIN:VEVENT
DTSTART;TZID=Europe/Paris:20280622T123000
DTEND;TZID=Europe/Paris:20280622T130000
DTSTAMP:20260424T054502
CREATED:20250521T104320Z
LAST-MODIFIED:20260313T144449Z
UID:10017459-1845289800-1845291600@coeur-eucharistique.net
SUMMARY:Messe du jour
DESCRIPTION:Célébrée dans la chapelle de la Vierge Marie\, au fond à gauche dans l’église.
URL:https://coeur-eucharistique.net/event/messe-du-jour-9-3/2028-06-22/
LOCATION:Église du Coeur Eucharistique
CATEGORIES:Culte et prières
ATTACH;FMTTYPE=image/jpeg:https://coeur-eucharistique.net/wp-content/uploads/2023/09/IMG_2967-scaled.jpg
END:VEVENT
BEGIN:VEVENT
DTSTART;TZID=Europe/Paris:20280622T180000
DTEND;TZID=Europe/Paris:20280622T190000
DTSTAMP:20260424T054502
CREATED:20260313T122822Z
LAST-MODIFIED:20260313T122822Z
UID:10016960-1845309600-1845313200@coeur-eucharistique.net
SUMMARY:Accueil du curé
DESCRIPTION:Le Curé reçoit directement\, sans rendez-vous\, au parloir situé sous le porche de l’église\, le jeudi de 18h à 19h\, et sur rendez-vous en rédigeant votre message (cliquez ici).
URL:https://coeur-eucharistique.net/event/accueil-du-cure/2028-06-22/
LOCATION:Église du Coeur Eucharistique
ATTACH;FMTTYPE=image/jpeg:https://coeur-eucharistique.net/wp-content/uploads/2022/04/Bandeau_au-coeur-du-monde_02.jpg
END:VEVENT
BEGIN:VEVENT
DTSTART;TZID=Europe/Paris:20280623T120000
DTEND;TZID=Europe/Paris:20280623T123000
DTSTAMP:20260424T054502
CREATED:20250320T111820Z
LAST-MODIFIED:20250320T111820Z
UID:10013616-1845374400-1845376200@coeur-eucharistique.net
SUMMARY:Angelus & Chapelet
DESCRIPTION:Angelus et chapelet animé par Anne\, aux pieds de Notre-Dame de Lourdes.
URL:https://coeur-eucharistique.net/event/angelus-chapelet/2028-06-23/
CATEGORIES:Culte et prières
ATTACH;FMTTYPE=image/jpeg:https://coeur-eucharistique.net/wp-content/uploads/2023/09/IMG_2931.jpg
END:VEVENT
BEGIN:VEVENT
DTSTART;TZID=Europe/Paris:20280623T180000
DTEND;TZID=Europe/Paris:20280623T190000
DTSTAMP:20260424T054502
CREATED:20250703T133838Z
LAST-MODIFIED:20260313T121358Z
UID:10016700-1845396000-1845399600@coeur-eucharistique.net
SUMMARY:Confession
DESCRIPTION:« Notre espérance est ferme\, puisque\, dans le Fils du Père « nous avons la rédemption\, la rémission de nos péchés » (Col 1\, 14). Le signe efficace et indubitable de son pardon\, nous le trouvons dans les sacrements de son Église. » \n Catéchisme de l’Église Catholique\, n° 2839 \n\n  \nLe sacrement de la Pénitence et de la Réconciliation est proposé à la paroisse du Coeur Eucharistique de Jésus tous les vendredis de 18h à 19h.
URL:https://coeur-eucharistique.net/event/confession-3/2028-06-23/
LOCATION:Église du Coeur Eucharistique
CATEGORIES:Confession,Culte et prières
ATTACH;FMTTYPE=image/jpeg:https://coeur-eucharistique.net/wp-content/uploads/2023/10/josh-applegate-_TgzNXPF9IM-unsplash-scaled-e1704450627851.jpg
END:VEVENT
BEGIN:VEVENT
DTSTART;TZID=Europe/Paris:20280623T190000
DTEND;TZID=Europe/Paris:20280623T200000
DTSTAMP:20260424T054502
CREATED:20260313T123232Z
LAST-MODIFIED:20260313T144310Z
UID:10018787-1845399600-1845403200@coeur-eucharistique.net
SUMMARY:Messe du jour
DESCRIPTION:Célébrée dans la chapelle de la Vierge Marie\, au fond à gauche dans l’église.
URL:https://coeur-eucharistique.net/event/messe-du-jour-2/2028-06-23/
LOCATION:Église du Coeur Eucharistique
CATEGORIES:Culte et prières
ATTACH;FMTTYPE=image/jpeg:https://coeur-eucharistique.net/wp-content/uploads/2023/09/IMG_2967-scaled.jpg
END:VEVENT
BEGIN:VEVENT
DTSTART;TZID=Europe/Paris:20280624T120000
DTEND;TZID=Europe/Paris:20280624T130000
DTSTAMP:20260424T054502
CREATED:20260313T123425Z
LAST-MODIFIED:20260313T144243Z
UID:10019308-1845460800-1845464400@coeur-eucharistique.net
SUMMARY:Messe du jour
DESCRIPTION:Célébrée dans la chapelle de la Vierge Marie\, au fond à gauche dans l’église.
URL:https://coeur-eucharistique.net/event/messe-du-jour-7/2028-06-24/
LOCATION:Église du Coeur Eucharistique
CATEGORIES:Culte et prières
ATTACH;FMTTYPE=image/jpeg:https://coeur-eucharistique.net/wp-content/uploads/2023/09/IMG_2967-scaled.jpg
END:VEVENT
BEGIN:VEVENT
DTSTART;TZID=Europe/Paris:20280625T101500
DTEND;TZID=Europe/Paris:20280625T113000
DTSTAMP:20260424T054502
CREATED:20230620T145605Z
LAST-MODIFIED:20260414T090100Z
UID:10003621-1845540900-1845545400@coeur-eucharistique.net
SUMMARY:Messe dominicale
DESCRIPTION:
URL:https://coeur-eucharistique.net/event/nom-de-levenement-a-2-2/2028-06-25/
LOCATION:Église du Coeur Eucharistique
CATEGORIES:Culte et prières
ATTACH;FMTTYPE=image/jpeg:https://coeur-eucharistique.net/wp-content/uploads/2023/09/SC043-scaled.jpg
END:VEVENT
BEGIN:VEVENT
DTSTART;TZID=Europe/Paris:20280625T183000
DTEND;TZID=Europe/Paris:20280625T193000
DTSTAMP:20260424T054502
CREATED:20230911T201959Z
LAST-MODIFIED:20260414T085846Z
UID:10004144-1845570600-1845574200@coeur-eucharistique.net
SUMMARY:Messe dominicale
DESCRIPTION:
URL:https://coeur-eucharistique.net/event/messe-dominicale/2028-06-25/
LOCATION:Église du Coeur Eucharistique
CATEGORIES:Culte et prières
ATTACH;FMTTYPE=image/jpeg:https://coeur-eucharistique.net/wp-content/uploads/2023/09/SC043-scaled.jpg
END:VEVENT
BEGIN:VEVENT
DTSTART;TZID=Europe/Paris:20280626T193000
DTEND;TZID=Europe/Paris:20280626T203000
DTSTAMP:20260424T054502
CREATED:20231014T090416Z
LAST-MODIFIED:20240703T155214Z
UID:10007728-1845660600-1845664200@coeur-eucharistique.net
SUMMARY:Frat des étudiants
DESCRIPTION:Petites réunions (moins d’une heure) de méditation\, de prière et de partage dans une maison\, deux ou trois soirs par mois\, pour nous soutenir dans la foi et la charité et que la Parole de Dieu illumine le coeurs des étudiants ! 👨‍🎓📚
URL:https://coeur-eucharistique.net/event/frat-des-etudiants/2028-06-26/
LOCATION:Chez Alexis\, 22 rue du Lieutenant Chauré\, Paris\, 75020\, France
CATEGORIES:Frat des étudiants,Fraternités du Cœur
ATTACH;FMTTYPE=image/jpeg:https://coeur-eucharistique.net/wp-content/uploads/2023/10/alexis-brown-omeaHbEFlN4-unsplash-scaled.jpg
END:VEVENT
BEGIN:VEVENT
DTSTART;TZID=Europe/Paris:20280627T120000
DTEND;TZID=Europe/Paris:20280627T123000
DTSTAMP:20260424T054502
CREATED:20230914T091933Z
LAST-MODIFIED:20240703T122637Z
UID:10005752-1845720000-1845721800@coeur-eucharistique.net
SUMMARY:Chapelet
DESCRIPTION:Angelus et chalet animé par Anne\, aux pieds de Notre-Dame de Lourdes\, avant la messe de 12h30.
URL:https://coeur-eucharistique.net/event/chapelet/2028-06-27/
CATEGORIES:Culte et prières
ATTACH;FMTTYPE=image/jpeg:https://coeur-eucharistique.net/wp-content/uploads/2023/09/IMG_2931.jpg
END:VEVENT
BEGIN:VEVENT
DTSTART;TZID=Europe/Paris:20280627T123000
DTEND;TZID=Europe/Paris:20280627T130000
DTSTAMP:20260424T054502
CREATED:20250521T104320Z
LAST-MODIFIED:20260313T144449Z
UID:10017460-1845721800-1845723600@coeur-eucharistique.net
SUMMARY:Messe du jour
DESCRIPTION:Célébrée dans la chapelle de la Vierge Marie\, au fond à gauche dans l’église.
URL:https://coeur-eucharistique.net/event/messe-du-jour-9-3/2028-06-27/
LOCATION:Église du Coeur Eucharistique
CATEGORIES:Culte et prières
ATTACH;FMTTYPE=image/jpeg:https://coeur-eucharistique.net/wp-content/uploads/2023/09/IMG_2967-scaled.jpg
END:VEVENT
BEGIN:VEVENT
DTSTART;TZID=Europe/Paris:20280628T123000
DTEND;TZID=Europe/Paris:20280628T130000
DTSTAMP:20260424T054502
CREATED:20250521T104320Z
LAST-MODIFIED:20260313T144449Z
UID:10017461-1845808200-1845810000@coeur-eucharistique.net
SUMMARY:Messe du jour
DESCRIPTION:Célébrée dans la chapelle de la Vierge Marie\, au fond à gauche dans l’église.
URL:https://coeur-eucharistique.net/event/messe-du-jour-9-3/2028-06-28/
LOCATION:Église du Coeur Eucharistique
CATEGORIES:Culte et prières
ATTACH;FMTTYPE=image/jpeg:https://coeur-eucharistique.net/wp-content/uploads/2023/09/IMG_2967-scaled.jpg
END:VEVENT
BEGIN:VEVENT
DTSTART;TZID=Europe/Paris:20280629T123000
DTEND;TZID=Europe/Paris:20280629T130000
DTSTAMP:20260424T054502
CREATED:20250521T104320Z
LAST-MODIFIED:20260313T144449Z
UID:10017462-1845894600-1845896400@coeur-eucharistique.net
SUMMARY:Messe du jour
DESCRIPTION:Célébrée dans la chapelle de la Vierge Marie\, au fond à gauche dans l’église.
URL:https://coeur-eucharistique.net/event/messe-du-jour-9-3/2028-06-29/
LOCATION:Église du Coeur Eucharistique
CATEGORIES:Culte et prières
ATTACH;FMTTYPE=image/jpeg:https://coeur-eucharistique.net/wp-content/uploads/2023/09/IMG_2967-scaled.jpg
END:VEVENT
BEGIN:VEVENT
DTSTART;TZID=Europe/Paris:20280629T180000
DTEND;TZID=Europe/Paris:20280629T190000
DTSTAMP:20260424T054502
CREATED:20260313T122822Z
LAST-MODIFIED:20260313T122822Z
UID:10016961-1845914400-1845918000@coeur-eucharistique.net
SUMMARY:Accueil du curé
DESCRIPTION:Le Curé reçoit directement\, sans rendez-vous\, au parloir situé sous le porche de l’église\, le jeudi de 18h à 19h\, et sur rendez-vous en rédigeant votre message (cliquez ici).
URL:https://coeur-eucharistique.net/event/accueil-du-cure/2028-06-29/
LOCATION:Église du Coeur Eucharistique
ATTACH;FMTTYPE=image/jpeg:https://coeur-eucharistique.net/wp-content/uploads/2022/04/Bandeau_au-coeur-du-monde_02.jpg
END:VEVENT
BEGIN:VEVENT
DTSTART;TZID=Europe/Paris:20280630T120000
DTEND;TZID=Europe/Paris:20280630T123000
DTSTAMP:20260424T054502
CREATED:20250320T111820Z
LAST-MODIFIED:20250320T111820Z
UID:10013617-1845979200-1845981000@coeur-eucharistique.net
SUMMARY:Angelus & Chapelet
DESCRIPTION:Angelus et chapelet animé par Anne\, aux pieds de Notre-Dame de Lourdes.
URL:https://coeur-eucharistique.net/event/angelus-chapelet/2028-06-30/
CATEGORIES:Culte et prières
ATTACH;FMTTYPE=image/jpeg:https://coeur-eucharistique.net/wp-content/uploads/2023/09/IMG_2931.jpg
END:VEVENT
BEGIN:VEVENT
DTSTART;TZID=Europe/Paris:20280630T180000
DTEND;TZID=Europe/Paris:20280630T190000
DTSTAMP:20260424T054502
CREATED:20250703T133838Z
LAST-MODIFIED:20260313T121358Z
UID:10016701-1846000800-1846004400@coeur-eucharistique.net
SUMMARY:Confession
DESCRIPTION:« Notre espérance est ferme\, puisque\, dans le Fils du Père « nous avons la rédemption\, la rémission de nos péchés » (Col 1\, 14). Le signe efficace et indubitable de son pardon\, nous le trouvons dans les sacrements de son Église. » \n Catéchisme de l’Église Catholique\, n° 2839 \n\n  \nLe sacrement de la Pénitence et de la Réconciliation est proposé à la paroisse du Coeur Eucharistique de Jésus tous les vendredis de 18h à 19h.
URL:https://coeur-eucharistique.net/event/confession-3/2028-06-30/
LOCATION:Église du Coeur Eucharistique
CATEGORIES:Confession,Culte et prières
ATTACH;FMTTYPE=image/jpeg:https://coeur-eucharistique.net/wp-content/uploads/2023/10/josh-applegate-_TgzNXPF9IM-unsplash-scaled-e1704450627851.jpg
END:VEVENT
BEGIN:VEVENT
DTSTART;TZID=Europe/Paris:20280630T190000
DTEND;TZID=Europe/Paris:20280630T200000
DTSTAMP:20260424T054502
CREATED:20260313T123232Z
LAST-MODIFIED:20260313T144310Z
UID:10018788-1846004400-1846008000@coeur-eucharistique.net
SUMMARY:Messe du jour
DESCRIPTION:Célébrée dans la chapelle de la Vierge Marie\, au fond à gauche dans l’église.
URL:https://coeur-eucharistique.net/event/messe-du-jour-2/2028-06-30/
LOCATION:Église du Coeur Eucharistique
CATEGORIES:Culte et prières
ATTACH;FMTTYPE=image/jpeg:https://coeur-eucharistique.net/wp-content/uploads/2023/09/IMG_2967-scaled.jpg
END:VEVENT
END:VCALENDAR