BEGIN:VCALENDAR
VERSION:2.0
PRODID:-//Eglise du Coeur eucharistique de Jesus - ECPv6.15.20//NONSGML v1.0//EN
CALSCALE:GREGORIAN
METHOD:PUBLISH
X-ORIGINAL-URL:https://coeur-eucharistique.net
X-WR-CALDESC:Évènements pour Eglise du Coeur eucharistique de Jesus
REFRESH-INTERVAL;VALUE=DURATION:PT1H
X-Robots-Tag:noindex
X-PUBLISHED-TTL:PT1H
BEGIN:VTIMEZONE
TZID:Europe/Paris
BEGIN:DAYLIGHT
TZOFFSETFROM:+0100
TZOFFSETTO:+0200
TZNAME:CEST
DTSTART:20260329T010000
END:DAYLIGHT
BEGIN:STANDARD
TZOFFSETFROM:+0200
TZOFFSETTO:+0100
TZNAME:CET
DTSTART:20261025T010000
END:STANDARD
BEGIN:DAYLIGHT
TZOFFSETFROM:+0100
TZOFFSETTO:+0200
TZNAME:CEST
DTSTART:20270328T010000
END:DAYLIGHT
BEGIN:STANDARD
TZOFFSETFROM:+0200
TZOFFSETTO:+0100
TZNAME:CET
DTSTART:20271031T010000
END:STANDARD
BEGIN:DAYLIGHT
TZOFFSETFROM:+0100
TZOFFSETTO:+0200
TZNAME:CEST
DTSTART:20280326T010000
END:DAYLIGHT
BEGIN:STANDARD
TZOFFSETFROM:+0200
TZOFFSETTO:+0100
TZNAME:CET
DTSTART:20281029T010000
END:STANDARD
END:VTIMEZONE
BEGIN:VEVENT
DTSTART;TZID=Europe/Paris:20271209T180000
DTEND;TZID=Europe/Paris:20271209T190000
DTSTAMP:20260423T005253
CREATED:20260313T122822Z
LAST-MODIFIED:20260313T122822Z
UID:10016932-1828375200-1828378800@coeur-eucharistique.net
SUMMARY:Accueil du curé
DESCRIPTION:Le Curé reçoit directement\, sans rendez-vous\, au parloir situé sous le porche de l’église\, le jeudi de 18h à 19h\, et sur rendez-vous en rédigeant votre message (cliquez ici).
URL:https://coeur-eucharistique.net/event/accueil-du-cure/2027-12-09/
LOCATION:Église du Coeur Eucharistique
ATTACH;FMTTYPE=image/jpeg:https://coeur-eucharistique.net/wp-content/uploads/2022/04/Bandeau_au-coeur-du-monde_02.jpg
END:VEVENT
BEGIN:VEVENT
DTSTART;TZID=Europe/Paris:20271210T120000
DTEND;TZID=Europe/Paris:20271210T123000
DTSTAMP:20260423T005253
CREATED:20250320T111820Z
LAST-MODIFIED:20250320T111820Z
UID:10013588-1828440000-1828441800@coeur-eucharistique.net
SUMMARY:Angelus & Chapelet
DESCRIPTION:Angelus et chapelet animé par Anne\, aux pieds de Notre-Dame de Lourdes.
URL:https://coeur-eucharistique.net/event/angelus-chapelet/2027-12-10/
CATEGORIES:Culte et prières
ATTACH;FMTTYPE=image/jpeg:https://coeur-eucharistique.net/wp-content/uploads/2023/09/IMG_2931.jpg
END:VEVENT
BEGIN:VEVENT
DTSTART;TZID=Europe/Paris:20271210T180000
DTEND;TZID=Europe/Paris:20271210T190000
DTSTAMP:20260423T005253
CREATED:20250703T133838Z
LAST-MODIFIED:20260313T121358Z
UID:10016672-1828461600-1828465200@coeur-eucharistique.net
SUMMARY:Confession
DESCRIPTION:« Notre espérance est ferme\, puisque\, dans le Fils du Père « nous avons la rédemption\, la rémission de nos péchés » (Col 1\, 14). Le signe efficace et indubitable de son pardon\, nous le trouvons dans les sacrements de son Église. » \n Catéchisme de l’Église Catholique\, n° 2839 \n\n  \nLe sacrement de la Pénitence et de la Réconciliation est proposé à la paroisse du Coeur Eucharistique de Jésus tous les vendredis de 18h à 19h.
URL:https://coeur-eucharistique.net/event/confession-3/2027-12-10/
LOCATION:Église du Coeur Eucharistique
CATEGORIES:Confession,Culte et prières
ATTACH;FMTTYPE=image/jpeg:https://coeur-eucharistique.net/wp-content/uploads/2023/10/josh-applegate-_TgzNXPF9IM-unsplash-scaled-e1704450627851.jpg
END:VEVENT
BEGIN:VEVENT
DTSTART;TZID=Europe/Paris:20271210T190000
DTEND;TZID=Europe/Paris:20271210T200000
DTSTAMP:20260423T005253
CREATED:20260313T123232Z
LAST-MODIFIED:20260313T144310Z
UID:10018759-1828465200-1828468800@coeur-eucharistique.net
SUMMARY:Messe du jour
DESCRIPTION:Célébrée dans la chapelle de la Vierge Marie\, au fond à gauche dans l’église.
URL:https://coeur-eucharistique.net/event/messe-du-jour-2/2027-12-10/
LOCATION:Église du Coeur Eucharistique
CATEGORIES:Culte et prières
ATTACH;FMTTYPE=image/jpeg:https://coeur-eucharistique.net/wp-content/uploads/2023/09/IMG_2967-scaled.jpg
END:VEVENT
BEGIN:VEVENT
DTSTART;TZID=Europe/Paris:20271211T120000
DTEND;TZID=Europe/Paris:20271211T130000
DTSTAMP:20260423T005253
CREATED:20260313T123425Z
LAST-MODIFIED:20260313T144243Z
UID:10019280-1828526400-1828530000@coeur-eucharistique.net
SUMMARY:Messe du jour
DESCRIPTION:Célébrée dans la chapelle de la Vierge Marie\, au fond à gauche dans l’église.
URL:https://coeur-eucharistique.net/event/messe-du-jour-7/2027-12-11/
LOCATION:Église du Coeur Eucharistique
CATEGORIES:Culte et prières
ATTACH;FMTTYPE=image/jpeg:https://coeur-eucharistique.net/wp-content/uploads/2023/09/IMG_2967-scaled.jpg
END:VEVENT
BEGIN:VEVENT
DTSTART;TZID=Europe/Paris:20271212T101500
DTEND;TZID=Europe/Paris:20271212T113000
DTSTAMP:20260423T005253
CREATED:20230620T145605Z
LAST-MODIFIED:20260414T090100Z
UID:10003593-1828606500-1828611000@coeur-eucharistique.net
SUMMARY:Messe dominicale
DESCRIPTION:
URL:https://coeur-eucharistique.net/event/nom-de-levenement-a-2-2/2027-12-12/
LOCATION:Église du Coeur Eucharistique
CATEGORIES:Culte et prières
ATTACH;FMTTYPE=image/jpeg:https://coeur-eucharistique.net/wp-content/uploads/2023/09/SC043-scaled.jpg
END:VEVENT
BEGIN:VEVENT
DTSTART;TZID=Europe/Paris:20271212T183000
DTEND;TZID=Europe/Paris:20271212T193000
DTSTAMP:20260423T005253
CREATED:20230911T201959Z
LAST-MODIFIED:20260414T085846Z
UID:10004116-1828636200-1828639800@coeur-eucharistique.net
SUMMARY:Messe dominicale
DESCRIPTION:
URL:https://coeur-eucharistique.net/event/messe-dominicale/2027-12-12/
LOCATION:Église du Coeur Eucharistique
CATEGORIES:Culte et prières
ATTACH;FMTTYPE=image/jpeg:https://coeur-eucharistique.net/wp-content/uploads/2023/09/SC043-scaled.jpg
END:VEVENT
BEGIN:VEVENT
DTSTART;TZID=Europe/Paris:20271213T193000
DTEND;TZID=Europe/Paris:20271213T203000
DTSTAMP:20260423T005253
CREATED:20231014T090416Z
LAST-MODIFIED:20240703T155214Z
UID:10007707-1828726200-1828729800@coeur-eucharistique.net
SUMMARY:Frat des étudiants
DESCRIPTION:Petites réunions (moins d’une heure) de méditation\, de prière et de partage dans une maison\, deux ou trois soirs par mois\, pour nous soutenir dans la foi et la charité et que la Parole de Dieu illumine le coeurs des étudiants ! 👨‍🎓📚
URL:https://coeur-eucharistique.net/event/frat-des-etudiants/2027-12-13/
LOCATION:Chez Alexis\, 22 rue du Lieutenant Chauré\, Paris\, 75020\, France
CATEGORIES:Frat des étudiants,Fraternités du Cœur
ATTACH;FMTTYPE=image/jpeg:https://coeur-eucharistique.net/wp-content/uploads/2023/10/alexis-brown-omeaHbEFlN4-unsplash-scaled.jpg
END:VEVENT
BEGIN:VEVENT
DTSTART;TZID=Europe/Paris:20271214T120000
DTEND;TZID=Europe/Paris:20271214T123000
DTSTAMP:20260423T005253
CREATED:20230914T091933Z
LAST-MODIFIED:20240703T122637Z
UID:10005724-1828785600-1828787400@coeur-eucharistique.net
SUMMARY:Chapelet
DESCRIPTION:Angelus et chalet animé par Anne\, aux pieds de Notre-Dame de Lourdes\, avant la messe de 12h30.
URL:https://coeur-eucharistique.net/event/chapelet/2027-12-14/
CATEGORIES:Culte et prières
ATTACH;FMTTYPE=image/jpeg:https://coeur-eucharistique.net/wp-content/uploads/2023/09/IMG_2931.jpg
END:VEVENT
BEGIN:VEVENT
DTSTART;TZID=Europe/Paris:20271214T123000
DTEND;TZID=Europe/Paris:20271214T130000
DTSTAMP:20260423T005253
CREATED:20250521T104320Z
LAST-MODIFIED:20260313T144449Z
UID:10017376-1828787400-1828789200@coeur-eucharistique.net
SUMMARY:Messe du jour
DESCRIPTION:Célébrée dans la chapelle de la Vierge Marie\, au fond à gauche dans l’église.
URL:https://coeur-eucharistique.net/event/messe-du-jour-9-3/2027-12-14/
LOCATION:Église du Coeur Eucharistique
CATEGORIES:Culte et prières
ATTACH;FMTTYPE=image/jpeg:https://coeur-eucharistique.net/wp-content/uploads/2023/09/IMG_2967-scaled.jpg
END:VEVENT
BEGIN:VEVENT
DTSTART;TZID=Europe/Paris:20271215T123000
DTEND;TZID=Europe/Paris:20271215T130000
DTSTAMP:20260423T005253
CREATED:20250521T104320Z
LAST-MODIFIED:20260313T144449Z
UID:10017377-1828873800-1828875600@coeur-eucharistique.net
SUMMARY:Messe du jour
DESCRIPTION:Célébrée dans la chapelle de la Vierge Marie\, au fond à gauche dans l’église.
URL:https://coeur-eucharistique.net/event/messe-du-jour-9-3/2027-12-15/
LOCATION:Église du Coeur Eucharistique
CATEGORIES:Culte et prières
ATTACH;FMTTYPE=image/jpeg:https://coeur-eucharistique.net/wp-content/uploads/2023/09/IMG_2967-scaled.jpg
END:VEVENT
BEGIN:VEVENT
DTSTART;TZID=Europe/Paris:20271216T123000
DTEND;TZID=Europe/Paris:20271216T130000
DTSTAMP:20260423T005253
CREATED:20250521T104320Z
LAST-MODIFIED:20260313T144449Z
UID:10017378-1828960200-1828962000@coeur-eucharistique.net
SUMMARY:Messe du jour
DESCRIPTION:Célébrée dans la chapelle de la Vierge Marie\, au fond à gauche dans l’église.
URL:https://coeur-eucharistique.net/event/messe-du-jour-9-3/2027-12-16/
LOCATION:Église du Coeur Eucharistique
CATEGORIES:Culte et prières
ATTACH;FMTTYPE=image/jpeg:https://coeur-eucharistique.net/wp-content/uploads/2023/09/IMG_2967-scaled.jpg
END:VEVENT
BEGIN:VEVENT
DTSTART;TZID=Europe/Paris:20271216T180000
DTEND;TZID=Europe/Paris:20271216T190000
DTSTAMP:20260423T005253
CREATED:20260313T122822Z
LAST-MODIFIED:20260313T122822Z
UID:10016933-1828980000-1828983600@coeur-eucharistique.net
SUMMARY:Accueil du curé
DESCRIPTION:Le Curé reçoit directement\, sans rendez-vous\, au parloir situé sous le porche de l’église\, le jeudi de 18h à 19h\, et sur rendez-vous en rédigeant votre message (cliquez ici).
URL:https://coeur-eucharistique.net/event/accueil-du-cure/2027-12-16/
LOCATION:Église du Coeur Eucharistique
ATTACH;FMTTYPE=image/jpeg:https://coeur-eucharistique.net/wp-content/uploads/2022/04/Bandeau_au-coeur-du-monde_02.jpg
END:VEVENT
BEGIN:VEVENT
DTSTART;TZID=Europe/Paris:20271217T120000
DTEND;TZID=Europe/Paris:20271217T123000
DTSTAMP:20260423T005253
CREATED:20250320T111820Z
LAST-MODIFIED:20250320T111820Z
UID:10013589-1829044800-1829046600@coeur-eucharistique.net
SUMMARY:Angelus & Chapelet
DESCRIPTION:Angelus et chapelet animé par Anne\, aux pieds de Notre-Dame de Lourdes.
URL:https://coeur-eucharistique.net/event/angelus-chapelet/2027-12-17/
CATEGORIES:Culte et prières
ATTACH;FMTTYPE=image/jpeg:https://coeur-eucharistique.net/wp-content/uploads/2023/09/IMG_2931.jpg
END:VEVENT
BEGIN:VEVENT
DTSTART;TZID=Europe/Paris:20271217T180000
DTEND;TZID=Europe/Paris:20271217T190000
DTSTAMP:20260423T005253
CREATED:20250703T133838Z
LAST-MODIFIED:20260313T121358Z
UID:10016673-1829066400-1829070000@coeur-eucharistique.net
SUMMARY:Confession
DESCRIPTION:« Notre espérance est ferme\, puisque\, dans le Fils du Père « nous avons la rédemption\, la rémission de nos péchés » (Col 1\, 14). Le signe efficace et indubitable de son pardon\, nous le trouvons dans les sacrements de son Église. » \n Catéchisme de l’Église Catholique\, n° 2839 \n\n  \nLe sacrement de la Pénitence et de la Réconciliation est proposé à la paroisse du Coeur Eucharistique de Jésus tous les vendredis de 18h à 19h.
URL:https://coeur-eucharistique.net/event/confession-3/2027-12-17/
LOCATION:Église du Coeur Eucharistique
CATEGORIES:Confession,Culte et prières
ATTACH;FMTTYPE=image/jpeg:https://coeur-eucharistique.net/wp-content/uploads/2023/10/josh-applegate-_TgzNXPF9IM-unsplash-scaled-e1704450627851.jpg
END:VEVENT
BEGIN:VEVENT
DTSTART;TZID=Europe/Paris:20271217T190000
DTEND;TZID=Europe/Paris:20271217T200000
DTSTAMP:20260423T005253
CREATED:20260313T123232Z
LAST-MODIFIED:20260313T144310Z
UID:10018760-1829070000-1829073600@coeur-eucharistique.net
SUMMARY:Messe du jour
DESCRIPTION:Célébrée dans la chapelle de la Vierge Marie\, au fond à gauche dans l’église.
URL:https://coeur-eucharistique.net/event/messe-du-jour-2/2027-12-17/
LOCATION:Église du Coeur Eucharistique
CATEGORIES:Culte et prières
ATTACH;FMTTYPE=image/jpeg:https://coeur-eucharistique.net/wp-content/uploads/2023/09/IMG_2967-scaled.jpg
END:VEVENT
BEGIN:VEVENT
DTSTART;TZID=Europe/Paris:20271218T120000
DTEND;TZID=Europe/Paris:20271218T130000
DTSTAMP:20260423T005253
CREATED:20260313T123425Z
LAST-MODIFIED:20260313T144243Z
UID:10019281-1829131200-1829134800@coeur-eucharistique.net
SUMMARY:Messe du jour
DESCRIPTION:Célébrée dans la chapelle de la Vierge Marie\, au fond à gauche dans l’église.
URL:https://coeur-eucharistique.net/event/messe-du-jour-7/2027-12-18/
LOCATION:Église du Coeur Eucharistique
CATEGORIES:Culte et prières
ATTACH;FMTTYPE=image/jpeg:https://coeur-eucharistique.net/wp-content/uploads/2023/09/IMG_2967-scaled.jpg
END:VEVENT
BEGIN:VEVENT
DTSTART;TZID=Europe/Paris:20271219T101500
DTEND;TZID=Europe/Paris:20271219T113000
DTSTAMP:20260423T005253
CREATED:20230620T145605Z
LAST-MODIFIED:20260414T090100Z
UID:10003594-1829211300-1829215800@coeur-eucharistique.net
SUMMARY:Messe dominicale
DESCRIPTION:
URL:https://coeur-eucharistique.net/event/nom-de-levenement-a-2-2/2027-12-19/
LOCATION:Église du Coeur Eucharistique
CATEGORIES:Culte et prières
ATTACH;FMTTYPE=image/jpeg:https://coeur-eucharistique.net/wp-content/uploads/2023/09/SC043-scaled.jpg
END:VEVENT
BEGIN:VEVENT
DTSTART;TZID=Europe/Paris:20271219T183000
DTEND;TZID=Europe/Paris:20271219T193000
DTSTAMP:20260423T005253
CREATED:20230911T201959Z
LAST-MODIFIED:20260414T085846Z
UID:10004117-1829241000-1829244600@coeur-eucharistique.net
SUMMARY:Messe dominicale
DESCRIPTION:
URL:https://coeur-eucharistique.net/event/messe-dominicale/2027-12-19/
LOCATION:Église du Coeur Eucharistique
CATEGORIES:Culte et prières
ATTACH;FMTTYPE=image/jpeg:https://coeur-eucharistique.net/wp-content/uploads/2023/09/SC043-scaled.jpg
END:VEVENT
BEGIN:VEVENT
DTSTART;TZID=Europe/Paris:20271220T193000
DTEND;TZID=Europe/Paris:20271220T203000
DTSTAMP:20260423T005253
CREATED:20231014T090416Z
LAST-MODIFIED:20240703T155214Z
UID:10008397-1829331000-1829334600@coeur-eucharistique.net
SUMMARY:Frat des étudiants
DESCRIPTION:Petites réunions (moins d’une heure) de méditation\, de prière et de partage dans une maison\, deux ou trois soirs par mois\, pour nous soutenir dans la foi et la charité et que la Parole de Dieu illumine le coeurs des étudiants ! 👨‍🎓📚
URL:https://coeur-eucharistique.net/event/frat-des-etudiants/2027-12-20/
LOCATION:Chez Alexis\, 22 rue du Lieutenant Chauré\, Paris\, 75020\, France
CATEGORIES:Frat des étudiants,Fraternités du Cœur
ATTACH;FMTTYPE=image/jpeg:https://coeur-eucharistique.net/wp-content/uploads/2023/10/alexis-brown-omeaHbEFlN4-unsplash-scaled.jpg
END:VEVENT
BEGIN:VEVENT
DTSTART;TZID=Europe/Paris:20271221T120000
DTEND;TZID=Europe/Paris:20271221T123000
DTSTAMP:20260423T005253
CREATED:20230914T091933Z
LAST-MODIFIED:20240703T122637Z
UID:10005725-1829390400-1829392200@coeur-eucharistique.net
SUMMARY:Chapelet
DESCRIPTION:Angelus et chalet animé par Anne\, aux pieds de Notre-Dame de Lourdes\, avant la messe de 12h30.
URL:https://coeur-eucharistique.net/event/chapelet/2027-12-21/
CATEGORIES:Culte et prières
ATTACH;FMTTYPE=image/jpeg:https://coeur-eucharistique.net/wp-content/uploads/2023/09/IMG_2931.jpg
END:VEVENT
BEGIN:VEVENT
DTSTART;TZID=Europe/Paris:20271221T123000
DTEND;TZID=Europe/Paris:20271221T130000
DTSTAMP:20260423T005253
CREATED:20250521T104320Z
LAST-MODIFIED:20260313T144449Z
UID:10017379-1829392200-1829394000@coeur-eucharistique.net
SUMMARY:Messe du jour
DESCRIPTION:Célébrée dans la chapelle de la Vierge Marie\, au fond à gauche dans l’église.
URL:https://coeur-eucharistique.net/event/messe-du-jour-9-3/2027-12-21/
LOCATION:Église du Coeur Eucharistique
CATEGORIES:Culte et prières
ATTACH;FMTTYPE=image/jpeg:https://coeur-eucharistique.net/wp-content/uploads/2023/09/IMG_2967-scaled.jpg
END:VEVENT
BEGIN:VEVENT
DTSTART;TZID=Europe/Paris:20271222T123000
DTEND;TZID=Europe/Paris:20271222T130000
DTSTAMP:20260423T005253
CREATED:20250521T104320Z
LAST-MODIFIED:20260313T144449Z
UID:10017380-1829478600-1829480400@coeur-eucharistique.net
SUMMARY:Messe du jour
DESCRIPTION:Célébrée dans la chapelle de la Vierge Marie\, au fond à gauche dans l’église.
URL:https://coeur-eucharistique.net/event/messe-du-jour-9-3/2027-12-22/
LOCATION:Église du Coeur Eucharistique
CATEGORIES:Culte et prières
ATTACH;FMTTYPE=image/jpeg:https://coeur-eucharistique.net/wp-content/uploads/2023/09/IMG_2967-scaled.jpg
END:VEVENT
BEGIN:VEVENT
DTSTART;TZID=Europe/Paris:20271223T123000
DTEND;TZID=Europe/Paris:20271223T130000
DTSTAMP:20260423T005253
CREATED:20250521T104320Z
LAST-MODIFIED:20260313T144449Z
UID:10017381-1829565000-1829566800@coeur-eucharistique.net
SUMMARY:Messe du jour
DESCRIPTION:Célébrée dans la chapelle de la Vierge Marie\, au fond à gauche dans l’église.
URL:https://coeur-eucharistique.net/event/messe-du-jour-9-3/2027-12-23/
LOCATION:Église du Coeur Eucharistique
CATEGORIES:Culte et prières
ATTACH;FMTTYPE=image/jpeg:https://coeur-eucharistique.net/wp-content/uploads/2023/09/IMG_2967-scaled.jpg
END:VEVENT
BEGIN:VEVENT
DTSTART;TZID=Europe/Paris:20271223T180000
DTEND;TZID=Europe/Paris:20271223T190000
DTSTAMP:20260423T005253
CREATED:20260313T122822Z
LAST-MODIFIED:20260313T122822Z
UID:10016934-1829584800-1829588400@coeur-eucharistique.net
SUMMARY:Accueil du curé
DESCRIPTION:Le Curé reçoit directement\, sans rendez-vous\, au parloir situé sous le porche de l’église\, le jeudi de 18h à 19h\, et sur rendez-vous en rédigeant votre message (cliquez ici).
URL:https://coeur-eucharistique.net/event/accueil-du-cure/2027-12-23/
LOCATION:Église du Coeur Eucharistique
ATTACH;FMTTYPE=image/jpeg:https://coeur-eucharistique.net/wp-content/uploads/2022/04/Bandeau_au-coeur-du-monde_02.jpg
END:VEVENT
BEGIN:VEVENT
DTSTART;TZID=Europe/Paris:20271224T120000
DTEND;TZID=Europe/Paris:20271224T123000
DTSTAMP:20260423T005253
CREATED:20250320T111820Z
LAST-MODIFIED:20250320T111820Z
UID:10013590-1829649600-1829651400@coeur-eucharistique.net
SUMMARY:Angelus & Chapelet
DESCRIPTION:Angelus et chapelet animé par Anne\, aux pieds de Notre-Dame de Lourdes.
URL:https://coeur-eucharistique.net/event/angelus-chapelet/2027-12-24/
CATEGORIES:Culte et prières
ATTACH;FMTTYPE=image/jpeg:https://coeur-eucharistique.net/wp-content/uploads/2023/09/IMG_2931.jpg
END:VEVENT
BEGIN:VEVENT
DTSTART;TZID=Europe/Paris:20271224T180000
DTEND;TZID=Europe/Paris:20271224T190000
DTSTAMP:20260423T005253
CREATED:20250703T133838Z
LAST-MODIFIED:20260313T121358Z
UID:10016674-1829671200-1829674800@coeur-eucharistique.net
SUMMARY:Confession
DESCRIPTION:« Notre espérance est ferme\, puisque\, dans le Fils du Père « nous avons la rédemption\, la rémission de nos péchés » (Col 1\, 14). Le signe efficace et indubitable de son pardon\, nous le trouvons dans les sacrements de son Église. » \n Catéchisme de l’Église Catholique\, n° 2839 \n\n  \nLe sacrement de la Pénitence et de la Réconciliation est proposé à la paroisse du Coeur Eucharistique de Jésus tous les vendredis de 18h à 19h.
URL:https://coeur-eucharistique.net/event/confession-3/2027-12-24/
LOCATION:Église du Coeur Eucharistique
CATEGORIES:Confession,Culte et prières
ATTACH;FMTTYPE=image/jpeg:https://coeur-eucharistique.net/wp-content/uploads/2023/10/josh-applegate-_TgzNXPF9IM-unsplash-scaled-e1704450627851.jpg
END:VEVENT
BEGIN:VEVENT
DTSTART;TZID=Europe/Paris:20271224T190000
DTEND;TZID=Europe/Paris:20271224T200000
DTSTAMP:20260423T005253
CREATED:20260313T123232Z
LAST-MODIFIED:20260313T144310Z
UID:10018761-1829674800-1829678400@coeur-eucharistique.net
SUMMARY:Messe du jour
DESCRIPTION:Célébrée dans la chapelle de la Vierge Marie\, au fond à gauche dans l’église.
URL:https://coeur-eucharistique.net/event/messe-du-jour-2/2027-12-24/
LOCATION:Église du Coeur Eucharistique
CATEGORIES:Culte et prières
ATTACH;FMTTYPE=image/jpeg:https://coeur-eucharistique.net/wp-content/uploads/2023/09/IMG_2967-scaled.jpg
END:VEVENT
BEGIN:VEVENT
DTSTART;TZID=Europe/Paris:20271225T120000
DTEND;TZID=Europe/Paris:20271225T130000
DTSTAMP:20260423T005253
CREATED:20260313T123425Z
LAST-MODIFIED:20260313T144243Z
UID:10019282-1829736000-1829739600@coeur-eucharistique.net
SUMMARY:Messe du jour
DESCRIPTION:Célébrée dans la chapelle de la Vierge Marie\, au fond à gauche dans l’église.
URL:https://coeur-eucharistique.net/event/messe-du-jour-7/2027-12-25/
LOCATION:Église du Coeur Eucharistique
CATEGORIES:Culte et prières
ATTACH;FMTTYPE=image/jpeg:https://coeur-eucharistique.net/wp-content/uploads/2023/09/IMG_2967-scaled.jpg
END:VEVENT
BEGIN:VEVENT
DTSTART;TZID=Europe/Paris:20271226T101500
DTEND;TZID=Europe/Paris:20271226T113000
DTSTAMP:20260423T005253
CREATED:20230620T145605Z
LAST-MODIFIED:20260414T090100Z
UID:10003595-1829816100-1829820600@coeur-eucharistique.net
SUMMARY:Messe dominicale
DESCRIPTION:
URL:https://coeur-eucharistique.net/event/nom-de-levenement-a-2-2/2027-12-26/
LOCATION:Église du Coeur Eucharistique
CATEGORIES:Culte et prières
ATTACH;FMTTYPE=image/jpeg:https://coeur-eucharistique.net/wp-content/uploads/2023/09/SC043-scaled.jpg
END:VEVENT
END:VCALENDAR