BEGIN:VCALENDAR
VERSION:2.0
PRODID:-//Eglise du Coeur eucharistique de Jesus - ECPv6.15.20//NONSGML v1.0//EN
CALSCALE:GREGORIAN
METHOD:PUBLISH
X-ORIGINAL-URL:https://coeur-eucharistique.net
X-WR-CALDESC:Évènements pour Eglise du Coeur eucharistique de Jesus
REFRESH-INTERVAL;VALUE=DURATION:PT1H
X-Robots-Tag:noindex
X-PUBLISHED-TTL:PT1H
BEGIN:VTIMEZONE
TZID:Europe/Paris
BEGIN:DAYLIGHT
TZOFFSETFROM:+0100
TZOFFSETTO:+0200
TZNAME:CEST
DTSTART:20260329T010000
END:DAYLIGHT
BEGIN:STANDARD
TZOFFSETFROM:+0200
TZOFFSETTO:+0100
TZNAME:CET
DTSTART:20261025T010000
END:STANDARD
BEGIN:DAYLIGHT
TZOFFSETFROM:+0100
TZOFFSETTO:+0200
TZNAME:CEST
DTSTART:20270328T010000
END:DAYLIGHT
BEGIN:STANDARD
TZOFFSETFROM:+0200
TZOFFSETTO:+0100
TZNAME:CET
DTSTART:20271031T010000
END:STANDARD
BEGIN:DAYLIGHT
TZOFFSETFROM:+0100
TZOFFSETTO:+0200
TZNAME:CEST
DTSTART:20280326T010000
END:DAYLIGHT
BEGIN:STANDARD
TZOFFSETFROM:+0200
TZOFFSETTO:+0100
TZNAME:CET
DTSTART:20281029T010000
END:STANDARD
END:VTIMEZONE
BEGIN:VEVENT
DTSTART;TZID=Europe/Paris:20270722T123000
DTEND;TZID=Europe/Paris:20270722T130000
DTSTAMP:20260422T034705
CREATED:20250521T104320Z
LAST-MODIFIED:20260313T144449Z
UID:10017315-1816259400-1816261200@coeur-eucharistique.net
SUMMARY:Messe du jour
DESCRIPTION:Célébrée dans la chapelle de la Vierge Marie\, au fond à gauche dans l’église.
URL:https://coeur-eucharistique.net/event/messe-du-jour-9-3/2027-07-22/
LOCATION:Église du Coeur Eucharistique
CATEGORIES:Culte et prières
ATTACH;FMTTYPE=image/jpeg:https://coeur-eucharistique.net/wp-content/uploads/2023/09/IMG_2967-scaled.jpg
END:VEVENT
BEGIN:VEVENT
DTSTART;TZID=Europe/Paris:20270722T180000
DTEND;TZID=Europe/Paris:20270722T190000
DTSTAMP:20260422T034705
CREATED:20260313T122822Z
LAST-MODIFIED:20260313T122822Z
UID:10016912-1816279200-1816282800@coeur-eucharistique.net
SUMMARY:Accueil du curé
DESCRIPTION:Le Curé reçoit directement\, sans rendez-vous\, au parloir situé sous le porche de l’église\, le jeudi de 18h à 19h\, et sur rendez-vous en rédigeant votre message (cliquez ici).
URL:https://coeur-eucharistique.net/event/accueil-du-cure/2027-07-22/
LOCATION:Église du Coeur Eucharistique
ATTACH;FMTTYPE=image/jpeg:https://coeur-eucharistique.net/wp-content/uploads/2022/04/Bandeau_au-coeur-du-monde_02.jpg
END:VEVENT
BEGIN:VEVENT
DTSTART;TZID=Europe/Paris:20270723T120000
DTEND;TZID=Europe/Paris:20270723T123000
DTSTAMP:20260422T034705
CREATED:20250320T111820Z
LAST-MODIFIED:20250320T111820Z
UID:10013568-1816344000-1816345800@coeur-eucharistique.net
SUMMARY:Angelus & Chapelet
DESCRIPTION:Angelus et chapelet animé par Anne\, aux pieds de Notre-Dame de Lourdes.
URL:https://coeur-eucharistique.net/event/angelus-chapelet/2027-07-23/
CATEGORIES:Culte et prières
ATTACH;FMTTYPE=image/jpeg:https://coeur-eucharistique.net/wp-content/uploads/2023/09/IMG_2931.jpg
END:VEVENT
BEGIN:VEVENT
DTSTART;TZID=Europe/Paris:20270723T180000
DTEND;TZID=Europe/Paris:20270723T190000
DTSTAMP:20260422T034705
CREATED:20250703T133838Z
LAST-MODIFIED:20260313T121358Z
UID:10016652-1816365600-1816369200@coeur-eucharistique.net
SUMMARY:Confession
DESCRIPTION:« Notre espérance est ferme\, puisque\, dans le Fils du Père « nous avons la rédemption\, la rémission de nos péchés » (Col 1\, 14). Le signe efficace et indubitable de son pardon\, nous le trouvons dans les sacrements de son Église. » \n Catéchisme de l’Église Catholique\, n° 2839 \n\n  \nLe sacrement de la Pénitence et de la Réconciliation est proposé à la paroisse du Coeur Eucharistique de Jésus tous les vendredis de 18h à 19h.
URL:https://coeur-eucharistique.net/event/confession-3/2027-07-23/
LOCATION:Église du Coeur Eucharistique
CATEGORIES:Confession,Culte et prières
ATTACH;FMTTYPE=image/jpeg:https://coeur-eucharistique.net/wp-content/uploads/2023/10/josh-applegate-_TgzNXPF9IM-unsplash-scaled-e1704450627851.jpg
END:VEVENT
BEGIN:VEVENT
DTSTART;TZID=Europe/Paris:20270723T190000
DTEND;TZID=Europe/Paris:20270723T200000
DTSTAMP:20260422T034705
CREATED:20260313T123232Z
LAST-MODIFIED:20260313T144310Z
UID:10018739-1816369200-1816372800@coeur-eucharistique.net
SUMMARY:Messe du jour
DESCRIPTION:Célébrée dans la chapelle de la Vierge Marie\, au fond à gauche dans l’église.
URL:https://coeur-eucharistique.net/event/messe-du-jour-2/2027-07-23/
LOCATION:Église du Coeur Eucharistique
CATEGORIES:Culte et prières
ATTACH;FMTTYPE=image/jpeg:https://coeur-eucharistique.net/wp-content/uploads/2023/09/IMG_2967-scaled.jpg
END:VEVENT
BEGIN:VEVENT
DTSTART;TZID=Europe/Paris:20270724T120000
DTEND;TZID=Europe/Paris:20270724T130000
DTSTAMP:20260422T034705
CREATED:20260313T123425Z
LAST-MODIFIED:20260313T144243Z
UID:10019260-1816430400-1816434000@coeur-eucharistique.net
SUMMARY:Messe du jour
DESCRIPTION:Célébrée dans la chapelle de la Vierge Marie\, au fond à gauche dans l’église.
URL:https://coeur-eucharistique.net/event/messe-du-jour-7/2027-07-24/
LOCATION:Église du Coeur Eucharistique
CATEGORIES:Culte et prières
ATTACH;FMTTYPE=image/jpeg:https://coeur-eucharistique.net/wp-content/uploads/2023/09/IMG_2967-scaled.jpg
END:VEVENT
BEGIN:VEVENT
DTSTART;TZID=Europe/Paris:20270725T101500
DTEND;TZID=Europe/Paris:20270725T113000
DTSTAMP:20260422T034705
CREATED:20230620T145605Z
LAST-MODIFIED:20260414T090100Z
UID:10003573-1816510500-1816515000@coeur-eucharistique.net
SUMMARY:Messe dominicale
DESCRIPTION:
URL:https://coeur-eucharistique.net/event/nom-de-levenement-a-2-2/2027-07-25/
LOCATION:Église du Coeur Eucharistique
CATEGORIES:Culte et prières
ATTACH;FMTTYPE=image/jpeg:https://coeur-eucharistique.net/wp-content/uploads/2023/09/SC043-scaled.jpg
END:VEVENT
BEGIN:VEVENT
DTSTART;TZID=Europe/Paris:20270725T183000
DTEND;TZID=Europe/Paris:20270725T193000
DTSTAMP:20260422T034705
CREATED:20230911T201959Z
LAST-MODIFIED:20260414T085846Z
UID:10004096-1816540200-1816543800@coeur-eucharistique.net
SUMMARY:Messe dominicale
DESCRIPTION:
URL:https://coeur-eucharistique.net/event/messe-dominicale/2027-07-25/
LOCATION:Église du Coeur Eucharistique
CATEGORIES:Culte et prières
ATTACH;FMTTYPE=image/jpeg:https://coeur-eucharistique.net/wp-content/uploads/2023/09/SC043-scaled.jpg
END:VEVENT
BEGIN:VEVENT
DTSTART;TZID=Europe/Paris:20270726T193000
DTEND;TZID=Europe/Paris:20270726T203000
DTSTAMP:20260422T034705
CREATED:20231014T090416Z
LAST-MODIFIED:20240703T155214Z
UID:10007691-1816630200-1816633800@coeur-eucharistique.net
SUMMARY:Frat des étudiants
DESCRIPTION:Petites réunions (moins d’une heure) de méditation\, de prière et de partage dans une maison\, deux ou trois soirs par mois\, pour nous soutenir dans la foi et la charité et que la Parole de Dieu illumine le coeurs des étudiants ! 👨‍🎓📚
URL:https://coeur-eucharistique.net/event/frat-des-etudiants/2027-07-26/
LOCATION:Chez Alexis\, 22 rue du Lieutenant Chauré\, Paris\, 75020\, France
CATEGORIES:Frat des étudiants,Fraternités du Cœur
ATTACH;FMTTYPE=image/jpeg:https://coeur-eucharistique.net/wp-content/uploads/2023/10/alexis-brown-omeaHbEFlN4-unsplash-scaled.jpg
END:VEVENT
BEGIN:VEVENT
DTSTART;TZID=Europe/Paris:20270727T120000
DTEND;TZID=Europe/Paris:20270727T123000
DTSTAMP:20260422T034705
CREATED:20230914T091933Z
LAST-MODIFIED:20240703T122637Z
UID:10005704-1816689600-1816691400@coeur-eucharistique.net
SUMMARY:Chapelet
DESCRIPTION:Angelus et chalet animé par Anne\, aux pieds de Notre-Dame de Lourdes\, avant la messe de 12h30.
URL:https://coeur-eucharistique.net/event/chapelet/2027-07-27/
CATEGORIES:Culte et prières
ATTACH;FMTTYPE=image/jpeg:https://coeur-eucharistique.net/wp-content/uploads/2023/09/IMG_2931.jpg
END:VEVENT
BEGIN:VEVENT
DTSTART;TZID=Europe/Paris:20270727T123000
DTEND;TZID=Europe/Paris:20270727T130000
DTSTAMP:20260422T034705
CREATED:20250521T104320Z
LAST-MODIFIED:20260313T144449Z
UID:10017316-1816691400-1816693200@coeur-eucharistique.net
SUMMARY:Messe du jour
DESCRIPTION:Célébrée dans la chapelle de la Vierge Marie\, au fond à gauche dans l’église.
URL:https://coeur-eucharistique.net/event/messe-du-jour-9-3/2027-07-27/
LOCATION:Église du Coeur Eucharistique
CATEGORIES:Culte et prières
ATTACH;FMTTYPE=image/jpeg:https://coeur-eucharistique.net/wp-content/uploads/2023/09/IMG_2967-scaled.jpg
END:VEVENT
BEGIN:VEVENT
DTSTART;TZID=Europe/Paris:20270728T123000
DTEND;TZID=Europe/Paris:20270728T130000
DTSTAMP:20260422T034705
CREATED:20250521T104320Z
LAST-MODIFIED:20260313T144449Z
UID:10017317-1816777800-1816779600@coeur-eucharistique.net
SUMMARY:Messe du jour
DESCRIPTION:Célébrée dans la chapelle de la Vierge Marie\, au fond à gauche dans l’église.
URL:https://coeur-eucharistique.net/event/messe-du-jour-9-3/2027-07-28/
LOCATION:Église du Coeur Eucharistique
CATEGORIES:Culte et prières
ATTACH;FMTTYPE=image/jpeg:https://coeur-eucharistique.net/wp-content/uploads/2023/09/IMG_2967-scaled.jpg
END:VEVENT
BEGIN:VEVENT
DTSTART;TZID=Europe/Paris:20270729T123000
DTEND;TZID=Europe/Paris:20270729T130000
DTSTAMP:20260422T034705
CREATED:20250521T104320Z
LAST-MODIFIED:20260313T144449Z
UID:10017318-1816864200-1816866000@coeur-eucharistique.net
SUMMARY:Messe du jour
DESCRIPTION:Célébrée dans la chapelle de la Vierge Marie\, au fond à gauche dans l’église.
URL:https://coeur-eucharistique.net/event/messe-du-jour-9-3/2027-07-29/
LOCATION:Église du Coeur Eucharistique
CATEGORIES:Culte et prières
ATTACH;FMTTYPE=image/jpeg:https://coeur-eucharistique.net/wp-content/uploads/2023/09/IMG_2967-scaled.jpg
END:VEVENT
BEGIN:VEVENT
DTSTART;TZID=Europe/Paris:20270729T180000
DTEND;TZID=Europe/Paris:20270729T190000
DTSTAMP:20260422T034705
CREATED:20260313T122822Z
LAST-MODIFIED:20260313T122822Z
UID:10016913-1816884000-1816887600@coeur-eucharistique.net
SUMMARY:Accueil du curé
DESCRIPTION:Le Curé reçoit directement\, sans rendez-vous\, au parloir situé sous le porche de l’église\, le jeudi de 18h à 19h\, et sur rendez-vous en rédigeant votre message (cliquez ici).
URL:https://coeur-eucharistique.net/event/accueil-du-cure/2027-07-29/
LOCATION:Église du Coeur Eucharistique
ATTACH;FMTTYPE=image/jpeg:https://coeur-eucharistique.net/wp-content/uploads/2022/04/Bandeau_au-coeur-du-monde_02.jpg
END:VEVENT
BEGIN:VEVENT
DTSTART;TZID=Europe/Paris:20270730T120000
DTEND;TZID=Europe/Paris:20270730T123000
DTSTAMP:20260422T034705
CREATED:20250320T111820Z
LAST-MODIFIED:20250320T111820Z
UID:10013569-1816948800-1816950600@coeur-eucharistique.net
SUMMARY:Angelus & Chapelet
DESCRIPTION:Angelus et chapelet animé par Anne\, aux pieds de Notre-Dame de Lourdes.
URL:https://coeur-eucharistique.net/event/angelus-chapelet/2027-07-30/
CATEGORIES:Culte et prières
ATTACH;FMTTYPE=image/jpeg:https://coeur-eucharistique.net/wp-content/uploads/2023/09/IMG_2931.jpg
END:VEVENT
BEGIN:VEVENT
DTSTART;TZID=Europe/Paris:20270730T180000
DTEND;TZID=Europe/Paris:20270730T190000
DTSTAMP:20260422T034705
CREATED:20250703T133838Z
LAST-MODIFIED:20260313T121358Z
UID:10016653-1816970400-1816974000@coeur-eucharistique.net
SUMMARY:Confession
DESCRIPTION:« Notre espérance est ferme\, puisque\, dans le Fils du Père « nous avons la rédemption\, la rémission de nos péchés » (Col 1\, 14). Le signe efficace et indubitable de son pardon\, nous le trouvons dans les sacrements de son Église. » \n Catéchisme de l’Église Catholique\, n° 2839 \n\n  \nLe sacrement de la Pénitence et de la Réconciliation est proposé à la paroisse du Coeur Eucharistique de Jésus tous les vendredis de 18h à 19h.
URL:https://coeur-eucharistique.net/event/confession-3/2027-07-30/
LOCATION:Église du Coeur Eucharistique
CATEGORIES:Confession,Culte et prières
ATTACH;FMTTYPE=image/jpeg:https://coeur-eucharistique.net/wp-content/uploads/2023/10/josh-applegate-_TgzNXPF9IM-unsplash-scaled-e1704450627851.jpg
END:VEVENT
BEGIN:VEVENT
DTSTART;TZID=Europe/Paris:20270730T190000
DTEND;TZID=Europe/Paris:20270730T200000
DTSTAMP:20260422T034705
CREATED:20260313T123232Z
LAST-MODIFIED:20260313T144310Z
UID:10018740-1816974000-1816977600@coeur-eucharistique.net
SUMMARY:Messe du jour
DESCRIPTION:Célébrée dans la chapelle de la Vierge Marie\, au fond à gauche dans l’église.
URL:https://coeur-eucharistique.net/event/messe-du-jour-2/2027-07-30/
LOCATION:Église du Coeur Eucharistique
CATEGORIES:Culte et prières
ATTACH;FMTTYPE=image/jpeg:https://coeur-eucharistique.net/wp-content/uploads/2023/09/IMG_2967-scaled.jpg
END:VEVENT
BEGIN:VEVENT
DTSTART;TZID=Europe/Paris:20270731T120000
DTEND;TZID=Europe/Paris:20270731T130000
DTSTAMP:20260422T034705
CREATED:20260313T123425Z
LAST-MODIFIED:20260313T144243Z
UID:10019261-1817035200-1817038800@coeur-eucharistique.net
SUMMARY:Messe du jour
DESCRIPTION:Célébrée dans la chapelle de la Vierge Marie\, au fond à gauche dans l’église.
URL:https://coeur-eucharistique.net/event/messe-du-jour-7/2027-07-31/
LOCATION:Église du Coeur Eucharistique
CATEGORIES:Culte et prières
ATTACH;FMTTYPE=image/jpeg:https://coeur-eucharistique.net/wp-content/uploads/2023/09/IMG_2967-scaled.jpg
END:VEVENT
BEGIN:VEVENT
DTSTART;TZID=Europe/Paris:20270801T101500
DTEND;TZID=Europe/Paris:20270801T113000
DTSTAMP:20260422T034705
CREATED:20230620T145605Z
LAST-MODIFIED:20260414T090100Z
UID:10003574-1817115300-1817119800@coeur-eucharistique.net
SUMMARY:Messe dominicale
DESCRIPTION:
URL:https://coeur-eucharistique.net/event/nom-de-levenement-a-2-2/2027-08-01/
LOCATION:Église du Coeur Eucharistique
CATEGORIES:Culte et prières
ATTACH;FMTTYPE=image/jpeg:https://coeur-eucharistique.net/wp-content/uploads/2023/09/SC043-scaled.jpg
END:VEVENT
BEGIN:VEVENT
DTSTART;TZID=Europe/Paris:20270801T183000
DTEND;TZID=Europe/Paris:20270801T193000
DTSTAMP:20260422T034705
CREATED:20230911T201959Z
LAST-MODIFIED:20260414T085846Z
UID:10004097-1817145000-1817148600@coeur-eucharistique.net
SUMMARY:Messe dominicale
DESCRIPTION:
URL:https://coeur-eucharistique.net/event/messe-dominicale/2027-08-01/
LOCATION:Église du Coeur Eucharistique
CATEGORIES:Culte et prières
ATTACH;FMTTYPE=image/jpeg:https://coeur-eucharistique.net/wp-content/uploads/2023/09/SC043-scaled.jpg
END:VEVENT
BEGIN:VEVENT
DTSTART;TZID=Europe/Paris:20270802T193000
DTEND;TZID=Europe/Paris:20270802T203000
DTSTAMP:20260422T034705
CREATED:20231014T090416Z
LAST-MODIFIED:20240703T155214Z
UID:10007692-1817235000-1817238600@coeur-eucharistique.net
SUMMARY:Frat des étudiants
DESCRIPTION:Petites réunions (moins d’une heure) de méditation\, de prière et de partage dans une maison\, deux ou trois soirs par mois\, pour nous soutenir dans la foi et la charité et que la Parole de Dieu illumine le coeurs des étudiants ! 👨‍🎓📚
URL:https://coeur-eucharistique.net/event/frat-des-etudiants/2027-08-02/
LOCATION:Chez Alexis\, 22 rue du Lieutenant Chauré\, Paris\, 75020\, France
CATEGORIES:Frat des étudiants,Fraternités du Cœur
ATTACH;FMTTYPE=image/jpeg:https://coeur-eucharistique.net/wp-content/uploads/2023/10/alexis-brown-omeaHbEFlN4-unsplash-scaled.jpg
END:VEVENT
BEGIN:VEVENT
DTSTART;TZID=Europe/Paris:20270803T120000
DTEND;TZID=Europe/Paris:20270803T123000
DTSTAMP:20260422T034705
CREATED:20230914T091933Z
LAST-MODIFIED:20240703T122637Z
UID:10005705-1817294400-1817296200@coeur-eucharistique.net
SUMMARY:Chapelet
DESCRIPTION:Angelus et chalet animé par Anne\, aux pieds de Notre-Dame de Lourdes\, avant la messe de 12h30.
URL:https://coeur-eucharistique.net/event/chapelet/2027-08-03/
CATEGORIES:Culte et prières
ATTACH;FMTTYPE=image/jpeg:https://coeur-eucharistique.net/wp-content/uploads/2023/09/IMG_2931.jpg
END:VEVENT
BEGIN:VEVENT
DTSTART;TZID=Europe/Paris:20270803T123000
DTEND;TZID=Europe/Paris:20270803T130000
DTSTAMP:20260422T034705
CREATED:20250521T104320Z
LAST-MODIFIED:20260313T144449Z
UID:10017319-1817296200-1817298000@coeur-eucharistique.net
SUMMARY:Messe du jour
DESCRIPTION:Célébrée dans la chapelle de la Vierge Marie\, au fond à gauche dans l’église.
URL:https://coeur-eucharistique.net/event/messe-du-jour-9-3/2027-08-03/
LOCATION:Église du Coeur Eucharistique
CATEGORIES:Culte et prières
ATTACH;FMTTYPE=image/jpeg:https://coeur-eucharistique.net/wp-content/uploads/2023/09/IMG_2967-scaled.jpg
END:VEVENT
BEGIN:VEVENT
DTSTART;TZID=Europe/Paris:20270804T123000
DTEND;TZID=Europe/Paris:20270804T130000
DTSTAMP:20260422T034705
CREATED:20250521T104320Z
LAST-MODIFIED:20260313T144449Z
UID:10017320-1817382600-1817384400@coeur-eucharistique.net
SUMMARY:Messe du jour
DESCRIPTION:Célébrée dans la chapelle de la Vierge Marie\, au fond à gauche dans l’église.
URL:https://coeur-eucharistique.net/event/messe-du-jour-9-3/2027-08-04/
LOCATION:Église du Coeur Eucharistique
CATEGORIES:Culte et prières
ATTACH;FMTTYPE=image/jpeg:https://coeur-eucharistique.net/wp-content/uploads/2023/09/IMG_2967-scaled.jpg
END:VEVENT
BEGIN:VEVENT
DTSTART;TZID=Europe/Paris:20270805T123000
DTEND;TZID=Europe/Paris:20270805T130000
DTSTAMP:20260422T034705
CREATED:20250521T104320Z
LAST-MODIFIED:20260313T144449Z
UID:10017321-1817469000-1817470800@coeur-eucharistique.net
SUMMARY:Messe du jour
DESCRIPTION:Célébrée dans la chapelle de la Vierge Marie\, au fond à gauche dans l’église.
URL:https://coeur-eucharistique.net/event/messe-du-jour-9-3/2027-08-05/
LOCATION:Église du Coeur Eucharistique
CATEGORIES:Culte et prières
ATTACH;FMTTYPE=image/jpeg:https://coeur-eucharistique.net/wp-content/uploads/2023/09/IMG_2967-scaled.jpg
END:VEVENT
BEGIN:VEVENT
DTSTART;TZID=Europe/Paris:20270805T180000
DTEND;TZID=Europe/Paris:20270805T190000
DTSTAMP:20260422T034705
CREATED:20260313T122822Z
LAST-MODIFIED:20260313T122822Z
UID:10016914-1817488800-1817492400@coeur-eucharistique.net
SUMMARY:Accueil du curé
DESCRIPTION:Le Curé reçoit directement\, sans rendez-vous\, au parloir situé sous le porche de l’église\, le jeudi de 18h à 19h\, et sur rendez-vous en rédigeant votre message (cliquez ici).
URL:https://coeur-eucharistique.net/event/accueil-du-cure/2027-08-05/
LOCATION:Église du Coeur Eucharistique
ATTACH;FMTTYPE=image/jpeg:https://coeur-eucharistique.net/wp-content/uploads/2022/04/Bandeau_au-coeur-du-monde_02.jpg
END:VEVENT
BEGIN:VEVENT
DTSTART;TZID=Europe/Paris:20270806T120000
DTEND;TZID=Europe/Paris:20270806T123000
DTSTAMP:20260422T034705
CREATED:20250320T111820Z
LAST-MODIFIED:20250320T111820Z
UID:10013570-1817553600-1817555400@coeur-eucharistique.net
SUMMARY:Angelus & Chapelet
DESCRIPTION:Angelus et chapelet animé par Anne\, aux pieds de Notre-Dame de Lourdes.
URL:https://coeur-eucharistique.net/event/angelus-chapelet/2027-08-06/
CATEGORIES:Culte et prières
ATTACH;FMTTYPE=image/jpeg:https://coeur-eucharistique.net/wp-content/uploads/2023/09/IMG_2931.jpg
END:VEVENT
BEGIN:VEVENT
DTSTART;TZID=Europe/Paris:20270806T180000
DTEND;TZID=Europe/Paris:20270806T190000
DTSTAMP:20260422T034705
CREATED:20250703T133838Z
LAST-MODIFIED:20260313T121358Z
UID:10016654-1817575200-1817578800@coeur-eucharistique.net
SUMMARY:Confession
DESCRIPTION:« Notre espérance est ferme\, puisque\, dans le Fils du Père « nous avons la rédemption\, la rémission de nos péchés » (Col 1\, 14). Le signe efficace et indubitable de son pardon\, nous le trouvons dans les sacrements de son Église. » \n Catéchisme de l’Église Catholique\, n° 2839 \n\n  \nLe sacrement de la Pénitence et de la Réconciliation est proposé à la paroisse du Coeur Eucharistique de Jésus tous les vendredis de 18h à 19h.
URL:https://coeur-eucharistique.net/event/confession-3/2027-08-06/
LOCATION:Église du Coeur Eucharistique
CATEGORIES:Confession,Culte et prières
ATTACH;FMTTYPE=image/jpeg:https://coeur-eucharistique.net/wp-content/uploads/2023/10/josh-applegate-_TgzNXPF9IM-unsplash-scaled-e1704450627851.jpg
END:VEVENT
BEGIN:VEVENT
DTSTART;TZID=Europe/Paris:20270806T190000
DTEND;TZID=Europe/Paris:20270806T200000
DTSTAMP:20260422T034705
CREATED:20260313T123232Z
LAST-MODIFIED:20260313T144310Z
UID:10018741-1817578800-1817582400@coeur-eucharistique.net
SUMMARY:Messe du jour
DESCRIPTION:Célébrée dans la chapelle de la Vierge Marie\, au fond à gauche dans l’église.
URL:https://coeur-eucharistique.net/event/messe-du-jour-2/2027-08-06/
LOCATION:Église du Coeur Eucharistique
CATEGORIES:Culte et prières
ATTACH;FMTTYPE=image/jpeg:https://coeur-eucharistique.net/wp-content/uploads/2023/09/IMG_2967-scaled.jpg
END:VEVENT
BEGIN:VEVENT
DTSTART;TZID=Europe/Paris:20270807T120000
DTEND;TZID=Europe/Paris:20270807T130000
DTSTAMP:20260422T034705
CREATED:20260313T123425Z
LAST-MODIFIED:20260313T144243Z
UID:10019262-1817640000-1817643600@coeur-eucharistique.net
SUMMARY:Messe du jour
DESCRIPTION:Célébrée dans la chapelle de la Vierge Marie\, au fond à gauche dans l’église.
URL:https://coeur-eucharistique.net/event/messe-du-jour-7/2027-08-07/
LOCATION:Église du Coeur Eucharistique
CATEGORIES:Culte et prières
ATTACH;FMTTYPE=image/jpeg:https://coeur-eucharistique.net/wp-content/uploads/2023/09/IMG_2967-scaled.jpg
END:VEVENT
END:VCALENDAR