BEGIN:VCALENDAR
VERSION:2.0
PRODID:-//Eglise du Coeur eucharistique de Jesus - ECPv6.15.20//NONSGML v1.0//EN
CALSCALE:GREGORIAN
METHOD:PUBLISH
X-ORIGINAL-URL:https://coeur-eucharistique.net
X-WR-CALDESC:Évènements pour Eglise du Coeur eucharistique de Jesus
REFRESH-INTERVAL;VALUE=DURATION:PT1H
X-Robots-Tag:noindex
X-PUBLISHED-TTL:PT1H
BEGIN:VTIMEZONE
TZID:Europe/Paris
BEGIN:DAYLIGHT
TZOFFSETFROM:+0100
TZOFFSETTO:+0200
TZNAME:CEST
DTSTART:20260329T010000
END:DAYLIGHT
BEGIN:STANDARD
TZOFFSETFROM:+0200
TZOFFSETTO:+0100
TZNAME:CET
DTSTART:20261025T010000
END:STANDARD
BEGIN:DAYLIGHT
TZOFFSETFROM:+0100
TZOFFSETTO:+0200
TZNAME:CEST
DTSTART:20270328T010000
END:DAYLIGHT
BEGIN:STANDARD
TZOFFSETFROM:+0200
TZOFFSETTO:+0100
TZNAME:CET
DTSTART:20271031T010000
END:STANDARD
BEGIN:DAYLIGHT
TZOFFSETFROM:+0100
TZOFFSETTO:+0200
TZNAME:CEST
DTSTART:20280326T010000
END:DAYLIGHT
BEGIN:STANDARD
TZOFFSETFROM:+0200
TZOFFSETTO:+0100
TZNAME:CET
DTSTART:20281029T010000
END:STANDARD
END:VTIMEZONE
BEGIN:VEVENT
DTSTART;TZID=Europe/Paris:20270406T123000
DTEND;TZID=Europe/Paris:20270406T130000
DTSTAMP:20260421T121307
CREATED:20250521T104320Z
LAST-MODIFIED:20260313T144449Z
UID:10017268-1807014600-1807016400@coeur-eucharistique.net
SUMMARY:Messe du jour
DESCRIPTION:Célébrée dans la chapelle de la Vierge Marie\, au fond à gauche dans l’église.
URL:https://coeur-eucharistique.net/event/messe-du-jour-9-3/2027-04-06/
LOCATION:Église du Coeur Eucharistique
CATEGORIES:Culte et prières
ATTACH;FMTTYPE=image/jpeg:https://coeur-eucharistique.net/wp-content/uploads/2023/09/IMG_2967-scaled.jpg
END:VEVENT
BEGIN:VEVENT
DTSTART;TZID=Europe/Paris:20270407T123000
DTEND;TZID=Europe/Paris:20270407T130000
DTSTAMP:20260421T121307
CREATED:20250521T104320Z
LAST-MODIFIED:20260313T144449Z
UID:10017269-1807101000-1807102800@coeur-eucharistique.net
SUMMARY:Messe du jour
DESCRIPTION:Célébrée dans la chapelle de la Vierge Marie\, au fond à gauche dans l’église.
URL:https://coeur-eucharistique.net/event/messe-du-jour-9-3/2027-04-07/
LOCATION:Église du Coeur Eucharistique
CATEGORIES:Culte et prières
ATTACH;FMTTYPE=image/jpeg:https://coeur-eucharistique.net/wp-content/uploads/2023/09/IMG_2967-scaled.jpg
END:VEVENT
BEGIN:VEVENT
DTSTART;TZID=Europe/Paris:20270408T123000
DTEND;TZID=Europe/Paris:20270408T130000
DTSTAMP:20260421T121307
CREATED:20250521T104320Z
LAST-MODIFIED:20260313T144449Z
UID:10017270-1807187400-1807189200@coeur-eucharistique.net
SUMMARY:Messe du jour
DESCRIPTION:Célébrée dans la chapelle de la Vierge Marie\, au fond à gauche dans l’église.
URL:https://coeur-eucharistique.net/event/messe-du-jour-9-3/2027-04-08/
LOCATION:Église du Coeur Eucharistique
CATEGORIES:Culte et prières
ATTACH;FMTTYPE=image/jpeg:https://coeur-eucharistique.net/wp-content/uploads/2023/09/IMG_2967-scaled.jpg
END:VEVENT
BEGIN:VEVENT
DTSTART;TZID=Europe/Paris:20270408T180000
DTEND;TZID=Europe/Paris:20270408T190000
DTSTAMP:20260421T121307
CREATED:20260313T122822Z
LAST-MODIFIED:20260313T122822Z
UID:10016897-1807207200-1807210800@coeur-eucharistique.net
SUMMARY:Accueil du curé
DESCRIPTION:Le Curé reçoit directement\, sans rendez-vous\, au parloir situé sous le porche de l’église\, le jeudi de 18h à 19h\, et sur rendez-vous en rédigeant votre message (cliquez ici).
URL:https://coeur-eucharistique.net/event/accueil-du-cure/2027-04-08/
LOCATION:Église du Coeur Eucharistique
ATTACH;FMTTYPE=image/jpeg:https://coeur-eucharistique.net/wp-content/uploads/2022/04/Bandeau_au-coeur-du-monde_02.jpg
END:VEVENT
BEGIN:VEVENT
DTSTART;TZID=Europe/Paris:20270409T120000
DTEND;TZID=Europe/Paris:20270409T123000
DTSTAMP:20260421T121307
CREATED:20250320T111820Z
LAST-MODIFIED:20250320T111820Z
UID:10013553-1807272000-1807273800@coeur-eucharistique.net
SUMMARY:Angelus & Chapelet
DESCRIPTION:Angelus et chapelet animé par Anne\, aux pieds de Notre-Dame de Lourdes.
URL:https://coeur-eucharistique.net/event/angelus-chapelet/2027-04-09/
CATEGORIES:Culte et prières
ATTACH;FMTTYPE=image/jpeg:https://coeur-eucharistique.net/wp-content/uploads/2023/09/IMG_2931.jpg
END:VEVENT
BEGIN:VEVENT
DTSTART;TZID=Europe/Paris:20270409T180000
DTEND;TZID=Europe/Paris:20270409T190000
DTSTAMP:20260421T121307
CREATED:20250703T133838Z
LAST-MODIFIED:20260313T121358Z
UID:10016637-1807293600-1807297200@coeur-eucharistique.net
SUMMARY:Confession
DESCRIPTION:« Notre espérance est ferme\, puisque\, dans le Fils du Père « nous avons la rédemption\, la rémission de nos péchés » (Col 1\, 14). Le signe efficace et indubitable de son pardon\, nous le trouvons dans les sacrements de son Église. » \n Catéchisme de l’Église Catholique\, n° 2839 \n\n  \nLe sacrement de la Pénitence et de la Réconciliation est proposé à la paroisse du Coeur Eucharistique de Jésus tous les vendredis de 18h à 19h.
URL:https://coeur-eucharistique.net/event/confession-3/2027-04-09/
LOCATION:Église du Coeur Eucharistique
CATEGORIES:Confession,Culte et prières
ATTACH;FMTTYPE=image/jpeg:https://coeur-eucharistique.net/wp-content/uploads/2023/10/josh-applegate-_TgzNXPF9IM-unsplash-scaled-e1704450627851.jpg
END:VEVENT
BEGIN:VEVENT
DTSTART;TZID=Europe/Paris:20270409T190000
DTEND;TZID=Europe/Paris:20270409T200000
DTSTAMP:20260421T121307
CREATED:20260313T123232Z
LAST-MODIFIED:20260313T144310Z
UID:10018724-1807297200-1807300800@coeur-eucharistique.net
SUMMARY:Messe du jour
DESCRIPTION:Célébrée dans la chapelle de la Vierge Marie\, au fond à gauche dans l’église.
URL:https://coeur-eucharistique.net/event/messe-du-jour-2/2027-04-09/
LOCATION:Église du Coeur Eucharistique
CATEGORIES:Culte et prières
ATTACH;FMTTYPE=image/jpeg:https://coeur-eucharistique.net/wp-content/uploads/2023/09/IMG_2967-scaled.jpg
END:VEVENT
BEGIN:VEVENT
DTSTART;TZID=Europe/Paris:20270410T120000
DTEND;TZID=Europe/Paris:20270410T130000
DTSTAMP:20260421T121307
CREATED:20260313T123425Z
LAST-MODIFIED:20260313T144243Z
UID:10019245-1807358400-1807362000@coeur-eucharistique.net
SUMMARY:Messe du jour
DESCRIPTION:Célébrée dans la chapelle de la Vierge Marie\, au fond à gauche dans l’église.
URL:https://coeur-eucharistique.net/event/messe-du-jour-7/2027-04-10/
LOCATION:Église du Coeur Eucharistique
CATEGORIES:Culte et prières
ATTACH;FMTTYPE=image/jpeg:https://coeur-eucharistique.net/wp-content/uploads/2023/09/IMG_2967-scaled.jpg
END:VEVENT
BEGIN:VEVENT
DTSTART;TZID=Europe/Paris:20270411T101500
DTEND;TZID=Europe/Paris:20270411T113000
DTSTAMP:20260421T121307
CREATED:20230620T145605Z
LAST-MODIFIED:20260414T090100Z
UID:10003558-1807438500-1807443000@coeur-eucharistique.net
SUMMARY:Messe dominicale
DESCRIPTION:
URL:https://coeur-eucharistique.net/event/nom-de-levenement-a-2-2/2027-04-11/
LOCATION:Église du Coeur Eucharistique
CATEGORIES:Culte et prières
ATTACH;FMTTYPE=image/jpeg:https://coeur-eucharistique.net/wp-content/uploads/2023/09/SC043-scaled.jpg
END:VEVENT
BEGIN:VEVENT
DTSTART;TZID=Europe/Paris:20270411T183000
DTEND;TZID=Europe/Paris:20270411T193000
DTSTAMP:20260421T121307
CREATED:20230911T201959Z
LAST-MODIFIED:20260414T085846Z
UID:10004081-1807468200-1807471800@coeur-eucharistique.net
SUMMARY:Messe dominicale
DESCRIPTION:
URL:https://coeur-eucharistique.net/event/messe-dominicale/2027-04-11/
LOCATION:Église du Coeur Eucharistique
CATEGORIES:Culte et prières
ATTACH;FMTTYPE=image/jpeg:https://coeur-eucharistique.net/wp-content/uploads/2023/09/SC043-scaled.jpg
END:VEVENT
BEGIN:VEVENT
DTSTART;TZID=Europe/Paris:20270412T193000
DTEND;TZID=Europe/Paris:20270412T203000
DTSTAMP:20260421T121307
CREATED:20231014T090416Z
LAST-MODIFIED:20240703T155214Z
UID:10007680-1807558200-1807561800@coeur-eucharistique.net
SUMMARY:Frat des étudiants
DESCRIPTION:Petites réunions (moins d’une heure) de méditation\, de prière et de partage dans une maison\, deux ou trois soirs par mois\, pour nous soutenir dans la foi et la charité et que la Parole de Dieu illumine le coeurs des étudiants ! 👨‍🎓📚
URL:https://coeur-eucharistique.net/event/frat-des-etudiants/2027-04-12/
LOCATION:Chez Alexis\, 22 rue du Lieutenant Chauré\, Paris\, 75020\, France
CATEGORIES:Frat des étudiants,Fraternités du Cœur
ATTACH;FMTTYPE=image/jpeg:https://coeur-eucharistique.net/wp-content/uploads/2023/10/alexis-brown-omeaHbEFlN4-unsplash-scaled.jpg
END:VEVENT
BEGIN:VEVENT
DTSTART;TZID=Europe/Paris:20270413T120000
DTEND;TZID=Europe/Paris:20270413T123000
DTSTAMP:20260421T121307
CREATED:20230914T091933Z
LAST-MODIFIED:20240703T122637Z
UID:10005689-1807617600-1807619400@coeur-eucharistique.net
SUMMARY:Chapelet
DESCRIPTION:Angelus et chalet animé par Anne\, aux pieds de Notre-Dame de Lourdes\, avant la messe de 12h30.
URL:https://coeur-eucharistique.net/event/chapelet/2027-04-13/
CATEGORIES:Culte et prières
ATTACH;FMTTYPE=image/jpeg:https://coeur-eucharistique.net/wp-content/uploads/2023/09/IMG_2931.jpg
END:VEVENT
BEGIN:VEVENT
DTSTART;TZID=Europe/Paris:20270413T123000
DTEND;TZID=Europe/Paris:20270413T130000
DTSTAMP:20260421T121307
CREATED:20250521T104320Z
LAST-MODIFIED:20260313T144449Z
UID:10017271-1807619400-1807621200@coeur-eucharistique.net
SUMMARY:Messe du jour
DESCRIPTION:Célébrée dans la chapelle de la Vierge Marie\, au fond à gauche dans l’église.
URL:https://coeur-eucharistique.net/event/messe-du-jour-9-3/2027-04-13/
LOCATION:Église du Coeur Eucharistique
CATEGORIES:Culte et prières
ATTACH;FMTTYPE=image/jpeg:https://coeur-eucharistique.net/wp-content/uploads/2023/09/IMG_2967-scaled.jpg
END:VEVENT
BEGIN:VEVENT
DTSTART;TZID=Europe/Paris:20270414T123000
DTEND;TZID=Europe/Paris:20270414T130000
DTSTAMP:20260421T121307
CREATED:20250521T104320Z
LAST-MODIFIED:20260313T144449Z
UID:10017272-1807705800-1807707600@coeur-eucharistique.net
SUMMARY:Messe du jour
DESCRIPTION:Célébrée dans la chapelle de la Vierge Marie\, au fond à gauche dans l’église.
URL:https://coeur-eucharistique.net/event/messe-du-jour-9-3/2027-04-14/
LOCATION:Église du Coeur Eucharistique
CATEGORIES:Culte et prières
ATTACH;FMTTYPE=image/jpeg:https://coeur-eucharistique.net/wp-content/uploads/2023/09/IMG_2967-scaled.jpg
END:VEVENT
BEGIN:VEVENT
DTSTART;TZID=Europe/Paris:20270415T123000
DTEND;TZID=Europe/Paris:20270415T130000
DTSTAMP:20260421T121307
CREATED:20250521T104320Z
LAST-MODIFIED:20260313T144449Z
UID:10017273-1807792200-1807794000@coeur-eucharistique.net
SUMMARY:Messe du jour
DESCRIPTION:Célébrée dans la chapelle de la Vierge Marie\, au fond à gauche dans l’église.
URL:https://coeur-eucharistique.net/event/messe-du-jour-9-3/2027-04-15/
LOCATION:Église du Coeur Eucharistique
CATEGORIES:Culte et prières
ATTACH;FMTTYPE=image/jpeg:https://coeur-eucharistique.net/wp-content/uploads/2023/09/IMG_2967-scaled.jpg
END:VEVENT
BEGIN:VEVENT
DTSTART;TZID=Europe/Paris:20270415T180000
DTEND;TZID=Europe/Paris:20270415T190000
DTSTAMP:20260421T121307
CREATED:20260313T122822Z
LAST-MODIFIED:20260313T122822Z
UID:10016898-1807812000-1807815600@coeur-eucharistique.net
SUMMARY:Accueil du curé
DESCRIPTION:Le Curé reçoit directement\, sans rendez-vous\, au parloir situé sous le porche de l’église\, le jeudi de 18h à 19h\, et sur rendez-vous en rédigeant votre message (cliquez ici).
URL:https://coeur-eucharistique.net/event/accueil-du-cure/2027-04-15/
LOCATION:Église du Coeur Eucharistique
ATTACH;FMTTYPE=image/jpeg:https://coeur-eucharistique.net/wp-content/uploads/2022/04/Bandeau_au-coeur-du-monde_02.jpg
END:VEVENT
BEGIN:VEVENT
DTSTART;TZID=Europe/Paris:20270416T120000
DTEND;TZID=Europe/Paris:20270416T123000
DTSTAMP:20260421T121307
CREATED:20250320T111820Z
LAST-MODIFIED:20250320T111820Z
UID:10013554-1807876800-1807878600@coeur-eucharistique.net
SUMMARY:Angelus & Chapelet
DESCRIPTION:Angelus et chapelet animé par Anne\, aux pieds de Notre-Dame de Lourdes.
URL:https://coeur-eucharistique.net/event/angelus-chapelet/2027-04-16/
CATEGORIES:Culte et prières
ATTACH;FMTTYPE=image/jpeg:https://coeur-eucharistique.net/wp-content/uploads/2023/09/IMG_2931.jpg
END:VEVENT
BEGIN:VEVENT
DTSTART;TZID=Europe/Paris:20270416T180000
DTEND;TZID=Europe/Paris:20270416T190000
DTSTAMP:20260421T121307
CREATED:20250703T133838Z
LAST-MODIFIED:20260313T121358Z
UID:10016638-1807898400-1807902000@coeur-eucharistique.net
SUMMARY:Confession
DESCRIPTION:« Notre espérance est ferme\, puisque\, dans le Fils du Père « nous avons la rédemption\, la rémission de nos péchés » (Col 1\, 14). Le signe efficace et indubitable de son pardon\, nous le trouvons dans les sacrements de son Église. » \n Catéchisme de l’Église Catholique\, n° 2839 \n\n  \nLe sacrement de la Pénitence et de la Réconciliation est proposé à la paroisse du Coeur Eucharistique de Jésus tous les vendredis de 18h à 19h.
URL:https://coeur-eucharistique.net/event/confession-3/2027-04-16/
LOCATION:Église du Coeur Eucharistique
CATEGORIES:Confession,Culte et prières
ATTACH;FMTTYPE=image/jpeg:https://coeur-eucharistique.net/wp-content/uploads/2023/10/josh-applegate-_TgzNXPF9IM-unsplash-scaled-e1704450627851.jpg
END:VEVENT
BEGIN:VEVENT
DTSTART;TZID=Europe/Paris:20270416T190000
DTEND;TZID=Europe/Paris:20270416T200000
DTSTAMP:20260421T121307
CREATED:20260313T123232Z
LAST-MODIFIED:20260313T144310Z
UID:10018725-1807902000-1807905600@coeur-eucharistique.net
SUMMARY:Messe du jour
DESCRIPTION:Célébrée dans la chapelle de la Vierge Marie\, au fond à gauche dans l’église.
URL:https://coeur-eucharistique.net/event/messe-du-jour-2/2027-04-16/
LOCATION:Église du Coeur Eucharistique
CATEGORIES:Culte et prières
ATTACH;FMTTYPE=image/jpeg:https://coeur-eucharistique.net/wp-content/uploads/2023/09/IMG_2967-scaled.jpg
END:VEVENT
BEGIN:VEVENT
DTSTART;TZID=Europe/Paris:20270417T120000
DTEND;TZID=Europe/Paris:20270417T130000
DTSTAMP:20260421T121307
CREATED:20260313T123425Z
LAST-MODIFIED:20260313T144243Z
UID:10019246-1807963200-1807966800@coeur-eucharistique.net
SUMMARY:Messe du jour
DESCRIPTION:Célébrée dans la chapelle de la Vierge Marie\, au fond à gauche dans l’église.
URL:https://coeur-eucharistique.net/event/messe-du-jour-7/2027-04-17/
LOCATION:Église du Coeur Eucharistique
CATEGORIES:Culte et prières
ATTACH;FMTTYPE=image/jpeg:https://coeur-eucharistique.net/wp-content/uploads/2023/09/IMG_2967-scaled.jpg
END:VEVENT
BEGIN:VEVENT
DTSTART;TZID=Europe/Paris:20270418T101500
DTEND;TZID=Europe/Paris:20270418T113000
DTSTAMP:20260421T121307
CREATED:20230620T145605Z
LAST-MODIFIED:20260414T090100Z
UID:10003559-1808043300-1808047800@coeur-eucharistique.net
SUMMARY:Messe dominicale
DESCRIPTION:
URL:https://coeur-eucharistique.net/event/nom-de-levenement-a-2-2/2027-04-18/
LOCATION:Église du Coeur Eucharistique
CATEGORIES:Culte et prières
ATTACH;FMTTYPE=image/jpeg:https://coeur-eucharistique.net/wp-content/uploads/2023/09/SC043-scaled.jpg
END:VEVENT
BEGIN:VEVENT
DTSTART;TZID=Europe/Paris:20270418T183000
DTEND;TZID=Europe/Paris:20270418T193000
DTSTAMP:20260421T121307
CREATED:20230911T201959Z
LAST-MODIFIED:20260414T085846Z
UID:10004082-1808073000-1808076600@coeur-eucharistique.net
SUMMARY:Messe dominicale
DESCRIPTION:
URL:https://coeur-eucharistique.net/event/messe-dominicale/2027-04-18/
LOCATION:Église du Coeur Eucharistique
CATEGORIES:Culte et prières
ATTACH;FMTTYPE=image/jpeg:https://coeur-eucharistique.net/wp-content/uploads/2023/09/SC043-scaled.jpg
END:VEVENT
BEGIN:VEVENT
DTSTART;TZID=Europe/Paris:20270419T193000
DTEND;TZID=Europe/Paris:20270419T203000
DTSTAMP:20260421T121307
CREATED:20231014T090416Z
LAST-MODIFIED:20240703T155214Z
UID:10008389-1808163000-1808166600@coeur-eucharistique.net
SUMMARY:Frat des étudiants
DESCRIPTION:Petites réunions (moins d’une heure) de méditation\, de prière et de partage dans une maison\, deux ou trois soirs par mois\, pour nous soutenir dans la foi et la charité et que la Parole de Dieu illumine le coeurs des étudiants ! 👨‍🎓📚
URL:https://coeur-eucharistique.net/event/frat-des-etudiants/2027-04-19/
LOCATION:Chez Alexis\, 22 rue du Lieutenant Chauré\, Paris\, 75020\, France
CATEGORIES:Frat des étudiants,Fraternités du Cœur
ATTACH;FMTTYPE=image/jpeg:https://coeur-eucharistique.net/wp-content/uploads/2023/10/alexis-brown-omeaHbEFlN4-unsplash-scaled.jpg
END:VEVENT
BEGIN:VEVENT
DTSTART;TZID=Europe/Paris:20270420T120000
DTEND;TZID=Europe/Paris:20270420T123000
DTSTAMP:20260421T121307
CREATED:20230914T091933Z
LAST-MODIFIED:20240703T122637Z
UID:10005690-1808222400-1808224200@coeur-eucharistique.net
SUMMARY:Chapelet
DESCRIPTION:Angelus et chalet animé par Anne\, aux pieds de Notre-Dame de Lourdes\, avant la messe de 12h30.
URL:https://coeur-eucharistique.net/event/chapelet/2027-04-20/
CATEGORIES:Culte et prières
ATTACH;FMTTYPE=image/jpeg:https://coeur-eucharistique.net/wp-content/uploads/2023/09/IMG_2931.jpg
END:VEVENT
BEGIN:VEVENT
DTSTART;TZID=Europe/Paris:20270420T123000
DTEND;TZID=Europe/Paris:20270420T130000
DTSTAMP:20260421T121307
CREATED:20250521T104320Z
LAST-MODIFIED:20260313T144449Z
UID:10017274-1808224200-1808226000@coeur-eucharistique.net
SUMMARY:Messe du jour
DESCRIPTION:Célébrée dans la chapelle de la Vierge Marie\, au fond à gauche dans l’église.
URL:https://coeur-eucharistique.net/event/messe-du-jour-9-3/2027-04-20/
LOCATION:Église du Coeur Eucharistique
CATEGORIES:Culte et prières
ATTACH;FMTTYPE=image/jpeg:https://coeur-eucharistique.net/wp-content/uploads/2023/09/IMG_2967-scaled.jpg
END:VEVENT
BEGIN:VEVENT
DTSTART;TZID=Europe/Paris:20270421T123000
DTEND;TZID=Europe/Paris:20270421T130000
DTSTAMP:20260421T121307
CREATED:20250521T104320Z
LAST-MODIFIED:20260313T144449Z
UID:10017275-1808310600-1808312400@coeur-eucharistique.net
SUMMARY:Messe du jour
DESCRIPTION:Célébrée dans la chapelle de la Vierge Marie\, au fond à gauche dans l’église.
URL:https://coeur-eucharistique.net/event/messe-du-jour-9-3/2027-04-21/
LOCATION:Église du Coeur Eucharistique
CATEGORIES:Culte et prières
ATTACH;FMTTYPE=image/jpeg:https://coeur-eucharistique.net/wp-content/uploads/2023/09/IMG_2967-scaled.jpg
END:VEVENT
BEGIN:VEVENT
DTSTART;TZID=Europe/Paris:20270422T123000
DTEND;TZID=Europe/Paris:20270422T130000
DTSTAMP:20260421T121307
CREATED:20250521T104320Z
LAST-MODIFIED:20260313T144449Z
UID:10017276-1808397000-1808398800@coeur-eucharistique.net
SUMMARY:Messe du jour
DESCRIPTION:Célébrée dans la chapelle de la Vierge Marie\, au fond à gauche dans l’église.
URL:https://coeur-eucharistique.net/event/messe-du-jour-9-3/2027-04-22/
LOCATION:Église du Coeur Eucharistique
CATEGORIES:Culte et prières
ATTACH;FMTTYPE=image/jpeg:https://coeur-eucharistique.net/wp-content/uploads/2023/09/IMG_2967-scaled.jpg
END:VEVENT
BEGIN:VEVENT
DTSTART;TZID=Europe/Paris:20270422T180000
DTEND;TZID=Europe/Paris:20270422T190000
DTSTAMP:20260421T121307
CREATED:20260313T122822Z
LAST-MODIFIED:20260313T122822Z
UID:10016899-1808416800-1808420400@coeur-eucharistique.net
SUMMARY:Accueil du curé
DESCRIPTION:Le Curé reçoit directement\, sans rendez-vous\, au parloir situé sous le porche de l’église\, le jeudi de 18h à 19h\, et sur rendez-vous en rédigeant votre message (cliquez ici).
URL:https://coeur-eucharistique.net/event/accueil-du-cure/2027-04-22/
LOCATION:Église du Coeur Eucharistique
ATTACH;FMTTYPE=image/jpeg:https://coeur-eucharistique.net/wp-content/uploads/2022/04/Bandeau_au-coeur-du-monde_02.jpg
END:VEVENT
BEGIN:VEVENT
DTSTART;TZID=Europe/Paris:20270423T120000
DTEND;TZID=Europe/Paris:20270423T123000
DTSTAMP:20260421T121307
CREATED:20250320T111820Z
LAST-MODIFIED:20250320T111820Z
UID:10013555-1808481600-1808483400@coeur-eucharistique.net
SUMMARY:Angelus & Chapelet
DESCRIPTION:Angelus et chapelet animé par Anne\, aux pieds de Notre-Dame de Lourdes.
URL:https://coeur-eucharistique.net/event/angelus-chapelet/2027-04-23/
CATEGORIES:Culte et prières
ATTACH;FMTTYPE=image/jpeg:https://coeur-eucharistique.net/wp-content/uploads/2023/09/IMG_2931.jpg
END:VEVENT
BEGIN:VEVENT
DTSTART;TZID=Europe/Paris:20270423T180000
DTEND;TZID=Europe/Paris:20270423T190000
DTSTAMP:20260421T121307
CREATED:20250703T133838Z
LAST-MODIFIED:20260313T121358Z
UID:10016639-1808503200-1808506800@coeur-eucharistique.net
SUMMARY:Confession
DESCRIPTION:« Notre espérance est ferme\, puisque\, dans le Fils du Père « nous avons la rédemption\, la rémission de nos péchés » (Col 1\, 14). Le signe efficace et indubitable de son pardon\, nous le trouvons dans les sacrements de son Église. » \n Catéchisme de l’Église Catholique\, n° 2839 \n\n  \nLe sacrement de la Pénitence et de la Réconciliation est proposé à la paroisse du Coeur Eucharistique de Jésus tous les vendredis de 18h à 19h.
URL:https://coeur-eucharistique.net/event/confession-3/2027-04-23/
LOCATION:Église du Coeur Eucharistique
CATEGORIES:Confession,Culte et prières
ATTACH;FMTTYPE=image/jpeg:https://coeur-eucharistique.net/wp-content/uploads/2023/10/josh-applegate-_TgzNXPF9IM-unsplash-scaled-e1704450627851.jpg
END:VEVENT
END:VCALENDAR