BEGIN:VCALENDAR
VERSION:2.0
PRODID:-//Eglise du Coeur eucharistique de Jesus - ECPv6.15.20//NONSGML v1.0//EN
CALSCALE:GREGORIAN
METHOD:PUBLISH
X-WR-CALNAME:Eglise du Coeur eucharistique de Jesus
X-ORIGINAL-URL:https://coeur-eucharistique.net
X-WR-CALDESC:Évènements pour Eglise du Coeur eucharistique de Jesus
REFRESH-INTERVAL;VALUE=DURATION:PT1H
X-Robots-Tag:noindex
X-PUBLISHED-TTL:PT1H
BEGIN:VTIMEZONE
TZID:Europe/Paris
BEGIN:DAYLIGHT
TZOFFSETFROM:+0100
TZOFFSETTO:+0200
TZNAME:CEST
DTSTART:20220327T010000
END:DAYLIGHT
BEGIN:STANDARD
TZOFFSETFROM:+0200
TZOFFSETTO:+0100
TZNAME:CET
DTSTART:20221030T010000
END:STANDARD
BEGIN:DAYLIGHT
TZOFFSETFROM:+0100
TZOFFSETTO:+0200
TZNAME:CEST
DTSTART:20230326T010000
END:DAYLIGHT
BEGIN:STANDARD
TZOFFSETFROM:+0200
TZOFFSETTO:+0100
TZNAME:CET
DTSTART:20231029T010000
END:STANDARD
BEGIN:DAYLIGHT
TZOFFSETFROM:+0100
TZOFFSETTO:+0200
TZNAME:CEST
DTSTART:20240331T010000
END:DAYLIGHT
BEGIN:STANDARD
TZOFFSETFROM:+0200
TZOFFSETTO:+0100
TZNAME:CET
DTSTART:20241027T010000
END:STANDARD
END:VTIMEZONE
BEGIN:VEVENT
DTSTART;TZID=Europe/Paris:20231108T203000
DTEND;TZID=Europe/Paris:20231108T223000
DTSTAMP:20260421T121533
CREATED:20231014T082937Z
LAST-MODIFIED:20231014T083355Z
UID:10007029-1699475400-1699482600@coeur-eucharistique.net
SUMMARY:Venez & Voyez
DESCRIPTION:
URL:https://coeur-eucharistique.net/event/venez-et-voyez/2023-11-08/
LOCATION:Salle Saint Louis\, 22 Rue du Lieutenant Chauré\, Paris\, 75020\, France
CATEGORIES:Venez et voyez
ATTACH;FMTTYPE=image/jpeg:https://coeur-eucharistique.net/wp-content/uploads/2023/10/jen-theodore-C6LzqZakyp4-unsplash-1.jpg
END:VEVENT
BEGIN:VEVENT
DTSTART;TZID=Europe/Paris:20231115T203000
DTEND;TZID=Europe/Paris:20231115T223000
DTSTAMP:20260421T121533
CREATED:20231014T082937Z
LAST-MODIFIED:20231014T083355Z
UID:10007030-1700080200-1700087400@coeur-eucharistique.net
SUMMARY:Venez & Voyez
DESCRIPTION:
URL:https://coeur-eucharistique.net/event/venez-et-voyez/2023-11-15/
LOCATION:Salle Saint Louis\, 22 Rue du Lieutenant Chauré\, Paris\, 75020\, France
CATEGORIES:Venez et voyez
ATTACH;FMTTYPE=image/jpeg:https://coeur-eucharistique.net/wp-content/uploads/2023/10/jen-theodore-C6LzqZakyp4-unsplash-1.jpg
END:VEVENT
BEGIN:VEVENT
DTSTART;TZID=Europe/Paris:20231122T203000
DTEND;TZID=Europe/Paris:20231122T223000
DTSTAMP:20260421T121533
CREATED:20231014T082937Z
LAST-MODIFIED:20231014T083355Z
UID:10007031-1700685000-1700692200@coeur-eucharistique.net
SUMMARY:Venez & Voyez
DESCRIPTION:
URL:https://coeur-eucharistique.net/event/venez-et-voyez/2023-11-22/
LOCATION:Salle Saint Louis\, 22 Rue du Lieutenant Chauré\, Paris\, 75020\, France
CATEGORIES:Venez et voyez
ATTACH;FMTTYPE=image/jpeg:https://coeur-eucharistique.net/wp-content/uploads/2023/10/jen-theodore-C6LzqZakyp4-unsplash-1.jpg
END:VEVENT
BEGIN:VEVENT
DTSTART;TZID=Europe/Paris:20231129T203000
DTEND;TZID=Europe/Paris:20231129T223000
DTSTAMP:20260421T121533
CREATED:20231014T082937Z
LAST-MODIFIED:20231014T083355Z
UID:10007032-1701289800-1701297000@coeur-eucharistique.net
SUMMARY:Venez & Voyez
DESCRIPTION:
URL:https://coeur-eucharistique.net/event/venez-et-voyez/2023-11-29/
LOCATION:Salle Saint Louis\, 22 Rue du Lieutenant Chauré\, Paris\, 75020\, France
CATEGORIES:Venez et voyez
ATTACH;FMTTYPE=image/jpeg:https://coeur-eucharistique.net/wp-content/uploads/2023/10/jen-theodore-C6LzqZakyp4-unsplash-1.jpg
END:VEVENT
END:VCALENDAR