BEGIN:VCALENDAR
VERSION:2.0
PRODID:-//Eglise du Coeur eucharistique de Jesus - ECPv6.15.20//NONSGML v1.0//EN
CALSCALE:GREGORIAN
METHOD:PUBLISH
X-WR-CALNAME:Eglise du Coeur eucharistique de Jesus
X-ORIGINAL-URL:https://coeur-eucharistique.net
X-WR-CALDESC:Évènements pour Eglise du Coeur eucharistique de Jesus
REFRESH-INTERVAL;VALUE=DURATION:PT1H
X-Robots-Tag:noindex
X-PUBLISHED-TTL:PT1H
BEGIN:VTIMEZONE
TZID:Europe/Paris
BEGIN:DAYLIGHT
TZOFFSETFROM:+0100
TZOFFSETTO:+0200
TZNAME:CEST
DTSTART:20290325T010000
END:DAYLIGHT
BEGIN:STANDARD
TZOFFSETFROM:+0200
TZOFFSETTO:+0100
TZNAME:CET
DTSTART:20291028T010000
END:STANDARD
BEGIN:DAYLIGHT
TZOFFSETFROM:+0100
TZOFFSETTO:+0200
TZNAME:CEST
DTSTART:20300331T010000
END:DAYLIGHT
BEGIN:STANDARD
TZOFFSETFROM:+0200
TZOFFSETTO:+0100
TZNAME:CET
DTSTART:20301027T010000
END:STANDARD
BEGIN:DAYLIGHT
TZOFFSETFROM:+0100
TZOFFSETTO:+0200
TZNAME:CEST
DTSTART:20310330T010000
END:DAYLIGHT
BEGIN:STANDARD
TZOFFSETFROM:+0200
TZOFFSETTO:+0100
TZNAME:CET
DTSTART:20311026T010000
END:STANDARD
END:VTIMEZONE
BEGIN:VEVENT
DTSTART;TZID=Europe/Paris:20300116T123000
DTEND;TZID=Europe/Paris:20300116T130000
DTSTAMP:20260422T063323
CREATED:20250521T104320Z
LAST-MODIFIED:20260313T144449Z
UID:10017704-1894797000-1894798800@coeur-eucharistique.net
SUMMARY:Messe du jour
DESCRIPTION:Célébrée dans la chapelle de la Vierge Marie\, au fond à gauche dans l’église.
URL:https://coeur-eucharistique.net/event/messe-du-jour-9-3/2030-01-16/
LOCATION:Église du Coeur Eucharistique
CATEGORIES:Culte et prières
ATTACH;FMTTYPE=image/jpeg:https://coeur-eucharistique.net/wp-content/uploads/2023/09/IMG_2967-scaled.jpg
END:VEVENT
BEGIN:VEVENT
DTSTART;TZID=Europe/Paris:20300117T123000
DTEND;TZID=Europe/Paris:20300117T130000
DTSTAMP:20260422T063323
CREATED:20250521T104320Z
LAST-MODIFIED:20260313T144449Z
UID:10017705-1894883400-1894885200@coeur-eucharistique.net
SUMMARY:Messe du jour
DESCRIPTION:Célébrée dans la chapelle de la Vierge Marie\, au fond à gauche dans l’église.
URL:https://coeur-eucharistique.net/event/messe-du-jour-9-3/2030-01-17/
LOCATION:Église du Coeur Eucharistique
CATEGORIES:Culte et prières
ATTACH;FMTTYPE=image/jpeg:https://coeur-eucharistique.net/wp-content/uploads/2023/09/IMG_2967-scaled.jpg
END:VEVENT
BEGIN:VEVENT
DTSTART;TZID=Europe/Paris:20300118T120000
DTEND;TZID=Europe/Paris:20300118T123000
DTSTAMP:20260422T063323
CREATED:20250320T111820Z
LAST-MODIFIED:20250320T111820Z
UID:10013698-1894968000-1894969800@coeur-eucharistique.net
SUMMARY:Angelus & Chapelet
DESCRIPTION:Angelus et chapelet animé par Anne\, aux pieds de Notre-Dame de Lourdes.
URL:https://coeur-eucharistique.net/event/angelus-chapelet/2030-01-18/
CATEGORIES:Culte et prières
ATTACH;FMTTYPE=image/jpeg:https://coeur-eucharistique.net/wp-content/uploads/2023/09/IMG_2931.jpg
END:VEVENT
BEGIN:VEVENT
DTSTART;TZID=Europe/Paris:20300118T180000
DTEND;TZID=Europe/Paris:20300118T190000
DTSTAMP:20260422T063323
CREATED:20250703T133838Z
LAST-MODIFIED:20260313T121358Z
UID:10016782-1894989600-1894993200@coeur-eucharistique.net
SUMMARY:Confession
DESCRIPTION:« Notre espérance est ferme\, puisque\, dans le Fils du Père « nous avons la rédemption\, la rémission de nos péchés » (Col 1\, 14). Le signe efficace et indubitable de son pardon\, nous le trouvons dans les sacrements de son Église. » \n Catéchisme de l’Église Catholique\, n° 2839 \n\n  \nLe sacrement de la Pénitence et de la Réconciliation est proposé à la paroisse du Coeur Eucharistique de Jésus tous les vendredis de 18h à 19h.
URL:https://coeur-eucharistique.net/event/confession-3/2030-01-18/
LOCATION:Église du Coeur Eucharistique
CATEGORIES:Confession,Culte et prières
ATTACH;FMTTYPE=image/jpeg:https://coeur-eucharistique.net/wp-content/uploads/2023/10/josh-applegate-_TgzNXPF9IM-unsplash-scaled-e1704450627851.jpg
END:VEVENT
BEGIN:VEVENT
DTSTART;TZID=Europe/Paris:20300118T190000
DTEND;TZID=Europe/Paris:20300118T200000
DTSTAMP:20260422T063323
CREATED:20260313T123232Z
LAST-MODIFIED:20260313T144310Z
UID:10018869-1894993200-1894996800@coeur-eucharistique.net
SUMMARY:Messe du jour
DESCRIPTION:Célébrée dans la chapelle de la Vierge Marie\, au fond à gauche dans l’église.
URL:https://coeur-eucharistique.net/event/messe-du-jour-2/2030-01-18/
LOCATION:Église du Coeur Eucharistique
CATEGORIES:Culte et prières
ATTACH;FMTTYPE=image/jpeg:https://coeur-eucharistique.net/wp-content/uploads/2023/09/IMG_2967-scaled.jpg
END:VEVENT
BEGIN:VEVENT
DTSTART;TZID=Europe/Paris:20300119T120000
DTEND;TZID=Europe/Paris:20300119T130000
DTSTAMP:20260422T063323
CREATED:20260313T123425Z
LAST-MODIFIED:20260313T144243Z
UID:10019390-1895054400-1895058000@coeur-eucharistique.net
SUMMARY:Messe du jour
DESCRIPTION:Célébrée dans la chapelle de la Vierge Marie\, au fond à gauche dans l’église.
URL:https://coeur-eucharistique.net/event/messe-du-jour-7/2030-01-19/
LOCATION:Église du Coeur Eucharistique
CATEGORIES:Culte et prières
ATTACH;FMTTYPE=image/jpeg:https://coeur-eucharistique.net/wp-content/uploads/2023/09/IMG_2967-scaled.jpg
END:VEVENT
BEGIN:VEVENT
DTSTART;TZID=Europe/Paris:20300120T101500
DTEND;TZID=Europe/Paris:20300120T113000
DTSTAMP:20260422T063323
CREATED:20230620T145605Z
LAST-MODIFIED:20260414T090100Z
UID:10013303-1895134500-1895139000@coeur-eucharistique.net
SUMMARY:Messe dominicale
DESCRIPTION:
URL:https://coeur-eucharistique.net/event/nom-de-levenement-a-2-2/2030-01-20/
LOCATION:Église du Coeur Eucharistique
CATEGORIES:Culte et prières
ATTACH;FMTTYPE=image/jpeg:https://coeur-eucharistique.net/wp-content/uploads/2023/09/SC043-scaled.jpg
END:VEVENT
BEGIN:VEVENT
DTSTART;TZID=Europe/Paris:20300120T183000
DTEND;TZID=Europe/Paris:20300120T193000
DTSTAMP:20260422T063323
CREATED:20230911T201959Z
LAST-MODIFIED:20260414T085846Z
UID:10013393-1895164200-1895167800@coeur-eucharistique.net
SUMMARY:Messe dominicale
DESCRIPTION:
URL:https://coeur-eucharistique.net/event/messe-dominicale/2030-01-20/
LOCATION:Église du Coeur Eucharistique
CATEGORIES:Culte et prières
ATTACH;FMTTYPE=image/jpeg:https://coeur-eucharistique.net/wp-content/uploads/2023/09/SC043-scaled.jpg
END:VEVENT
BEGIN:VEVENT
DTSTART;TZID=Europe/Paris:20300122T123000
DTEND;TZID=Europe/Paris:20300122T130000
DTSTAMP:20260422T063323
CREATED:20250521T104320Z
LAST-MODIFIED:20260313T144449Z
UID:10017706-1895315400-1895317200@coeur-eucharistique.net
SUMMARY:Messe du jour
DESCRIPTION:Célébrée dans la chapelle de la Vierge Marie\, au fond à gauche dans l’église.
URL:https://coeur-eucharistique.net/event/messe-du-jour-9-3/2030-01-22/
LOCATION:Église du Coeur Eucharistique
CATEGORIES:Culte et prières
ATTACH;FMTTYPE=image/jpeg:https://coeur-eucharistique.net/wp-content/uploads/2023/09/IMG_2967-scaled.jpg
END:VEVENT
BEGIN:VEVENT
DTSTART;TZID=Europe/Paris:20300123T123000
DTEND;TZID=Europe/Paris:20300123T130000
DTSTAMP:20260422T063323
CREATED:20250521T104320Z
LAST-MODIFIED:20260313T144449Z
UID:10017707-1895401800-1895403600@coeur-eucharistique.net
SUMMARY:Messe du jour
DESCRIPTION:Célébrée dans la chapelle de la Vierge Marie\, au fond à gauche dans l’église.
URL:https://coeur-eucharistique.net/event/messe-du-jour-9-3/2030-01-23/
LOCATION:Église du Coeur Eucharistique
CATEGORIES:Culte et prières
ATTACH;FMTTYPE=image/jpeg:https://coeur-eucharistique.net/wp-content/uploads/2023/09/IMG_2967-scaled.jpg
END:VEVENT
BEGIN:VEVENT
DTSTART;TZID=Europe/Paris:20300124T123000
DTEND;TZID=Europe/Paris:20300124T130000
DTSTAMP:20260422T063323
CREATED:20250521T104320Z
LAST-MODIFIED:20260313T144449Z
UID:10017708-1895488200-1895490000@coeur-eucharistique.net
SUMMARY:Messe du jour
DESCRIPTION:Célébrée dans la chapelle de la Vierge Marie\, au fond à gauche dans l’église.
URL:https://coeur-eucharistique.net/event/messe-du-jour-9-3/2030-01-24/
LOCATION:Église du Coeur Eucharistique
CATEGORIES:Culte et prières
ATTACH;FMTTYPE=image/jpeg:https://coeur-eucharistique.net/wp-content/uploads/2023/09/IMG_2967-scaled.jpg
END:VEVENT
BEGIN:VEVENT
DTSTART;TZID=Europe/Paris:20300125T120000
DTEND;TZID=Europe/Paris:20300125T123000
DTSTAMP:20260422T063323
CREATED:20250320T111820Z
LAST-MODIFIED:20250320T111820Z
UID:10013699-1895572800-1895574600@coeur-eucharistique.net
SUMMARY:Angelus & Chapelet
DESCRIPTION:Angelus et chapelet animé par Anne\, aux pieds de Notre-Dame de Lourdes.
URL:https://coeur-eucharistique.net/event/angelus-chapelet/2030-01-25/
CATEGORIES:Culte et prières
ATTACH;FMTTYPE=image/jpeg:https://coeur-eucharistique.net/wp-content/uploads/2023/09/IMG_2931.jpg
END:VEVENT
BEGIN:VEVENT
DTSTART;TZID=Europe/Paris:20300125T180000
DTEND;TZID=Europe/Paris:20300125T190000
DTSTAMP:20260422T063323
CREATED:20250703T133838Z
LAST-MODIFIED:20260313T121358Z
UID:10016783-1895594400-1895598000@coeur-eucharistique.net
SUMMARY:Confession
DESCRIPTION:« Notre espérance est ferme\, puisque\, dans le Fils du Père « nous avons la rédemption\, la rémission de nos péchés » (Col 1\, 14). Le signe efficace et indubitable de son pardon\, nous le trouvons dans les sacrements de son Église. » \n Catéchisme de l’Église Catholique\, n° 2839 \n\n  \nLe sacrement de la Pénitence et de la Réconciliation est proposé à la paroisse du Coeur Eucharistique de Jésus tous les vendredis de 18h à 19h.
URL:https://coeur-eucharistique.net/event/confession-3/2030-01-25/
LOCATION:Église du Coeur Eucharistique
CATEGORIES:Confession,Culte et prières
ATTACH;FMTTYPE=image/jpeg:https://coeur-eucharistique.net/wp-content/uploads/2023/10/josh-applegate-_TgzNXPF9IM-unsplash-scaled-e1704450627851.jpg
END:VEVENT
BEGIN:VEVENT
DTSTART;TZID=Europe/Paris:20300125T190000
DTEND;TZID=Europe/Paris:20300125T200000
DTSTAMP:20260422T063323
CREATED:20260313T123232Z
LAST-MODIFIED:20260313T144310Z
UID:10018870-1895598000-1895601600@coeur-eucharistique.net
SUMMARY:Messe du jour
DESCRIPTION:Célébrée dans la chapelle de la Vierge Marie\, au fond à gauche dans l’église.
URL:https://coeur-eucharistique.net/event/messe-du-jour-2/2030-01-25/
LOCATION:Église du Coeur Eucharistique
CATEGORIES:Culte et prières
ATTACH;FMTTYPE=image/jpeg:https://coeur-eucharistique.net/wp-content/uploads/2023/09/IMG_2967-scaled.jpg
END:VEVENT
BEGIN:VEVENT
DTSTART;TZID=Europe/Paris:20300126T120000
DTEND;TZID=Europe/Paris:20300126T130000
DTSTAMP:20260422T063323
CREATED:20260313T123425Z
LAST-MODIFIED:20260313T144243Z
UID:10019391-1895659200-1895662800@coeur-eucharistique.net
SUMMARY:Messe du jour
DESCRIPTION:Célébrée dans la chapelle de la Vierge Marie\, au fond à gauche dans l’église.
URL:https://coeur-eucharistique.net/event/messe-du-jour-7/2030-01-26/
LOCATION:Église du Coeur Eucharistique
CATEGORIES:Culte et prières
ATTACH;FMTTYPE=image/jpeg:https://coeur-eucharistique.net/wp-content/uploads/2023/09/IMG_2967-scaled.jpg
END:VEVENT
BEGIN:VEVENT
DTSTART;TZID=Europe/Paris:20300127T101500
DTEND;TZID=Europe/Paris:20300127T113000
DTSTAMP:20260422T063323
CREATED:20230620T145605Z
LAST-MODIFIED:20260414T090100Z
UID:10013304-1895739300-1895743800@coeur-eucharistique.net
SUMMARY:Messe dominicale
DESCRIPTION:
URL:https://coeur-eucharistique.net/event/nom-de-levenement-a-2-2/2030-01-27/
LOCATION:Église du Coeur Eucharistique
CATEGORIES:Culte et prières
ATTACH;FMTTYPE=image/jpeg:https://coeur-eucharistique.net/wp-content/uploads/2023/09/SC043-scaled.jpg
END:VEVENT
BEGIN:VEVENT
DTSTART;TZID=Europe/Paris:20300127T183000
DTEND;TZID=Europe/Paris:20300127T193000
DTSTAMP:20260422T063323
CREATED:20230911T201959Z
LAST-MODIFIED:20260414T085846Z
UID:10013394-1895769000-1895772600@coeur-eucharistique.net
SUMMARY:Messe dominicale
DESCRIPTION:
URL:https://coeur-eucharistique.net/event/messe-dominicale/2030-01-27/
LOCATION:Église du Coeur Eucharistique
CATEGORIES:Culte et prières
ATTACH;FMTTYPE=image/jpeg:https://coeur-eucharistique.net/wp-content/uploads/2023/09/SC043-scaled.jpg
END:VEVENT
BEGIN:VEVENT
DTSTART;TZID=Europe/Paris:20300129T123000
DTEND;TZID=Europe/Paris:20300129T130000
DTSTAMP:20260422T063323
CREATED:20250521T104320Z
LAST-MODIFIED:20260313T144449Z
UID:10017709-1895920200-1895922000@coeur-eucharistique.net
SUMMARY:Messe du jour
DESCRIPTION:Célébrée dans la chapelle de la Vierge Marie\, au fond à gauche dans l’église.
URL:https://coeur-eucharistique.net/event/messe-du-jour-9-3/2030-01-29/
LOCATION:Église du Coeur Eucharistique
CATEGORIES:Culte et prières
ATTACH;FMTTYPE=image/jpeg:https://coeur-eucharistique.net/wp-content/uploads/2023/09/IMG_2967-scaled.jpg
END:VEVENT
BEGIN:VEVENT
DTSTART;TZID=Europe/Paris:20300130T123000
DTEND;TZID=Europe/Paris:20300130T130000
DTSTAMP:20260422T063323
CREATED:20250521T104320Z
LAST-MODIFIED:20260313T144449Z
UID:10017710-1896006600-1896008400@coeur-eucharistique.net
SUMMARY:Messe du jour
DESCRIPTION:Célébrée dans la chapelle de la Vierge Marie\, au fond à gauche dans l’église.
URL:https://coeur-eucharistique.net/event/messe-du-jour-9-3/2030-01-30/
LOCATION:Église du Coeur Eucharistique
CATEGORIES:Culte et prières
ATTACH;FMTTYPE=image/jpeg:https://coeur-eucharistique.net/wp-content/uploads/2023/09/IMG_2967-scaled.jpg
END:VEVENT
BEGIN:VEVENT
DTSTART;TZID=Europe/Paris:20300131T123000
DTEND;TZID=Europe/Paris:20300131T130000
DTSTAMP:20260422T063323
CREATED:20250521T104320Z
LAST-MODIFIED:20260313T144449Z
UID:10017711-1896093000-1896094800@coeur-eucharistique.net
SUMMARY:Messe du jour
DESCRIPTION:Célébrée dans la chapelle de la Vierge Marie\, au fond à gauche dans l’église.
URL:https://coeur-eucharistique.net/event/messe-du-jour-9-3/2030-01-31/
LOCATION:Église du Coeur Eucharistique
CATEGORIES:Culte et prières
ATTACH;FMTTYPE=image/jpeg:https://coeur-eucharistique.net/wp-content/uploads/2023/09/IMG_2967-scaled.jpg
END:VEVENT
BEGIN:VEVENT
DTSTART;TZID=Europe/Paris:20300201T120000
DTEND;TZID=Europe/Paris:20300201T123000
DTSTAMP:20260422T063323
CREATED:20250320T111820Z
LAST-MODIFIED:20250320T111820Z
UID:10013700-1896177600-1896179400@coeur-eucharistique.net
SUMMARY:Angelus & Chapelet
DESCRIPTION:Angelus et chapelet animé par Anne\, aux pieds de Notre-Dame de Lourdes.
URL:https://coeur-eucharistique.net/event/angelus-chapelet/2030-02-01/
CATEGORIES:Culte et prières
ATTACH;FMTTYPE=image/jpeg:https://coeur-eucharistique.net/wp-content/uploads/2023/09/IMG_2931.jpg
END:VEVENT
BEGIN:VEVENT
DTSTART;TZID=Europe/Paris:20300201T180000
DTEND;TZID=Europe/Paris:20300201T190000
DTSTAMP:20260422T063323
CREATED:20250703T133838Z
LAST-MODIFIED:20260313T121358Z
UID:10016784-1896199200-1896202800@coeur-eucharistique.net
SUMMARY:Confession
DESCRIPTION:« Notre espérance est ferme\, puisque\, dans le Fils du Père « nous avons la rédemption\, la rémission de nos péchés » (Col 1\, 14). Le signe efficace et indubitable de son pardon\, nous le trouvons dans les sacrements de son Église. » \n Catéchisme de l’Église Catholique\, n° 2839 \n\n  \nLe sacrement de la Pénitence et de la Réconciliation est proposé à la paroisse du Coeur Eucharistique de Jésus tous les vendredis de 18h à 19h.
URL:https://coeur-eucharistique.net/event/confession-3/2030-02-01/
LOCATION:Église du Coeur Eucharistique
CATEGORIES:Confession,Culte et prières
ATTACH;FMTTYPE=image/jpeg:https://coeur-eucharistique.net/wp-content/uploads/2023/10/josh-applegate-_TgzNXPF9IM-unsplash-scaled-e1704450627851.jpg
END:VEVENT
BEGIN:VEVENT
DTSTART;TZID=Europe/Paris:20300201T190000
DTEND;TZID=Europe/Paris:20300201T200000
DTSTAMP:20260422T063323
CREATED:20260313T123232Z
LAST-MODIFIED:20260313T144310Z
UID:10018871-1896202800-1896206400@coeur-eucharistique.net
SUMMARY:Messe du jour
DESCRIPTION:Célébrée dans la chapelle de la Vierge Marie\, au fond à gauche dans l’église.
URL:https://coeur-eucharistique.net/event/messe-du-jour-2/2030-02-01/
LOCATION:Église du Coeur Eucharistique
CATEGORIES:Culte et prières
ATTACH;FMTTYPE=image/jpeg:https://coeur-eucharistique.net/wp-content/uploads/2023/09/IMG_2967-scaled.jpg
END:VEVENT
BEGIN:VEVENT
DTSTART;TZID=Europe/Paris:20300202T120000
DTEND;TZID=Europe/Paris:20300202T130000
DTSTAMP:20260422T063323
CREATED:20260313T123425Z
LAST-MODIFIED:20260313T144243Z
UID:10019392-1896264000-1896267600@coeur-eucharistique.net
SUMMARY:Messe du jour
DESCRIPTION:Célébrée dans la chapelle de la Vierge Marie\, au fond à gauche dans l’église.
URL:https://coeur-eucharistique.net/event/messe-du-jour-7/2030-02-02/
LOCATION:Église du Coeur Eucharistique
CATEGORIES:Culte et prières
ATTACH;FMTTYPE=image/jpeg:https://coeur-eucharistique.net/wp-content/uploads/2023/09/IMG_2967-scaled.jpg
END:VEVENT
BEGIN:VEVENT
DTSTART;TZID=Europe/Paris:20300203T101500
DTEND;TZID=Europe/Paris:20300203T113000
DTSTAMP:20260422T063323
CREATED:20230620T145605Z
LAST-MODIFIED:20260414T090100Z
UID:10013305-1896344100-1896348600@coeur-eucharistique.net
SUMMARY:Messe dominicale
DESCRIPTION:
URL:https://coeur-eucharistique.net/event/nom-de-levenement-a-2-2/2030-02-03/
LOCATION:Église du Coeur Eucharistique
CATEGORIES:Culte et prières
ATTACH;FMTTYPE=image/jpeg:https://coeur-eucharistique.net/wp-content/uploads/2023/09/SC043-scaled.jpg
END:VEVENT
BEGIN:VEVENT
DTSTART;TZID=Europe/Paris:20300203T183000
DTEND;TZID=Europe/Paris:20300203T193000
DTSTAMP:20260422T063323
CREATED:20230911T201959Z
LAST-MODIFIED:20260414T085846Z
UID:10013395-1896373800-1896377400@coeur-eucharistique.net
SUMMARY:Messe dominicale
DESCRIPTION:
URL:https://coeur-eucharistique.net/event/messe-dominicale/2030-02-03/
LOCATION:Église du Coeur Eucharistique
CATEGORIES:Culte et prières
ATTACH;FMTTYPE=image/jpeg:https://coeur-eucharistique.net/wp-content/uploads/2023/09/SC043-scaled.jpg
END:VEVENT
BEGIN:VEVENT
DTSTART;TZID=Europe/Paris:20300205T123000
DTEND;TZID=Europe/Paris:20300205T130000
DTSTAMP:20260422T063323
CREATED:20250521T104320Z
LAST-MODIFIED:20260313T144449Z
UID:10017712-1896525000-1896526800@coeur-eucharistique.net
SUMMARY:Messe du jour
DESCRIPTION:Célébrée dans la chapelle de la Vierge Marie\, au fond à gauche dans l’église.
URL:https://coeur-eucharistique.net/event/messe-du-jour-9-3/2030-02-05/
LOCATION:Église du Coeur Eucharistique
CATEGORIES:Culte et prières
ATTACH;FMTTYPE=image/jpeg:https://coeur-eucharistique.net/wp-content/uploads/2023/09/IMG_2967-scaled.jpg
END:VEVENT
BEGIN:VEVENT
DTSTART;TZID=Europe/Paris:20300206T123000
DTEND;TZID=Europe/Paris:20300206T130000
DTSTAMP:20260422T063323
CREATED:20250521T104320Z
LAST-MODIFIED:20260313T144449Z
UID:10017713-1896611400-1896613200@coeur-eucharistique.net
SUMMARY:Messe du jour
DESCRIPTION:Célébrée dans la chapelle de la Vierge Marie\, au fond à gauche dans l’église.
URL:https://coeur-eucharistique.net/event/messe-du-jour-9-3/2030-02-06/
LOCATION:Église du Coeur Eucharistique
CATEGORIES:Culte et prières
ATTACH;FMTTYPE=image/jpeg:https://coeur-eucharistique.net/wp-content/uploads/2023/09/IMG_2967-scaled.jpg
END:VEVENT
BEGIN:VEVENT
DTSTART;TZID=Europe/Paris:20300207T123000
DTEND;TZID=Europe/Paris:20300207T130000
DTSTAMP:20260422T063323
CREATED:20250521T104320Z
LAST-MODIFIED:20260313T144449Z
UID:10017714-1896697800-1896699600@coeur-eucharistique.net
SUMMARY:Messe du jour
DESCRIPTION:Célébrée dans la chapelle de la Vierge Marie\, au fond à gauche dans l’église.
URL:https://coeur-eucharistique.net/event/messe-du-jour-9-3/2030-02-07/
LOCATION:Église du Coeur Eucharistique
CATEGORIES:Culte et prières
ATTACH;FMTTYPE=image/jpeg:https://coeur-eucharistique.net/wp-content/uploads/2023/09/IMG_2967-scaled.jpg
END:VEVENT
BEGIN:VEVENT
DTSTART;TZID=Europe/Paris:20300208T120000
DTEND;TZID=Europe/Paris:20300208T123000
DTSTAMP:20260422T063323
CREATED:20250320T111820Z
LAST-MODIFIED:20250320T111820Z
UID:10013701-1896782400-1896784200@coeur-eucharistique.net
SUMMARY:Angelus & Chapelet
DESCRIPTION:Angelus et chapelet animé par Anne\, aux pieds de Notre-Dame de Lourdes.
URL:https://coeur-eucharistique.net/event/angelus-chapelet/2030-02-08/
CATEGORIES:Culte et prières
ATTACH;FMTTYPE=image/jpeg:https://coeur-eucharistique.net/wp-content/uploads/2023/09/IMG_2931.jpg
END:VEVENT
END:VCALENDAR