BEGIN:VCALENDAR
VERSION:2.0
PRODID:-//Eglise du Coeur eucharistique de Jesus - ECPv6.15.20//NONSGML v1.0//EN
CALSCALE:GREGORIAN
METHOD:PUBLISH
X-ORIGINAL-URL:https://coeur-eucharistique.net
X-WR-CALDESC:Évènements pour Eglise du Coeur eucharistique de Jesus
REFRESH-INTERVAL;VALUE=DURATION:PT1H
X-Robots-Tag:noindex
X-PUBLISHED-TTL:PT1H
BEGIN:VTIMEZONE
TZID:Europe/Paris
BEGIN:DAYLIGHT
TZOFFSETFROM:+0100
TZOFFSETTO:+0200
TZNAME:CEST
DTSTART:20280326T010000
END:DAYLIGHT
BEGIN:STANDARD
TZOFFSETFROM:+0200
TZOFFSETTO:+0100
TZNAME:CET
DTSTART:20281029T010000
END:STANDARD
BEGIN:DAYLIGHT
TZOFFSETFROM:+0100
TZOFFSETTO:+0200
TZNAME:CEST
DTSTART:20290325T010000
END:DAYLIGHT
BEGIN:STANDARD
TZOFFSETFROM:+0200
TZOFFSETTO:+0100
TZNAME:CET
DTSTART:20291028T010000
END:STANDARD
BEGIN:DAYLIGHT
TZOFFSETFROM:+0100
TZOFFSETTO:+0200
TZNAME:CEST
DTSTART:20300331T010000
END:DAYLIGHT
BEGIN:STANDARD
TZOFFSETFROM:+0200
TZOFFSETTO:+0100
TZNAME:CET
DTSTART:20301027T010000
END:STANDARD
END:VTIMEZONE
BEGIN:VEVENT
DTSTART;TZID=Europe/Paris:20291115T123000
DTEND;TZID=Europe/Paris:20291115T130000
DTSTAMP:20260421T233821
CREATED:20250521T104320Z
LAST-MODIFIED:20260313T144449Z
UID:10017678-1889440200-1889442000@coeur-eucharistique.net
SUMMARY:Messe du jour
DESCRIPTION:Célébrée dans la chapelle de la Vierge Marie\, au fond à gauche dans l’église.
URL:https://coeur-eucharistique.net/event/messe-du-jour-9-3/2029-11-15/
LOCATION:Église du Coeur Eucharistique
CATEGORIES:Culte et prières
ATTACH;FMTTYPE=image/jpeg:https://coeur-eucharistique.net/wp-content/uploads/2023/09/IMG_2967-scaled.jpg
END:VEVENT
BEGIN:VEVENT
DTSTART;TZID=Europe/Paris:20291116T120000
DTEND;TZID=Europe/Paris:20291116T123000
DTSTAMP:20260421T233822
CREATED:20250320T111820Z
LAST-MODIFIED:20250320T111820Z
UID:10013689-1889524800-1889526600@coeur-eucharistique.net
SUMMARY:Angelus & Chapelet
DESCRIPTION:Angelus et chapelet animé par Anne\, aux pieds de Notre-Dame de Lourdes.
URL:https://coeur-eucharistique.net/event/angelus-chapelet/2029-11-16/
CATEGORIES:Culte et prières
ATTACH;FMTTYPE=image/jpeg:https://coeur-eucharistique.net/wp-content/uploads/2023/09/IMG_2931.jpg
END:VEVENT
BEGIN:VEVENT
DTSTART;TZID=Europe/Paris:20291116T180000
DTEND;TZID=Europe/Paris:20291116T190000
DTSTAMP:20260421T233822
CREATED:20250703T133838Z
LAST-MODIFIED:20260313T121358Z
UID:10016773-1889546400-1889550000@coeur-eucharistique.net
SUMMARY:Confession
DESCRIPTION:« Notre espérance est ferme\, puisque\, dans le Fils du Père « nous avons la rédemption\, la rémission de nos péchés » (Col 1\, 14). Le signe efficace et indubitable de son pardon\, nous le trouvons dans les sacrements de son Église. » \n Catéchisme de l’Église Catholique\, n° 2839 \n\n  \nLe sacrement de la Pénitence et de la Réconciliation est proposé à la paroisse du Coeur Eucharistique de Jésus tous les vendredis de 18h à 19h.
URL:https://coeur-eucharistique.net/event/confession-3/2029-11-16/
LOCATION:Église du Coeur Eucharistique
CATEGORIES:Confession,Culte et prières
ATTACH;FMTTYPE=image/jpeg:https://coeur-eucharistique.net/wp-content/uploads/2023/10/josh-applegate-_TgzNXPF9IM-unsplash-scaled-e1704450627851.jpg
END:VEVENT
BEGIN:VEVENT
DTSTART;TZID=Europe/Paris:20291116T190000
DTEND;TZID=Europe/Paris:20291116T200000
DTSTAMP:20260421T233822
CREATED:20260313T123232Z
LAST-MODIFIED:20260313T144310Z
UID:10018860-1889550000-1889553600@coeur-eucharistique.net
SUMMARY:Messe du jour
DESCRIPTION:Célébrée dans la chapelle de la Vierge Marie\, au fond à gauche dans l’église.
URL:https://coeur-eucharistique.net/event/messe-du-jour-2/2029-11-16/
LOCATION:Église du Coeur Eucharistique
CATEGORIES:Culte et prières
ATTACH;FMTTYPE=image/jpeg:https://coeur-eucharistique.net/wp-content/uploads/2023/09/IMG_2967-scaled.jpg
END:VEVENT
BEGIN:VEVENT
DTSTART;TZID=Europe/Paris:20291117T120000
DTEND;TZID=Europe/Paris:20291117T130000
DTSTAMP:20260421T233822
CREATED:20260313T123425Z
LAST-MODIFIED:20260313T144243Z
UID:10019381-1889611200-1889614800@coeur-eucharistique.net
SUMMARY:Messe du jour
DESCRIPTION:Célébrée dans la chapelle de la Vierge Marie\, au fond à gauche dans l’église.
URL:https://coeur-eucharistique.net/event/messe-du-jour-7/2029-11-17/
LOCATION:Église du Coeur Eucharistique
CATEGORIES:Culte et prières
ATTACH;FMTTYPE=image/jpeg:https://coeur-eucharistique.net/wp-content/uploads/2023/09/IMG_2967-scaled.jpg
END:VEVENT
BEGIN:VEVENT
DTSTART;TZID=Europe/Paris:20291118T101500
DTEND;TZID=Europe/Paris:20291118T113000
DTSTAMP:20260421T233822
CREATED:20230620T145605Z
LAST-MODIFIED:20260414T090100Z
UID:10013294-1889691300-1889695800@coeur-eucharistique.net
SUMMARY:Messe dominicale
DESCRIPTION:
URL:https://coeur-eucharistique.net/event/nom-de-levenement-a-2-2/2029-11-18/
LOCATION:Église du Coeur Eucharistique
CATEGORIES:Culte et prières
ATTACH;FMTTYPE=image/jpeg:https://coeur-eucharistique.net/wp-content/uploads/2023/09/SC043-scaled.jpg
END:VEVENT
BEGIN:VEVENT
DTSTART;TZID=Europe/Paris:20291118T183000
DTEND;TZID=Europe/Paris:20291118T193000
DTSTAMP:20260421T233822
CREATED:20230911T201959Z
LAST-MODIFIED:20260414T085846Z
UID:10013384-1889721000-1889724600@coeur-eucharistique.net
SUMMARY:Messe dominicale
DESCRIPTION:
URL:https://coeur-eucharistique.net/event/messe-dominicale/2029-11-18/
LOCATION:Église du Coeur Eucharistique
CATEGORIES:Culte et prières
ATTACH;FMTTYPE=image/jpeg:https://coeur-eucharistique.net/wp-content/uploads/2023/09/SC043-scaled.jpg
END:VEVENT
BEGIN:VEVENT
DTSTART;TZID=Europe/Paris:20291120T123000
DTEND;TZID=Europe/Paris:20291120T130000
DTSTAMP:20260421T233822
CREATED:20250521T104320Z
LAST-MODIFIED:20260313T144449Z
UID:10017679-1889872200-1889874000@coeur-eucharistique.net
SUMMARY:Messe du jour
DESCRIPTION:Célébrée dans la chapelle de la Vierge Marie\, au fond à gauche dans l’église.
URL:https://coeur-eucharistique.net/event/messe-du-jour-9-3/2029-11-20/
LOCATION:Église du Coeur Eucharistique
CATEGORIES:Culte et prières
ATTACH;FMTTYPE=image/jpeg:https://coeur-eucharistique.net/wp-content/uploads/2023/09/IMG_2967-scaled.jpg
END:VEVENT
BEGIN:VEVENT
DTSTART;TZID=Europe/Paris:20291121T123000
DTEND;TZID=Europe/Paris:20291121T130000
DTSTAMP:20260421T233822
CREATED:20250521T104320Z
LAST-MODIFIED:20260313T144449Z
UID:10017680-1889958600-1889960400@coeur-eucharistique.net
SUMMARY:Messe du jour
DESCRIPTION:Célébrée dans la chapelle de la Vierge Marie\, au fond à gauche dans l’église.
URL:https://coeur-eucharistique.net/event/messe-du-jour-9-3/2029-11-21/
LOCATION:Église du Coeur Eucharistique
CATEGORIES:Culte et prières
ATTACH;FMTTYPE=image/jpeg:https://coeur-eucharistique.net/wp-content/uploads/2023/09/IMG_2967-scaled.jpg
END:VEVENT
BEGIN:VEVENT
DTSTART;TZID=Europe/Paris:20291122T123000
DTEND;TZID=Europe/Paris:20291122T130000
DTSTAMP:20260421T233822
CREATED:20250521T104320Z
LAST-MODIFIED:20260313T144449Z
UID:10017681-1890045000-1890046800@coeur-eucharistique.net
SUMMARY:Messe du jour
DESCRIPTION:Célébrée dans la chapelle de la Vierge Marie\, au fond à gauche dans l’église.
URL:https://coeur-eucharistique.net/event/messe-du-jour-9-3/2029-11-22/
LOCATION:Église du Coeur Eucharistique
CATEGORIES:Culte et prières
ATTACH;FMTTYPE=image/jpeg:https://coeur-eucharistique.net/wp-content/uploads/2023/09/IMG_2967-scaled.jpg
END:VEVENT
BEGIN:VEVENT
DTSTART;TZID=Europe/Paris:20291123T120000
DTEND;TZID=Europe/Paris:20291123T123000
DTSTAMP:20260421T233822
CREATED:20250320T111820Z
LAST-MODIFIED:20250320T111820Z
UID:10013690-1890129600-1890131400@coeur-eucharistique.net
SUMMARY:Angelus & Chapelet
DESCRIPTION:Angelus et chapelet animé par Anne\, aux pieds de Notre-Dame de Lourdes.
URL:https://coeur-eucharistique.net/event/angelus-chapelet/2029-11-23/
CATEGORIES:Culte et prières
ATTACH;FMTTYPE=image/jpeg:https://coeur-eucharistique.net/wp-content/uploads/2023/09/IMG_2931.jpg
END:VEVENT
BEGIN:VEVENT
DTSTART;TZID=Europe/Paris:20291123T180000
DTEND;TZID=Europe/Paris:20291123T190000
DTSTAMP:20260421T233822
CREATED:20250703T133838Z
LAST-MODIFIED:20260313T121358Z
UID:10016774-1890151200-1890154800@coeur-eucharistique.net
SUMMARY:Confession
DESCRIPTION:« Notre espérance est ferme\, puisque\, dans le Fils du Père « nous avons la rédemption\, la rémission de nos péchés » (Col 1\, 14). Le signe efficace et indubitable de son pardon\, nous le trouvons dans les sacrements de son Église. » \n Catéchisme de l’Église Catholique\, n° 2839 \n\n  \nLe sacrement de la Pénitence et de la Réconciliation est proposé à la paroisse du Coeur Eucharistique de Jésus tous les vendredis de 18h à 19h.
URL:https://coeur-eucharistique.net/event/confession-3/2029-11-23/
LOCATION:Église du Coeur Eucharistique
CATEGORIES:Confession,Culte et prières
ATTACH;FMTTYPE=image/jpeg:https://coeur-eucharistique.net/wp-content/uploads/2023/10/josh-applegate-_TgzNXPF9IM-unsplash-scaled-e1704450627851.jpg
END:VEVENT
BEGIN:VEVENT
DTSTART;TZID=Europe/Paris:20291123T190000
DTEND;TZID=Europe/Paris:20291123T200000
DTSTAMP:20260421T233822
CREATED:20260313T123232Z
LAST-MODIFIED:20260313T144310Z
UID:10018861-1890154800-1890158400@coeur-eucharistique.net
SUMMARY:Messe du jour
DESCRIPTION:Célébrée dans la chapelle de la Vierge Marie\, au fond à gauche dans l’église.
URL:https://coeur-eucharistique.net/event/messe-du-jour-2/2029-11-23/
LOCATION:Église du Coeur Eucharistique
CATEGORIES:Culte et prières
ATTACH;FMTTYPE=image/jpeg:https://coeur-eucharistique.net/wp-content/uploads/2023/09/IMG_2967-scaled.jpg
END:VEVENT
BEGIN:VEVENT
DTSTART;TZID=Europe/Paris:20291124T120000
DTEND;TZID=Europe/Paris:20291124T130000
DTSTAMP:20260421T233822
CREATED:20260313T123425Z
LAST-MODIFIED:20260313T144243Z
UID:10019382-1890216000-1890219600@coeur-eucharistique.net
SUMMARY:Messe du jour
DESCRIPTION:Célébrée dans la chapelle de la Vierge Marie\, au fond à gauche dans l’église.
URL:https://coeur-eucharistique.net/event/messe-du-jour-7/2029-11-24/
LOCATION:Église du Coeur Eucharistique
CATEGORIES:Culte et prières
ATTACH;FMTTYPE=image/jpeg:https://coeur-eucharistique.net/wp-content/uploads/2023/09/IMG_2967-scaled.jpg
END:VEVENT
BEGIN:VEVENT
DTSTART;TZID=Europe/Paris:20291125T101500
DTEND;TZID=Europe/Paris:20291125T113000
DTSTAMP:20260421T233822
CREATED:20230620T145605Z
LAST-MODIFIED:20260414T090100Z
UID:10013295-1890296100-1890300600@coeur-eucharistique.net
SUMMARY:Messe dominicale
DESCRIPTION:
URL:https://coeur-eucharistique.net/event/nom-de-levenement-a-2-2/2029-11-25/
LOCATION:Église du Coeur Eucharistique
CATEGORIES:Culte et prières
ATTACH;FMTTYPE=image/jpeg:https://coeur-eucharistique.net/wp-content/uploads/2023/09/SC043-scaled.jpg
END:VEVENT
BEGIN:VEVENT
DTSTART;TZID=Europe/Paris:20291125T183000
DTEND;TZID=Europe/Paris:20291125T193000
DTSTAMP:20260421T233822
CREATED:20230911T201959Z
LAST-MODIFIED:20260414T085846Z
UID:10013385-1890325800-1890329400@coeur-eucharistique.net
SUMMARY:Messe dominicale
DESCRIPTION:
URL:https://coeur-eucharistique.net/event/messe-dominicale/2029-11-25/
LOCATION:Église du Coeur Eucharistique
CATEGORIES:Culte et prières
ATTACH;FMTTYPE=image/jpeg:https://coeur-eucharistique.net/wp-content/uploads/2023/09/SC043-scaled.jpg
END:VEVENT
BEGIN:VEVENT
DTSTART;TZID=Europe/Paris:20291127T123000
DTEND;TZID=Europe/Paris:20291127T130000
DTSTAMP:20260421T233822
CREATED:20250521T104320Z
LAST-MODIFIED:20260313T144449Z
UID:10017682-1890477000-1890478800@coeur-eucharistique.net
SUMMARY:Messe du jour
DESCRIPTION:Célébrée dans la chapelle de la Vierge Marie\, au fond à gauche dans l’église.
URL:https://coeur-eucharistique.net/event/messe-du-jour-9-3/2029-11-27/
LOCATION:Église du Coeur Eucharistique
CATEGORIES:Culte et prières
ATTACH;FMTTYPE=image/jpeg:https://coeur-eucharistique.net/wp-content/uploads/2023/09/IMG_2967-scaled.jpg
END:VEVENT
BEGIN:VEVENT
DTSTART;TZID=Europe/Paris:20291128T123000
DTEND;TZID=Europe/Paris:20291128T130000
DTSTAMP:20260421T233822
CREATED:20250521T104320Z
LAST-MODIFIED:20260313T144449Z
UID:10017683-1890563400-1890565200@coeur-eucharistique.net
SUMMARY:Messe du jour
DESCRIPTION:Célébrée dans la chapelle de la Vierge Marie\, au fond à gauche dans l’église.
URL:https://coeur-eucharistique.net/event/messe-du-jour-9-3/2029-11-28/
LOCATION:Église du Coeur Eucharistique
CATEGORIES:Culte et prières
ATTACH;FMTTYPE=image/jpeg:https://coeur-eucharistique.net/wp-content/uploads/2023/09/IMG_2967-scaled.jpg
END:VEVENT
BEGIN:VEVENT
DTSTART;TZID=Europe/Paris:20291129T123000
DTEND;TZID=Europe/Paris:20291129T130000
DTSTAMP:20260421T233822
CREATED:20250521T104320Z
LAST-MODIFIED:20260313T144449Z
UID:10017684-1890649800-1890651600@coeur-eucharistique.net
SUMMARY:Messe du jour
DESCRIPTION:Célébrée dans la chapelle de la Vierge Marie\, au fond à gauche dans l’église.
URL:https://coeur-eucharistique.net/event/messe-du-jour-9-3/2029-11-29/
LOCATION:Église du Coeur Eucharistique
CATEGORIES:Culte et prières
ATTACH;FMTTYPE=image/jpeg:https://coeur-eucharistique.net/wp-content/uploads/2023/09/IMG_2967-scaled.jpg
END:VEVENT
BEGIN:VEVENT
DTSTART;TZID=Europe/Paris:20291130T120000
DTEND;TZID=Europe/Paris:20291130T123000
DTSTAMP:20260421T233822
CREATED:20250320T111820Z
LAST-MODIFIED:20250320T111820Z
UID:10013691-1890734400-1890736200@coeur-eucharistique.net
SUMMARY:Angelus & Chapelet
DESCRIPTION:Angelus et chapelet animé par Anne\, aux pieds de Notre-Dame de Lourdes.
URL:https://coeur-eucharistique.net/event/angelus-chapelet/2029-11-30/
CATEGORIES:Culte et prières
ATTACH;FMTTYPE=image/jpeg:https://coeur-eucharistique.net/wp-content/uploads/2023/09/IMG_2931.jpg
END:VEVENT
BEGIN:VEVENT
DTSTART;TZID=Europe/Paris:20291130T180000
DTEND;TZID=Europe/Paris:20291130T190000
DTSTAMP:20260421T233822
CREATED:20250703T133838Z
LAST-MODIFIED:20260313T121358Z
UID:10016775-1890756000-1890759600@coeur-eucharistique.net
SUMMARY:Confession
DESCRIPTION:« Notre espérance est ferme\, puisque\, dans le Fils du Père « nous avons la rédemption\, la rémission de nos péchés » (Col 1\, 14). Le signe efficace et indubitable de son pardon\, nous le trouvons dans les sacrements de son Église. » \n Catéchisme de l’Église Catholique\, n° 2839 \n\n  \nLe sacrement de la Pénitence et de la Réconciliation est proposé à la paroisse du Coeur Eucharistique de Jésus tous les vendredis de 18h à 19h.
URL:https://coeur-eucharistique.net/event/confession-3/2029-11-30/
LOCATION:Église du Coeur Eucharistique
CATEGORIES:Confession,Culte et prières
ATTACH;FMTTYPE=image/jpeg:https://coeur-eucharistique.net/wp-content/uploads/2023/10/josh-applegate-_TgzNXPF9IM-unsplash-scaled-e1704450627851.jpg
END:VEVENT
BEGIN:VEVENT
DTSTART;TZID=Europe/Paris:20291130T190000
DTEND;TZID=Europe/Paris:20291130T200000
DTSTAMP:20260421T233822
CREATED:20260313T123232Z
LAST-MODIFIED:20260313T144310Z
UID:10018862-1890759600-1890763200@coeur-eucharistique.net
SUMMARY:Messe du jour
DESCRIPTION:Célébrée dans la chapelle de la Vierge Marie\, au fond à gauche dans l’église.
URL:https://coeur-eucharistique.net/event/messe-du-jour-2/2029-11-30/
LOCATION:Église du Coeur Eucharistique
CATEGORIES:Culte et prières
ATTACH;FMTTYPE=image/jpeg:https://coeur-eucharistique.net/wp-content/uploads/2023/09/IMG_2967-scaled.jpg
END:VEVENT
BEGIN:VEVENT
DTSTART;TZID=Europe/Paris:20291201T120000
DTEND;TZID=Europe/Paris:20291201T130000
DTSTAMP:20260421T233822
CREATED:20260313T123425Z
LAST-MODIFIED:20260313T144243Z
UID:10019383-1890820800-1890824400@coeur-eucharistique.net
SUMMARY:Messe du jour
DESCRIPTION:Célébrée dans la chapelle de la Vierge Marie\, au fond à gauche dans l’église.
URL:https://coeur-eucharistique.net/event/messe-du-jour-7/2029-12-01/
LOCATION:Église du Coeur Eucharistique
CATEGORIES:Culte et prières
ATTACH;FMTTYPE=image/jpeg:https://coeur-eucharistique.net/wp-content/uploads/2023/09/IMG_2967-scaled.jpg
END:VEVENT
BEGIN:VEVENT
DTSTART;TZID=Europe/Paris:20291202T101500
DTEND;TZID=Europe/Paris:20291202T113000
DTSTAMP:20260421T233822
CREATED:20230620T145605Z
LAST-MODIFIED:20260414T090100Z
UID:10013296-1890900900-1890905400@coeur-eucharistique.net
SUMMARY:Messe dominicale
DESCRIPTION:
URL:https://coeur-eucharistique.net/event/nom-de-levenement-a-2-2/2029-12-02/
LOCATION:Église du Coeur Eucharistique
CATEGORIES:Culte et prières
ATTACH;FMTTYPE=image/jpeg:https://coeur-eucharistique.net/wp-content/uploads/2023/09/SC043-scaled.jpg
END:VEVENT
BEGIN:VEVENT
DTSTART;TZID=Europe/Paris:20291202T183000
DTEND;TZID=Europe/Paris:20291202T193000
DTSTAMP:20260421T233822
CREATED:20230911T201959Z
LAST-MODIFIED:20260414T085846Z
UID:10013386-1890930600-1890934200@coeur-eucharistique.net
SUMMARY:Messe dominicale
DESCRIPTION:
URL:https://coeur-eucharistique.net/event/messe-dominicale/2029-12-02/
LOCATION:Église du Coeur Eucharistique
CATEGORIES:Culte et prières
ATTACH;FMTTYPE=image/jpeg:https://coeur-eucharistique.net/wp-content/uploads/2023/09/SC043-scaled.jpg
END:VEVENT
BEGIN:VEVENT
DTSTART;TZID=Europe/Paris:20291204T123000
DTEND;TZID=Europe/Paris:20291204T130000
DTSTAMP:20260421T233822
CREATED:20250521T104320Z
LAST-MODIFIED:20260313T144449Z
UID:10017685-1891081800-1891083600@coeur-eucharistique.net
SUMMARY:Messe du jour
DESCRIPTION:Célébrée dans la chapelle de la Vierge Marie\, au fond à gauche dans l’église.
URL:https://coeur-eucharistique.net/event/messe-du-jour-9-3/2029-12-04/
LOCATION:Église du Coeur Eucharistique
CATEGORIES:Culte et prières
ATTACH;FMTTYPE=image/jpeg:https://coeur-eucharistique.net/wp-content/uploads/2023/09/IMG_2967-scaled.jpg
END:VEVENT
BEGIN:VEVENT
DTSTART;TZID=Europe/Paris:20291205T123000
DTEND;TZID=Europe/Paris:20291205T130000
DTSTAMP:20260421T233822
CREATED:20250521T104320Z
LAST-MODIFIED:20260313T144449Z
UID:10017686-1891168200-1891170000@coeur-eucharistique.net
SUMMARY:Messe du jour
DESCRIPTION:Célébrée dans la chapelle de la Vierge Marie\, au fond à gauche dans l’église.
URL:https://coeur-eucharistique.net/event/messe-du-jour-9-3/2029-12-05/
LOCATION:Église du Coeur Eucharistique
CATEGORIES:Culte et prières
ATTACH;FMTTYPE=image/jpeg:https://coeur-eucharistique.net/wp-content/uploads/2023/09/IMG_2967-scaled.jpg
END:VEVENT
BEGIN:VEVENT
DTSTART;TZID=Europe/Paris:20291206T123000
DTEND;TZID=Europe/Paris:20291206T130000
DTSTAMP:20260421T233822
CREATED:20250521T104320Z
LAST-MODIFIED:20260313T144449Z
UID:10017687-1891254600-1891256400@coeur-eucharistique.net
SUMMARY:Messe du jour
DESCRIPTION:Célébrée dans la chapelle de la Vierge Marie\, au fond à gauche dans l’église.
URL:https://coeur-eucharistique.net/event/messe-du-jour-9-3/2029-12-06/
LOCATION:Église du Coeur Eucharistique
CATEGORIES:Culte et prières
ATTACH;FMTTYPE=image/jpeg:https://coeur-eucharistique.net/wp-content/uploads/2023/09/IMG_2967-scaled.jpg
END:VEVENT
BEGIN:VEVENT
DTSTART;TZID=Europe/Paris:20291207T120000
DTEND;TZID=Europe/Paris:20291207T123000
DTSTAMP:20260421T233822
CREATED:20250320T111820Z
LAST-MODIFIED:20250320T111820Z
UID:10013692-1891339200-1891341000@coeur-eucharistique.net
SUMMARY:Angelus & Chapelet
DESCRIPTION:Angelus et chapelet animé par Anne\, aux pieds de Notre-Dame de Lourdes.
URL:https://coeur-eucharistique.net/event/angelus-chapelet/2029-12-07/
CATEGORIES:Culte et prières
ATTACH;FMTTYPE=image/jpeg:https://coeur-eucharistique.net/wp-content/uploads/2023/09/IMG_2931.jpg
END:VEVENT
BEGIN:VEVENT
DTSTART;TZID=Europe/Paris:20291207T180000
DTEND;TZID=Europe/Paris:20291207T190000
DTSTAMP:20260421T233822
CREATED:20250703T133838Z
LAST-MODIFIED:20260313T121358Z
UID:10016776-1891360800-1891364400@coeur-eucharistique.net
SUMMARY:Confession
DESCRIPTION:« Notre espérance est ferme\, puisque\, dans le Fils du Père « nous avons la rédemption\, la rémission de nos péchés » (Col 1\, 14). Le signe efficace et indubitable de son pardon\, nous le trouvons dans les sacrements de son Église. » \n Catéchisme de l’Église Catholique\, n° 2839 \n\n  \nLe sacrement de la Pénitence et de la Réconciliation est proposé à la paroisse du Coeur Eucharistique de Jésus tous les vendredis de 18h à 19h.
URL:https://coeur-eucharistique.net/event/confession-3/2029-12-07/
LOCATION:Église du Coeur Eucharistique
CATEGORIES:Confession,Culte et prières
ATTACH;FMTTYPE=image/jpeg:https://coeur-eucharistique.net/wp-content/uploads/2023/10/josh-applegate-_TgzNXPF9IM-unsplash-scaled-e1704450627851.jpg
END:VEVENT
END:VCALENDAR