BEGIN:VCALENDAR
VERSION:2.0
PRODID:-//Eglise du Coeur eucharistique de Jesus - ECPv6.15.20//NONSGML v1.0//EN
CALSCALE:GREGORIAN
METHOD:PUBLISH
X-WR-CALNAME:Eglise du Coeur eucharistique de Jesus
X-ORIGINAL-URL:https://coeur-eucharistique.net
X-WR-CALDESC:Évènements pour Eglise du Coeur eucharistique de Jesus
REFRESH-INTERVAL;VALUE=DURATION:PT1H
X-Robots-Tag:noindex
X-PUBLISHED-TTL:PT1H
BEGIN:VTIMEZONE
TZID:Europe/Paris
BEGIN:DAYLIGHT
TZOFFSETFROM:+0100
TZOFFSETTO:+0200
TZNAME:CEST
DTSTART:20290325T010000
END:DAYLIGHT
BEGIN:STANDARD
TZOFFSETFROM:+0200
TZOFFSETTO:+0100
TZNAME:CET
DTSTART:20291028T010000
END:STANDARD
BEGIN:DAYLIGHT
TZOFFSETFROM:+0100
TZOFFSETTO:+0200
TZNAME:CEST
DTSTART:20300331T010000
END:DAYLIGHT
BEGIN:STANDARD
TZOFFSETFROM:+0200
TZOFFSETTO:+0100
TZNAME:CET
DTSTART:20301027T010000
END:STANDARD
BEGIN:DAYLIGHT
TZOFFSETFROM:+0100
TZOFFSETTO:+0200
TZNAME:CEST
DTSTART:20310330T010000
END:DAYLIGHT
BEGIN:STANDARD
TZOFFSETFROM:+0200
TZOFFSETTO:+0100
TZNAME:CET
DTSTART:20311026T010000
END:STANDARD
END:VTIMEZONE
BEGIN:VEVENT
DTSTART;TZID=Europe/Paris:20301101T180000
DTEND;TZID=Europe/Paris:20301101T190000
DTSTAMP:20260421T170541
CREATED:20250703T133838Z
LAST-MODIFIED:20260313T121358Z
UID:10016823-1919786400-1919790000@coeur-eucharistique.net
SUMMARY:Confession
DESCRIPTION:« Notre espérance est ferme\, puisque\, dans le Fils du Père « nous avons la rédemption\, la rémission de nos péchés » (Col 1\, 14). Le signe efficace et indubitable de son pardon\, nous le trouvons dans les sacrements de son Église. » \n Catéchisme de l’Église Catholique\, n° 2839 \n\n  \nLe sacrement de la Pénitence et de la Réconciliation est proposé à la paroisse du Coeur Eucharistique de Jésus tous les vendredis de 18h à 19h.
URL:https://coeur-eucharistique.net/event/confession-3/2030-11-01/
LOCATION:Église du Coeur Eucharistique
CATEGORIES:Confession,Culte et prières
ATTACH;FMTTYPE=image/jpeg:https://coeur-eucharistique.net/wp-content/uploads/2023/10/josh-applegate-_TgzNXPF9IM-unsplash-scaled-e1704450627851.jpg
END:VEVENT
BEGIN:VEVENT
DTSTART;TZID=Europe/Paris:20301101T190000
DTEND;TZID=Europe/Paris:20301101T200000
DTSTAMP:20260421T170541
CREATED:20260313T123232Z
LAST-MODIFIED:20260313T144310Z
UID:10018910-1919790000-1919793600@coeur-eucharistique.net
SUMMARY:Messe du jour
DESCRIPTION:Célébrée dans la chapelle de la Vierge Marie\, au fond à gauche dans l’église.
URL:https://coeur-eucharistique.net/event/messe-du-jour-2/2030-11-01/
LOCATION:Église du Coeur Eucharistique
CATEGORIES:Culte et prières
ATTACH;FMTTYPE=image/jpeg:https://coeur-eucharistique.net/wp-content/uploads/2023/09/IMG_2967-scaled.jpg
END:VEVENT
BEGIN:VEVENT
DTSTART;TZID=Europe/Paris:20301102T120000
DTEND;TZID=Europe/Paris:20301102T130000
DTSTAMP:20260421T170541
CREATED:20260313T123425Z
LAST-MODIFIED:20260313T144243Z
UID:10019431-1919851200-1919854800@coeur-eucharistique.net
SUMMARY:Messe du jour
DESCRIPTION:Célébrée dans la chapelle de la Vierge Marie\, au fond à gauche dans l’église.
URL:https://coeur-eucharistique.net/event/messe-du-jour-7/2030-11-02/
LOCATION:Église du Coeur Eucharistique
CATEGORIES:Culte et prières
ATTACH;FMTTYPE=image/jpeg:https://coeur-eucharistique.net/wp-content/uploads/2023/09/IMG_2967-scaled.jpg
END:VEVENT
BEGIN:VEVENT
DTSTART;TZID=Europe/Paris:20301103T101500
DTEND;TZID=Europe/Paris:20301103T113000
DTSTAMP:20260421T170541
CREATED:20230620T145605Z
LAST-MODIFIED:20260414T090100Z
UID:10020051-1919931300-1919935800@coeur-eucharistique.net
SUMMARY:Messe dominicale
DESCRIPTION:
URL:https://coeur-eucharistique.net/event/nom-de-levenement-a-2-2/2030-11-03/
LOCATION:Église du Coeur Eucharistique
CATEGORIES:Culte et prières
ATTACH;FMTTYPE=image/jpeg:https://coeur-eucharistique.net/wp-content/uploads/2023/09/SC043-scaled.jpg
END:VEVENT
BEGIN:VEVENT
DTSTART;TZID=Europe/Paris:20301103T183000
DTEND;TZID=Europe/Paris:20301103T193000
DTSTAMP:20260421T170541
CREATED:20230911T201959Z
LAST-MODIFIED:20260414T085846Z
UID:10019990-1919961000-1919964600@coeur-eucharistique.net
SUMMARY:Messe dominicale
DESCRIPTION:
URL:https://coeur-eucharistique.net/event/messe-dominicale/2030-11-03/
LOCATION:Église du Coeur Eucharistique
CATEGORIES:Culte et prières
ATTACH;FMTTYPE=image/jpeg:https://coeur-eucharistique.net/wp-content/uploads/2023/09/SC043-scaled.jpg
END:VEVENT
BEGIN:VEVENT
DTSTART;TZID=Europe/Paris:20301105T123000
DTEND;TZID=Europe/Paris:20301105T130000
DTSTAMP:20260421T170541
CREATED:20250521T104320Z
LAST-MODIFIED:20260313T144449Z
UID:10017829-1920112200-1920114000@coeur-eucharistique.net
SUMMARY:Messe du jour
DESCRIPTION:Célébrée dans la chapelle de la Vierge Marie\, au fond à gauche dans l’église.
URL:https://coeur-eucharistique.net/event/messe-du-jour-9-3/2030-11-05/
LOCATION:Église du Coeur Eucharistique
CATEGORIES:Culte et prières
ATTACH;FMTTYPE=image/jpeg:https://coeur-eucharistique.net/wp-content/uploads/2023/09/IMG_2967-scaled.jpg
END:VEVENT
BEGIN:VEVENT
DTSTART;TZID=Europe/Paris:20301106T123000
DTEND;TZID=Europe/Paris:20301106T130000
DTSTAMP:20260421T170541
CREATED:20250521T104320Z
LAST-MODIFIED:20260313T144449Z
UID:10017830-1920198600-1920200400@coeur-eucharistique.net
SUMMARY:Messe du jour
DESCRIPTION:Célébrée dans la chapelle de la Vierge Marie\, au fond à gauche dans l’église.
URL:https://coeur-eucharistique.net/event/messe-du-jour-9-3/2030-11-06/
LOCATION:Église du Coeur Eucharistique
CATEGORIES:Culte et prières
ATTACH;FMTTYPE=image/jpeg:https://coeur-eucharistique.net/wp-content/uploads/2023/09/IMG_2967-scaled.jpg
END:VEVENT
BEGIN:VEVENT
DTSTART;TZID=Europe/Paris:20301107T123000
DTEND;TZID=Europe/Paris:20301107T130000
DTSTAMP:20260421T170541
CREATED:20250521T104320Z
LAST-MODIFIED:20260313T144449Z
UID:10017831-1920285000-1920286800@coeur-eucharistique.net
SUMMARY:Messe du jour
DESCRIPTION:Célébrée dans la chapelle de la Vierge Marie\, au fond à gauche dans l’église.
URL:https://coeur-eucharistique.net/event/messe-du-jour-9-3/2030-11-07/
LOCATION:Église du Coeur Eucharistique
CATEGORIES:Culte et prières
ATTACH;FMTTYPE=image/jpeg:https://coeur-eucharistique.net/wp-content/uploads/2023/09/IMG_2967-scaled.jpg
END:VEVENT
BEGIN:VEVENT
DTSTART;TZID=Europe/Paris:20301108T180000
DTEND;TZID=Europe/Paris:20301108T190000
DTSTAMP:20260421T170541
CREATED:20250703T133838Z
LAST-MODIFIED:20260313T121358Z
UID:10016824-1920391200-1920394800@coeur-eucharistique.net
SUMMARY:Confession
DESCRIPTION:« Notre espérance est ferme\, puisque\, dans le Fils du Père « nous avons la rédemption\, la rémission de nos péchés » (Col 1\, 14). Le signe efficace et indubitable de son pardon\, nous le trouvons dans les sacrements de son Église. » \n Catéchisme de l’Église Catholique\, n° 2839 \n\n  \nLe sacrement de la Pénitence et de la Réconciliation est proposé à la paroisse du Coeur Eucharistique de Jésus tous les vendredis de 18h à 19h.
URL:https://coeur-eucharistique.net/event/confession-3/2030-11-08/
LOCATION:Église du Coeur Eucharistique
CATEGORIES:Confession,Culte et prières
ATTACH;FMTTYPE=image/jpeg:https://coeur-eucharistique.net/wp-content/uploads/2023/10/josh-applegate-_TgzNXPF9IM-unsplash-scaled-e1704450627851.jpg
END:VEVENT
BEGIN:VEVENT
DTSTART;TZID=Europe/Paris:20301108T190000
DTEND;TZID=Europe/Paris:20301108T200000
DTSTAMP:20260421T170541
CREATED:20260313T123232Z
LAST-MODIFIED:20260313T144310Z
UID:10018911-1920394800-1920398400@coeur-eucharistique.net
SUMMARY:Messe du jour
DESCRIPTION:Célébrée dans la chapelle de la Vierge Marie\, au fond à gauche dans l’église.
URL:https://coeur-eucharistique.net/event/messe-du-jour-2/2030-11-08/
LOCATION:Église du Coeur Eucharistique
CATEGORIES:Culte et prières
ATTACH;FMTTYPE=image/jpeg:https://coeur-eucharistique.net/wp-content/uploads/2023/09/IMG_2967-scaled.jpg
END:VEVENT
BEGIN:VEVENT
DTSTART;TZID=Europe/Paris:20301109T120000
DTEND;TZID=Europe/Paris:20301109T130000
DTSTAMP:20260421T170541
CREATED:20260313T123425Z
LAST-MODIFIED:20260313T144243Z
UID:10019432-1920456000-1920459600@coeur-eucharistique.net
SUMMARY:Messe du jour
DESCRIPTION:Célébrée dans la chapelle de la Vierge Marie\, au fond à gauche dans l’église.
URL:https://coeur-eucharistique.net/event/messe-du-jour-7/2030-11-09/
LOCATION:Église du Coeur Eucharistique
CATEGORIES:Culte et prières
ATTACH;FMTTYPE=image/jpeg:https://coeur-eucharistique.net/wp-content/uploads/2023/09/IMG_2967-scaled.jpg
END:VEVENT
BEGIN:VEVENT
DTSTART;TZID=Europe/Paris:20301110T101500
DTEND;TZID=Europe/Paris:20301110T113000
DTSTAMP:20260421T170541
CREATED:20230620T145605Z
LAST-MODIFIED:20260414T090100Z
UID:10020052-1920536100-1920540600@coeur-eucharistique.net
SUMMARY:Messe dominicale
DESCRIPTION:
URL:https://coeur-eucharistique.net/event/nom-de-levenement-a-2-2/2030-11-10/
LOCATION:Église du Coeur Eucharistique
CATEGORIES:Culte et prières
ATTACH;FMTTYPE=image/jpeg:https://coeur-eucharistique.net/wp-content/uploads/2023/09/SC043-scaled.jpg
END:VEVENT
BEGIN:VEVENT
DTSTART;TZID=Europe/Paris:20301110T183000
DTEND;TZID=Europe/Paris:20301110T193000
DTSTAMP:20260421T170541
CREATED:20230911T201959Z
LAST-MODIFIED:20260414T085846Z
UID:10019991-1920565800-1920569400@coeur-eucharistique.net
SUMMARY:Messe dominicale
DESCRIPTION:
URL:https://coeur-eucharistique.net/event/messe-dominicale/2030-11-10/
LOCATION:Église du Coeur Eucharistique
CATEGORIES:Culte et prières
ATTACH;FMTTYPE=image/jpeg:https://coeur-eucharistique.net/wp-content/uploads/2023/09/SC043-scaled.jpg
END:VEVENT
BEGIN:VEVENT
DTSTART;TZID=Europe/Paris:20301112T123000
DTEND;TZID=Europe/Paris:20301112T130000
DTSTAMP:20260421T170541
CREATED:20250521T104320Z
LAST-MODIFIED:20260313T144449Z
UID:10017832-1920717000-1920718800@coeur-eucharistique.net
SUMMARY:Messe du jour
DESCRIPTION:Célébrée dans la chapelle de la Vierge Marie\, au fond à gauche dans l’église.
URL:https://coeur-eucharistique.net/event/messe-du-jour-9-3/2030-11-12/
LOCATION:Église du Coeur Eucharistique
CATEGORIES:Culte et prières
ATTACH;FMTTYPE=image/jpeg:https://coeur-eucharistique.net/wp-content/uploads/2023/09/IMG_2967-scaled.jpg
END:VEVENT
BEGIN:VEVENT
DTSTART;TZID=Europe/Paris:20301113T123000
DTEND;TZID=Europe/Paris:20301113T130000
DTSTAMP:20260421T170541
CREATED:20250521T104320Z
LAST-MODIFIED:20260313T144449Z
UID:10017833-1920803400-1920805200@coeur-eucharistique.net
SUMMARY:Messe du jour
DESCRIPTION:Célébrée dans la chapelle de la Vierge Marie\, au fond à gauche dans l’église.
URL:https://coeur-eucharistique.net/event/messe-du-jour-9-3/2030-11-13/
LOCATION:Église du Coeur Eucharistique
CATEGORIES:Culte et prières
ATTACH;FMTTYPE=image/jpeg:https://coeur-eucharistique.net/wp-content/uploads/2023/09/IMG_2967-scaled.jpg
END:VEVENT
BEGIN:VEVENT
DTSTART;TZID=Europe/Paris:20301114T123000
DTEND;TZID=Europe/Paris:20301114T130000
DTSTAMP:20260421T170541
CREATED:20250521T104320Z
LAST-MODIFIED:20260313T144449Z
UID:10017834-1920889800-1920891600@coeur-eucharistique.net
SUMMARY:Messe du jour
DESCRIPTION:Célébrée dans la chapelle de la Vierge Marie\, au fond à gauche dans l’église.
URL:https://coeur-eucharistique.net/event/messe-du-jour-9-3/2030-11-14/
LOCATION:Église du Coeur Eucharistique
CATEGORIES:Culte et prières
ATTACH;FMTTYPE=image/jpeg:https://coeur-eucharistique.net/wp-content/uploads/2023/09/IMG_2967-scaled.jpg
END:VEVENT
BEGIN:VEVENT
DTSTART;TZID=Europe/Paris:20301115T180000
DTEND;TZID=Europe/Paris:20301115T190000
DTSTAMP:20260421T170541
CREATED:20250703T133838Z
LAST-MODIFIED:20260313T121358Z
UID:10016825-1920996000-1920999600@coeur-eucharistique.net
SUMMARY:Confession
DESCRIPTION:« Notre espérance est ferme\, puisque\, dans le Fils du Père « nous avons la rédemption\, la rémission de nos péchés » (Col 1\, 14). Le signe efficace et indubitable de son pardon\, nous le trouvons dans les sacrements de son Église. » \n Catéchisme de l’Église Catholique\, n° 2839 \n\n  \nLe sacrement de la Pénitence et de la Réconciliation est proposé à la paroisse du Coeur Eucharistique de Jésus tous les vendredis de 18h à 19h.
URL:https://coeur-eucharistique.net/event/confession-3/2030-11-15/
LOCATION:Église du Coeur Eucharistique
CATEGORIES:Confession,Culte et prières
ATTACH;FMTTYPE=image/jpeg:https://coeur-eucharistique.net/wp-content/uploads/2023/10/josh-applegate-_TgzNXPF9IM-unsplash-scaled-e1704450627851.jpg
END:VEVENT
BEGIN:VEVENT
DTSTART;TZID=Europe/Paris:20301115T190000
DTEND;TZID=Europe/Paris:20301115T200000
DTSTAMP:20260421T170541
CREATED:20260313T123232Z
LAST-MODIFIED:20260313T144310Z
UID:10018912-1920999600-1921003200@coeur-eucharistique.net
SUMMARY:Messe du jour
DESCRIPTION:Célébrée dans la chapelle de la Vierge Marie\, au fond à gauche dans l’église.
URL:https://coeur-eucharistique.net/event/messe-du-jour-2/2030-11-15/
LOCATION:Église du Coeur Eucharistique
CATEGORIES:Culte et prières
ATTACH;FMTTYPE=image/jpeg:https://coeur-eucharistique.net/wp-content/uploads/2023/09/IMG_2967-scaled.jpg
END:VEVENT
BEGIN:VEVENT
DTSTART;TZID=Europe/Paris:20301116T120000
DTEND;TZID=Europe/Paris:20301116T130000
DTSTAMP:20260421T170541
CREATED:20260313T123425Z
LAST-MODIFIED:20260313T144243Z
UID:10019433-1921060800-1921064400@coeur-eucharistique.net
SUMMARY:Messe du jour
DESCRIPTION:Célébrée dans la chapelle de la Vierge Marie\, au fond à gauche dans l’église.
URL:https://coeur-eucharistique.net/event/messe-du-jour-7/2030-11-16/
LOCATION:Église du Coeur Eucharistique
CATEGORIES:Culte et prières
ATTACH;FMTTYPE=image/jpeg:https://coeur-eucharistique.net/wp-content/uploads/2023/09/IMG_2967-scaled.jpg
END:VEVENT
BEGIN:VEVENT
DTSTART;TZID=Europe/Paris:20301117T101500
DTEND;TZID=Europe/Paris:20301117T113000
DTSTAMP:20260421T170541
CREATED:20230620T145605Z
LAST-MODIFIED:20260414T090100Z
UID:10020053-1921140900-1921145400@coeur-eucharistique.net
SUMMARY:Messe dominicale
DESCRIPTION:
URL:https://coeur-eucharistique.net/event/nom-de-levenement-a-2-2/2030-11-17/
LOCATION:Église du Coeur Eucharistique
CATEGORIES:Culte et prières
ATTACH;FMTTYPE=image/jpeg:https://coeur-eucharistique.net/wp-content/uploads/2023/09/SC043-scaled.jpg
END:VEVENT
BEGIN:VEVENT
DTSTART;TZID=Europe/Paris:20301117T183000
DTEND;TZID=Europe/Paris:20301117T193000
DTSTAMP:20260421T170541
CREATED:20230911T201959Z
LAST-MODIFIED:20260414T085846Z
UID:10019992-1921170600-1921174200@coeur-eucharistique.net
SUMMARY:Messe dominicale
DESCRIPTION:
URL:https://coeur-eucharistique.net/event/messe-dominicale/2030-11-17/
LOCATION:Église du Coeur Eucharistique
CATEGORIES:Culte et prières
ATTACH;FMTTYPE=image/jpeg:https://coeur-eucharistique.net/wp-content/uploads/2023/09/SC043-scaled.jpg
END:VEVENT
BEGIN:VEVENT
DTSTART;TZID=Europe/Paris:20301119T123000
DTEND;TZID=Europe/Paris:20301119T130000
DTSTAMP:20260421T170541
CREATED:20250521T104320Z
LAST-MODIFIED:20260313T144449Z
UID:10017835-1921321800-1921323600@coeur-eucharistique.net
SUMMARY:Messe du jour
DESCRIPTION:Célébrée dans la chapelle de la Vierge Marie\, au fond à gauche dans l’église.
URL:https://coeur-eucharistique.net/event/messe-du-jour-9-3/2030-11-19/
LOCATION:Église du Coeur Eucharistique
CATEGORIES:Culte et prières
ATTACH;FMTTYPE=image/jpeg:https://coeur-eucharistique.net/wp-content/uploads/2023/09/IMG_2967-scaled.jpg
END:VEVENT
BEGIN:VEVENT
DTSTART;TZID=Europe/Paris:20301120T123000
DTEND;TZID=Europe/Paris:20301120T130000
DTSTAMP:20260421T170541
CREATED:20250521T104320Z
LAST-MODIFIED:20260313T144449Z
UID:10017836-1921408200-1921410000@coeur-eucharistique.net
SUMMARY:Messe du jour
DESCRIPTION:Célébrée dans la chapelle de la Vierge Marie\, au fond à gauche dans l’église.
URL:https://coeur-eucharistique.net/event/messe-du-jour-9-3/2030-11-20/
LOCATION:Église du Coeur Eucharistique
CATEGORIES:Culte et prières
ATTACH;FMTTYPE=image/jpeg:https://coeur-eucharistique.net/wp-content/uploads/2023/09/IMG_2967-scaled.jpg
END:VEVENT
BEGIN:VEVENT
DTSTART;TZID=Europe/Paris:20301121T123000
DTEND;TZID=Europe/Paris:20301121T130000
DTSTAMP:20260421T170541
CREATED:20250521T104320Z
LAST-MODIFIED:20260313T144449Z
UID:10017837-1921494600-1921496400@coeur-eucharistique.net
SUMMARY:Messe du jour
DESCRIPTION:Célébrée dans la chapelle de la Vierge Marie\, au fond à gauche dans l’église.
URL:https://coeur-eucharistique.net/event/messe-du-jour-9-3/2030-11-21/
LOCATION:Église du Coeur Eucharistique
CATEGORIES:Culte et prières
ATTACH;FMTTYPE=image/jpeg:https://coeur-eucharistique.net/wp-content/uploads/2023/09/IMG_2967-scaled.jpg
END:VEVENT
BEGIN:VEVENT
DTSTART;TZID=Europe/Paris:20301122T180000
DTEND;TZID=Europe/Paris:20301122T190000
DTSTAMP:20260421T170541
CREATED:20250703T133838Z
LAST-MODIFIED:20260313T121358Z
UID:10016826-1921600800-1921604400@coeur-eucharistique.net
SUMMARY:Confession
DESCRIPTION:« Notre espérance est ferme\, puisque\, dans le Fils du Père « nous avons la rédemption\, la rémission de nos péchés » (Col 1\, 14). Le signe efficace et indubitable de son pardon\, nous le trouvons dans les sacrements de son Église. » \n Catéchisme de l’Église Catholique\, n° 2839 \n\n  \nLe sacrement de la Pénitence et de la Réconciliation est proposé à la paroisse du Coeur Eucharistique de Jésus tous les vendredis de 18h à 19h.
URL:https://coeur-eucharistique.net/event/confession-3/2030-11-22/
LOCATION:Église du Coeur Eucharistique
CATEGORIES:Confession,Culte et prières
ATTACH;FMTTYPE=image/jpeg:https://coeur-eucharistique.net/wp-content/uploads/2023/10/josh-applegate-_TgzNXPF9IM-unsplash-scaled-e1704450627851.jpg
END:VEVENT
BEGIN:VEVENT
DTSTART;TZID=Europe/Paris:20301122T190000
DTEND;TZID=Europe/Paris:20301122T200000
DTSTAMP:20260421T170541
CREATED:20260313T123232Z
LAST-MODIFIED:20260313T144310Z
UID:10018913-1921604400-1921608000@coeur-eucharistique.net
SUMMARY:Messe du jour
DESCRIPTION:Célébrée dans la chapelle de la Vierge Marie\, au fond à gauche dans l’église.
URL:https://coeur-eucharistique.net/event/messe-du-jour-2/2030-11-22/
LOCATION:Église du Coeur Eucharistique
CATEGORIES:Culte et prières
ATTACH;FMTTYPE=image/jpeg:https://coeur-eucharistique.net/wp-content/uploads/2023/09/IMG_2967-scaled.jpg
END:VEVENT
BEGIN:VEVENT
DTSTART;TZID=Europe/Paris:20301123T120000
DTEND;TZID=Europe/Paris:20301123T130000
DTSTAMP:20260421T170541
CREATED:20260313T123425Z
LAST-MODIFIED:20260313T144243Z
UID:10019434-1921665600-1921669200@coeur-eucharistique.net
SUMMARY:Messe du jour
DESCRIPTION:Célébrée dans la chapelle de la Vierge Marie\, au fond à gauche dans l’église.
URL:https://coeur-eucharistique.net/event/messe-du-jour-7/2030-11-23/
LOCATION:Église du Coeur Eucharistique
CATEGORIES:Culte et prières
ATTACH;FMTTYPE=image/jpeg:https://coeur-eucharistique.net/wp-content/uploads/2023/09/IMG_2967-scaled.jpg
END:VEVENT
BEGIN:VEVENT
DTSTART;TZID=Europe/Paris:20301124T101500
DTEND;TZID=Europe/Paris:20301124T113000
DTSTAMP:20260421T170541
CREATED:20230620T145605Z
LAST-MODIFIED:20260414T090100Z
UID:10020054-1921745700-1921750200@coeur-eucharistique.net
SUMMARY:Messe dominicale
DESCRIPTION:
URL:https://coeur-eucharistique.net/event/nom-de-levenement-a-2-2/2030-11-24/
LOCATION:Église du Coeur Eucharistique
CATEGORIES:Culte et prières
ATTACH;FMTTYPE=image/jpeg:https://coeur-eucharistique.net/wp-content/uploads/2023/09/SC043-scaled.jpg
END:VEVENT
BEGIN:VEVENT
DTSTART;TZID=Europe/Paris:20301124T183000
DTEND;TZID=Europe/Paris:20301124T193000
DTSTAMP:20260421T170541
CREATED:20230911T201959Z
LAST-MODIFIED:20260414T085846Z
UID:10019993-1921775400-1921779000@coeur-eucharistique.net
SUMMARY:Messe dominicale
DESCRIPTION:
URL:https://coeur-eucharistique.net/event/messe-dominicale/2030-11-24/
LOCATION:Église du Coeur Eucharistique
CATEGORIES:Culte et prières
ATTACH;FMTTYPE=image/jpeg:https://coeur-eucharistique.net/wp-content/uploads/2023/09/SC043-scaled.jpg
END:VEVENT
BEGIN:VEVENT
DTSTART;TZID=Europe/Paris:20301126T123000
DTEND;TZID=Europe/Paris:20301126T130000
DTSTAMP:20260421T170541
CREATED:20250521T104320Z
LAST-MODIFIED:20260313T144449Z
UID:10017838-1921926600-1921928400@coeur-eucharistique.net
SUMMARY:Messe du jour
DESCRIPTION:Célébrée dans la chapelle de la Vierge Marie\, au fond à gauche dans l’église.
URL:https://coeur-eucharistique.net/event/messe-du-jour-9-3/2030-11-26/
LOCATION:Église du Coeur Eucharistique
CATEGORIES:Culte et prières
ATTACH;FMTTYPE=image/jpeg:https://coeur-eucharistique.net/wp-content/uploads/2023/09/IMG_2967-scaled.jpg
END:VEVENT
END:VCALENDAR