BEGIN:VCALENDAR
VERSION:2.0
PRODID:-//Eglise du Coeur eucharistique de Jesus - ECPv6.15.20//NONSGML v1.0//EN
CALSCALE:GREGORIAN
METHOD:PUBLISH
X-ORIGINAL-URL:https://coeur-eucharistique.net
X-WR-CALDESC:Évènements pour Eglise du Coeur eucharistique de Jesus
REFRESH-INTERVAL;VALUE=DURATION:PT1H
X-Robots-Tag:noindex
X-PUBLISHED-TTL:PT1H
BEGIN:VTIMEZONE
TZID:Europe/Paris
BEGIN:DAYLIGHT
TZOFFSETFROM:+0100
TZOFFSETTO:+0200
TZNAME:CEST
DTSTART:20240331T010000
END:DAYLIGHT
BEGIN:STANDARD
TZOFFSETFROM:+0200
TZOFFSETTO:+0100
TZNAME:CET
DTSTART:20241027T010000
END:STANDARD
BEGIN:DAYLIGHT
TZOFFSETFROM:+0100
TZOFFSETTO:+0200
TZNAME:CEST
DTSTART:20250330T010000
END:DAYLIGHT
BEGIN:STANDARD
TZOFFSETFROM:+0200
TZOFFSETTO:+0100
TZNAME:CET
DTSTART:20251026T010000
END:STANDARD
BEGIN:DAYLIGHT
TZOFFSETFROM:+0100
TZOFFSETTO:+0200
TZNAME:CEST
DTSTART:20260329T010000
END:DAYLIGHT
BEGIN:STANDARD
TZOFFSETFROM:+0200
TZOFFSETTO:+0100
TZNAME:CET
DTSTART:20261025T010000
END:STANDARD
END:VTIMEZONE
BEGIN:VEVENT
DTSTART;TZID=Europe/Paris:20250309T161500
DTEND;TZID=Europe/Paris:20250309T174500
DTSTAMP:20260420T000150
CREATED:20250317T183541Z
LAST-MODIFIED:20250317T183541Z
UID:10011586-1741536900-1741542300@coeur-eucharistique.net
SUMMARY:"Au coeur de la foi"
DESCRIPTION:Le Credo (Je crois en Dieu)\npar l’abbé Maxime\nSéance de présentation\, d’enseignement\, d’approfondissement\, de questions et de partage avec l’abbé Maxime. \nThème : le Credo (Je crois en Dieu). Venez découvrir les fondements de la foi chrétienne !  \nL’entrée est libre\, sans inscription. \nLes séances s’adressent aussi bien à des catéchumènes\, des curieux ou des recommençants qu’à des fidèles qui veulent approfondir leur foi et apprendre à l’exposer. \n 
URL:https://coeur-eucharistique.net/event/au-coeur-de-la-foi-15/2025-03-09/
LOCATION:Salle Saint Louis Martin
CATEGORIES:Au coeur de la foi,Préparation à la Confirmation
ATTACH;FMTTYPE=image/jpeg:https://coeur-eucharistique.net/wp-content/uploads/2023/09/lilartsy-333oj7zFsdg-unsplash-1.jpg
END:VEVENT
BEGIN:VEVENT
DTSTART;TZID=Europe/Paris:20250316T161500
DTEND;TZID=Europe/Paris:20250316T174500
DTSTAMP:20260420T000150
CREATED:20250317T183541Z
LAST-MODIFIED:20250317T183541Z
UID:10011587-1742141700-1742147100@coeur-eucharistique.net
SUMMARY:"Au coeur de la foi"
DESCRIPTION:Le Credo (Je crois en Dieu)\npar l’abbé Maxime\nSéance de présentation\, d’enseignement\, d’approfondissement\, de questions et de partage avec l’abbé Maxime. \nThème : le Credo (Je crois en Dieu). Venez découvrir les fondements de la foi chrétienne !  \nL’entrée est libre\, sans inscription. \nLes séances s’adressent aussi bien à des catéchumènes\, des curieux ou des recommençants qu’à des fidèles qui veulent approfondir leur foi et apprendre à l’exposer. \n 
URL:https://coeur-eucharistique.net/event/au-coeur-de-la-foi-15/2025-03-16/
LOCATION:Salle Saint Louis Martin
CATEGORIES:Au coeur de la foi,Préparation à la Confirmation
ATTACH;FMTTYPE=image/jpeg:https://coeur-eucharistique.net/wp-content/uploads/2023/09/lilartsy-333oj7zFsdg-unsplash-1.jpg
END:VEVENT
BEGIN:VEVENT
DTSTART;TZID=Europe/Paris:20250323T161500
DTEND;TZID=Europe/Paris:20250323T174500
DTSTAMP:20260420T000150
CREATED:20250317T183541Z
LAST-MODIFIED:20250317T183541Z
UID:10011588-1742746500-1742751900@coeur-eucharistique.net
SUMMARY:"Au coeur de la foi"
DESCRIPTION:Le Credo (Je crois en Dieu)\npar l’abbé Maxime\nSéance de présentation\, d’enseignement\, d’approfondissement\, de questions et de partage avec l’abbé Maxime. \nThème : le Credo (Je crois en Dieu). Venez découvrir les fondements de la foi chrétienne !  \nL’entrée est libre\, sans inscription. \nLes séances s’adressent aussi bien à des catéchumènes\, des curieux ou des recommençants qu’à des fidèles qui veulent approfondir leur foi et apprendre à l’exposer. \n 
URL:https://coeur-eucharistique.net/event/au-coeur-de-la-foi-15/2025-03-23/
LOCATION:Salle Saint Louis Martin
CATEGORIES:Au coeur de la foi,Préparation à la Confirmation
ATTACH;FMTTYPE=image/jpeg:https://coeur-eucharistique.net/wp-content/uploads/2023/09/lilartsy-333oj7zFsdg-unsplash-1.jpg
END:VEVENT
BEGIN:VEVENT
DTSTART;TZID=Europe/Paris:20250330T161500
DTEND;TZID=Europe/Paris:20250330T174500
DTSTAMP:20260420T000150
CREATED:20250317T183541Z
LAST-MODIFIED:20250317T183541Z
UID:10011589-1743351300-1743356700@coeur-eucharistique.net
SUMMARY:"Au coeur de la foi"
DESCRIPTION:Le Credo (Je crois en Dieu)\npar l’abbé Maxime\nSéance de présentation\, d’enseignement\, d’approfondissement\, de questions et de partage avec l’abbé Maxime. \nThème : le Credo (Je crois en Dieu). Venez découvrir les fondements de la foi chrétienne !  \nL’entrée est libre\, sans inscription. \nLes séances s’adressent aussi bien à des catéchumènes\, des curieux ou des recommençants qu’à des fidèles qui veulent approfondir leur foi et apprendre à l’exposer. \n 
URL:https://coeur-eucharistique.net/event/au-coeur-de-la-foi-15/2025-03-30/
LOCATION:Salle Saint Louis Martin
CATEGORIES:Au coeur de la foi,Préparation à la Confirmation
ATTACH;FMTTYPE=image/jpeg:https://coeur-eucharistique.net/wp-content/uploads/2023/09/lilartsy-333oj7zFsdg-unsplash-1.jpg
END:VEVENT
END:VCALENDAR