BEGIN:VCALENDAR
VERSION:2.0
PRODID:-//Eglise du Coeur eucharistique de Jesus - ECPv6.15.20//NONSGML v1.0//EN
CALSCALE:GREGORIAN
METHOD:PUBLISH
X-ORIGINAL-URL:https://coeur-eucharistique.net
X-WR-CALDESC:Évènements pour Eglise du Coeur eucharistique de Jesus
REFRESH-INTERVAL;VALUE=DURATION:PT1H
X-Robots-Tag:noindex
X-PUBLISHED-TTL:PT1H
BEGIN:VTIMEZONE
TZID:Europe/Paris
BEGIN:DAYLIGHT
TZOFFSETFROM:+0100
TZOFFSETTO:+0200
TZNAME:CEST
DTSTART:20230326T010000
END:DAYLIGHT
BEGIN:STANDARD
TZOFFSETFROM:+0200
TZOFFSETTO:+0100
TZNAME:CET
DTSTART:20231029T010000
END:STANDARD
BEGIN:DAYLIGHT
TZOFFSETFROM:+0100
TZOFFSETTO:+0200
TZNAME:CEST
DTSTART:20240331T010000
END:DAYLIGHT
BEGIN:STANDARD
TZOFFSETFROM:+0200
TZOFFSETTO:+0100
TZNAME:CET
DTSTART:20241027T010000
END:STANDARD
BEGIN:DAYLIGHT
TZOFFSETFROM:+0100
TZOFFSETTO:+0200
TZNAME:CEST
DTSTART:20250330T010000
END:DAYLIGHT
BEGIN:STANDARD
TZOFFSETFROM:+0200
TZOFFSETTO:+0100
TZNAME:CET
DTSTART:20251026T010000
END:STANDARD
END:VTIMEZONE
BEGIN:VEVENT
DTSTART;TZID=Europe/Paris:20240427T163000
DTEND;TZID=Europe/Paris:20240427T174500
DTSTAMP:20260420T175227
CREATED:20240327T083538Z
LAST-MODIFIED:20240426T131301Z
UID:10011067-1714235400-1714239900@coeur-eucharistique.net
SUMMARY:"Au coeur de la foi"
DESCRIPTION:Pourquoi recevoir le baptême ?\npar l’abbé Chouanard\nSéance bimensuelle de présentation\, d’enseignement et de d’approfondissement de la Parole de Dieu avec l’abbé Chouanard\, Arthur Magnier et quelques invités. \nL’entrée est libre\, sans inscription. Le thème est annoncé ici. \nLes séances s’adressent aussi bien à des catéchumènes\, des curieux ou des recommençants qu’à des fidèles qui veulent approfondir leur foi et apprendre à l’exposer.
URL:https://coeur-eucharistique.net/event/au-coeur-de-la-foi-14/
LOCATION:Salle Saint Louis Martin
CATEGORIES:Au coeur de la foi,Préparation à la Confirmation
ATTACH;FMTTYPE=image/jpeg:https://coeur-eucharistique.net/wp-content/uploads/2023/09/lilartsy-333oj7zFsdg-unsplash-1.jpg
END:VEVENT
END:VCALENDAR