BEGIN:VCALENDAR
VERSION:2.0
PRODID:-//Eglise du Coeur eucharistique de Jesus - ECPv6.15.20//NONSGML v1.0//EN
CALSCALE:GREGORIAN
METHOD:PUBLISH
X-ORIGINAL-URL:https://coeur-eucharistique.net
X-WR-CALDESC:Évènements pour Eglise du Coeur eucharistique de Jesus
REFRESH-INTERVAL;VALUE=DURATION:PT1H
X-Robots-Tag:noindex
X-PUBLISHED-TTL:PT1H
BEGIN:VTIMEZONE
TZID:Europe/Paris
BEGIN:DAYLIGHT
TZOFFSETFROM:+0100
TZOFFSETTO:+0200
TZNAME:CEST
DTSTART:20230326T010000
END:DAYLIGHT
BEGIN:STANDARD
TZOFFSETFROM:+0200
TZOFFSETTO:+0100
TZNAME:CET
DTSTART:20231029T010000
END:STANDARD
BEGIN:DAYLIGHT
TZOFFSETFROM:+0100
TZOFFSETTO:+0200
TZNAME:CEST
DTSTART:20240331T010000
END:DAYLIGHT
BEGIN:STANDARD
TZOFFSETFROM:+0200
TZOFFSETTO:+0100
TZNAME:CET
DTSTART:20241027T010000
END:STANDARD
BEGIN:DAYLIGHT
TZOFFSETFROM:+0100
TZOFFSETTO:+0200
TZNAME:CEST
DTSTART:20250330T010000
END:DAYLIGHT
BEGIN:STANDARD
TZOFFSETFROM:+0200
TZOFFSETTO:+0100
TZNAME:CET
DTSTART:20251026T010000
END:STANDARD
END:VTIMEZONE
BEGIN:VEVENT
DTSTART;TZID=Europe/Paris:20240309T170000
DTEND;TZID=Europe/Paris:20240309T183000
DTSTAMP:20260420T192958
CREATED:20240117T084419Z
LAST-MODIFIED:20240117T084419Z
UID:10010560-1710003600-1710009000@coeur-eucharistique.net
SUMMARY:"Au coeur de la foi"
DESCRIPTION:La promesse de l’Esprit Saint\npar l’abbé Chouanard\nSéance bimensuelle de présentation\, d’enseignement et de d’approfondissement de la Parole de Dieu avec l’abbé Chouanard\, Arthur Magnier et quelques invités. \nL’entrée est libre\, sans inscription. Le thème est annoncé ici. \nLes séances s’adressent aussi bien à des catéchumènes\, des curieux ou des recommençants qu’à des fidèles qui veulent approfondir leur foi et apprendre à l’exposer.
URL:https://coeur-eucharistique.net/event/au-coeur-de-la-foi-11/
LOCATION:Salle Saint Louis Martin
CATEGORIES:Au coeur de la foi,Préparation à la Confirmation
ATTACH;FMTTYPE=image/jpeg:https://coeur-eucharistique.net/wp-content/uploads/2023/09/lilartsy-333oj7zFsdg-unsplash-1.jpg
END:VEVENT
BEGIN:VEVENT
DTSTART;TZID=Europe/Paris:20240316T170000
DTEND;TZID=Europe/Paris:20240316T183000
DTSTAMP:20260420T192958
CREATED:20240117T084643Z
LAST-MODIFIED:20240117T085136Z
UID:10010561-1710608400-1710613800@coeur-eucharistique.net
SUMMARY:"Au coeur de la foi"
DESCRIPTION:Le Don de l’Esprit Saint : le mystère de la Pentecôte aujourd’hui\npar l’abbé Chouanard\nSéance bimensuelle de présentation\, d’enseignement et de d’approfondissement de la Parole de Dieu avec l’abbé Chouanard\, Arthur Magnier et quelques invités. \nL’entrée est libre\, sans inscription. Le thème est annoncé ici. \nLes séances s’adressent aussi bien à des catéchumènes\, des curieux ou des recommençants qu’à des fidèles qui veulent approfondir leur foi et apprendre à l’exposer.
URL:https://coeur-eucharistique.net/event/au-coeur-de-la-foi-12/
LOCATION:Salle Saint Louis Martin
CATEGORIES:Au coeur de la foi,Préparation à la Confirmation
ATTACH;FMTTYPE=image/jpeg:https://coeur-eucharistique.net/wp-content/uploads/2023/09/lilartsy-333oj7zFsdg-unsplash-1.jpg
END:VEVENT
BEGIN:VEVENT
DTSTART;TZID=Europe/Paris:20240323T170000
DTEND;TZID=Europe/Paris:20240323T183000
DTSTAMP:20260420T192958
CREATED:20240117T084816Z
LAST-MODIFIED:20240117T085511Z
UID:10010562-1711213200-1711218600@coeur-eucharistique.net
SUMMARY:"Au coeur de la foi"
DESCRIPTION:Vivre de l’Esprit Saint pour vivre dans le Christ\npar l’abbé Chouanard\nSéance bimensuelle de présentation\, d’enseignement et de d’approfondissement de la Parole de Dieu avec l’abbé Chouanard\, Arthur Magnier et quelques invités. \nL’entrée est libre\, sans inscription. Le thème est annoncé ici. \nLes séances s’adressent aussi bien à des catéchumènes\, des curieux ou des recommençants qu’à des fidèles qui veulent approfondir leur foi et apprendre à l’exposer.
URL:https://coeur-eucharistique.net/event/au-coeur-de-la-foi-13/
LOCATION:Salle Saint Louis Martin
CATEGORIES:Au coeur de la foi,Préparation à la Confirmation
ATTACH;FMTTYPE=image/jpeg:https://coeur-eucharistique.net/wp-content/uploads/2023/09/lilartsy-333oj7zFsdg-unsplash-1.jpg
END:VEVENT
END:VCALENDAR