BEGIN:VCALENDAR
VERSION:2.0
PRODID:-//Eglise du Coeur eucharistique de Jesus - ECPv6.15.20//NONSGML v1.0//EN
CALSCALE:GREGORIAN
METHOD:PUBLISH
X-ORIGINAL-URL:https://coeur-eucharistique.net
X-WR-CALDESC:Évènements pour Eglise du Coeur eucharistique de Jesus
REFRESH-INTERVAL;VALUE=DURATION:PT1H
X-Robots-Tag:noindex
X-PUBLISHED-TTL:PT1H
BEGIN:VTIMEZONE
TZID:Europe/Paris
BEGIN:DAYLIGHT
TZOFFSETFROM:+0100
TZOFFSETTO:+0200
TZNAME:CEST
DTSTART:20240331T010000
END:DAYLIGHT
BEGIN:STANDARD
TZOFFSETFROM:+0200
TZOFFSETTO:+0100
TZNAME:CET
DTSTART:20241027T010000
END:STANDARD
BEGIN:DAYLIGHT
TZOFFSETFROM:+0100
TZOFFSETTO:+0200
TZNAME:CEST
DTSTART:20250330T010000
END:DAYLIGHT
BEGIN:STANDARD
TZOFFSETFROM:+0200
TZOFFSETTO:+0100
TZNAME:CET
DTSTART:20251026T010000
END:STANDARD
BEGIN:DAYLIGHT
TZOFFSETFROM:+0100
TZOFFSETTO:+0200
TZNAME:CEST
DTSTART:20260329T010000
END:DAYLIGHT
BEGIN:STANDARD
TZOFFSETFROM:+0200
TZOFFSETTO:+0100
TZNAME:CET
DTSTART:20261025T010000
END:STANDARD
END:VTIMEZONE
BEGIN:VEVENT
DTSTART;TZID=Europe/Paris:20250106T210000
DTEND;TZID=Europe/Paris:20250106T223000
DTSTAMP:20260421T123535
CREATED:20231014T081714Z
LAST-MODIFIED:20240917T083733Z
UID:10007002-1736197200-1736202600@coeur-eucharistique.net
SUMMARY:Cours de Théatre
DESCRIPTION:Troupe des Compagnons de Gringoire \nSous la direction de Julien Esposito
URL:https://coeur-eucharistique.net/event/cours-de-theatre/2025-01-06/
LOCATION:Salle Abbé de Montbeillard\, 22 rue du Lieutenant Chauré\, Paris\, 75020\, France
CATEGORIES:Cours de Théatre Adultes
ATTACH;FMTTYPE=image/jpeg:https://coeur-eucharistique.net/wp-content/uploads/2023/10/theatre.jpg
END:VEVENT
BEGIN:VEVENT
DTSTART;TZID=Europe/Paris:20250113T210000
DTEND;TZID=Europe/Paris:20250113T223000
DTSTAMP:20260421T123535
CREATED:20231014T081714Z
LAST-MODIFIED:20240917T083733Z
UID:10007003-1736802000-1736807400@coeur-eucharistique.net
SUMMARY:Cours de Théatre
DESCRIPTION:Troupe des Compagnons de Gringoire \nSous la direction de Julien Esposito
URL:https://coeur-eucharistique.net/event/cours-de-theatre/2025-01-13/
LOCATION:Salle Abbé de Montbeillard\, 22 rue du Lieutenant Chauré\, Paris\, 75020\, France
CATEGORIES:Cours de Théatre Adultes
ATTACH;FMTTYPE=image/jpeg:https://coeur-eucharistique.net/wp-content/uploads/2023/10/theatre.jpg
END:VEVENT
BEGIN:VEVENT
DTSTART;TZID=Europe/Paris:20250120T210000
DTEND;TZID=Europe/Paris:20250120T223000
DTSTAMP:20260421T123535
CREATED:20231014T081714Z
LAST-MODIFIED:20240917T083733Z
UID:10007004-1737406800-1737412200@coeur-eucharistique.net
SUMMARY:Cours de Théatre
DESCRIPTION:Troupe des Compagnons de Gringoire \nSous la direction de Julien Esposito
URL:https://coeur-eucharistique.net/event/cours-de-theatre/2025-01-20/
LOCATION:Salle Abbé de Montbeillard\, 22 rue du Lieutenant Chauré\, Paris\, 75020\, France
CATEGORIES:Cours de Théatre Adultes
ATTACH;FMTTYPE=image/jpeg:https://coeur-eucharistique.net/wp-content/uploads/2023/10/theatre.jpg
END:VEVENT
BEGIN:VEVENT
DTSTART;TZID=Europe/Paris:20250127T210000
DTEND;TZID=Europe/Paris:20250127T223000
DTSTAMP:20260421T123535
CREATED:20231014T081714Z
LAST-MODIFIED:20240917T083733Z
UID:10007005-1738011600-1738017000@coeur-eucharistique.net
SUMMARY:Cours de Théatre
DESCRIPTION:Troupe des Compagnons de Gringoire \nSous la direction de Julien Esposito
URL:https://coeur-eucharistique.net/event/cours-de-theatre/2025-01-27/
LOCATION:Salle Abbé de Montbeillard\, 22 rue du Lieutenant Chauré\, Paris\, 75020\, France
CATEGORIES:Cours de Théatre Adultes
ATTACH;FMTTYPE=image/jpeg:https://coeur-eucharistique.net/wp-content/uploads/2023/10/theatre.jpg
END:VEVENT
END:VCALENDAR