BEGIN:VCALENDAR
VERSION:2.0
PRODID:-//Eglise du Coeur eucharistique de Jesus - ECPv6.15.20//NONSGML v1.0//EN
CALSCALE:GREGORIAN
METHOD:PUBLISH
X-ORIGINAL-URL:https://coeur-eucharistique.net
X-WR-CALDESC:Évènements pour Eglise du Coeur eucharistique de Jesus
REFRESH-INTERVAL;VALUE=DURATION:PT1H
X-Robots-Tag:noindex
X-PUBLISHED-TTL:PT1H
BEGIN:VTIMEZONE
TZID:Europe/Paris
BEGIN:DAYLIGHT
TZOFFSETFROM:+0100
TZOFFSETTO:+0200
TZNAME:CEST
DTSTART:20220327T010000
END:DAYLIGHT
BEGIN:STANDARD
TZOFFSETFROM:+0200
TZOFFSETTO:+0100
TZNAME:CET
DTSTART:20221030T010000
END:STANDARD
BEGIN:DAYLIGHT
TZOFFSETFROM:+0100
TZOFFSETTO:+0200
TZNAME:CEST
DTSTART:20230326T010000
END:DAYLIGHT
BEGIN:STANDARD
TZOFFSETFROM:+0200
TZOFFSETTO:+0100
TZNAME:CET
DTSTART:20231029T010000
END:STANDARD
BEGIN:DAYLIGHT
TZOFFSETFROM:+0100
TZOFFSETTO:+0200
TZNAME:CEST
DTSTART:20240331T010000
END:DAYLIGHT
BEGIN:STANDARD
TZOFFSETFROM:+0200
TZOFFSETTO:+0100
TZNAME:CET
DTSTART:20241027T010000
END:STANDARD
END:VTIMEZONE
BEGIN:VEVENT
DTSTART;TZID=Europe/Paris:20231204T210000
DTEND;TZID=Europe/Paris:20231204T223000
DTSTAMP:20260422T111118
CREATED:20231014T081714Z
LAST-MODIFIED:20240917T083733Z
UID:10006945-1701723600-1701729000@coeur-eucharistique.net
SUMMARY:Cours de Théatre
DESCRIPTION:Troupe des Compagnons de Gringoire \nSous la direction de Julien Esposito
URL:https://coeur-eucharistique.net/event/cours-de-theatre/2023-12-04/
LOCATION:Salle Abbé de Montbeillard\, 22 rue du Lieutenant Chauré\, Paris\, 75020\, France
CATEGORIES:Cours de Théatre Adultes
ATTACH;FMTTYPE=image/jpeg:https://coeur-eucharistique.net/wp-content/uploads/2023/10/theatre.jpg
END:VEVENT
BEGIN:VEVENT
DTSTART;TZID=Europe/Paris:20231211T210000
DTEND;TZID=Europe/Paris:20231211T223000
DTSTAMP:20260422T111118
CREATED:20231014T081714Z
LAST-MODIFIED:20240917T083733Z
UID:10006946-1702328400-1702333800@coeur-eucharistique.net
SUMMARY:Cours de Théatre
DESCRIPTION:Troupe des Compagnons de Gringoire \nSous la direction de Julien Esposito
URL:https://coeur-eucharistique.net/event/cours-de-theatre/2023-12-11/
LOCATION:Salle Abbé de Montbeillard\, 22 rue du Lieutenant Chauré\, Paris\, 75020\, France
CATEGORIES:Cours de Théatre Adultes
ATTACH;FMTTYPE=image/jpeg:https://coeur-eucharistique.net/wp-content/uploads/2023/10/theatre.jpg
END:VEVENT
BEGIN:VEVENT
DTSTART;TZID=Europe/Paris:20231218T210000
DTEND;TZID=Europe/Paris:20231218T223000
DTSTAMP:20260422T111118
CREATED:20231014T081714Z
LAST-MODIFIED:20240917T083733Z
UID:10006947-1702933200-1702938600@coeur-eucharistique.net
SUMMARY:Cours de Théatre
DESCRIPTION:Troupe des Compagnons de Gringoire \nSous la direction de Julien Esposito
URL:https://coeur-eucharistique.net/event/cours-de-theatre/2023-12-18/
LOCATION:Salle Abbé de Montbeillard\, 22 rue du Lieutenant Chauré\, Paris\, 75020\, France
CATEGORIES:Cours de Théatre Adultes
ATTACH;FMTTYPE=image/jpeg:https://coeur-eucharistique.net/wp-content/uploads/2023/10/theatre.jpg
END:VEVENT
BEGIN:VEVENT
DTSTART;TZID=Europe/Paris:20231225T210000
DTEND;TZID=Europe/Paris:20231225T223000
DTSTAMP:20260422T111118
CREATED:20231014T081714Z
LAST-MODIFIED:20240917T083733Z
UID:10011298-1703538000-1703543400@coeur-eucharistique.net
SUMMARY:Cours de Théatre
DESCRIPTION:Troupe des Compagnons de Gringoire \nSous la direction de Julien Esposito
URL:https://coeur-eucharistique.net/event/cours-de-theatre/2023-12-25/
LOCATION:Salle Abbé de Montbeillard\, 22 rue du Lieutenant Chauré\, Paris\, 75020\, France
CATEGORIES:Cours de Théatre Adultes
ATTACH;FMTTYPE=image/jpeg:https://coeur-eucharistique.net/wp-content/uploads/2023/10/theatre.jpg
END:VEVENT
END:VCALENDAR