BEGIN:VCALENDAR
VERSION:2.0
PRODID:-//Eglise du Coeur eucharistique de Jesus - ECPv6.15.20//NONSGML v1.0//EN
CALSCALE:GREGORIAN
METHOD:PUBLISH
X-ORIGINAL-URL:https://coeur-eucharistique.net
X-WR-CALDESC:Évènements pour Eglise du Coeur eucharistique de Jesus
REFRESH-INTERVAL;VALUE=DURATION:PT1H
X-Robots-Tag:noindex
X-PUBLISHED-TTL:PT1H
BEGIN:VTIMEZONE
TZID:Europe/Paris
BEGIN:DAYLIGHT
TZOFFSETFROM:+0100
TZOFFSETTO:+0200
TZNAME:CEST
DTSTART:20220327T010000
END:DAYLIGHT
BEGIN:STANDARD
TZOFFSETFROM:+0200
TZOFFSETTO:+0100
TZNAME:CET
DTSTART:20221030T010000
END:STANDARD
BEGIN:DAYLIGHT
TZOFFSETFROM:+0100
TZOFFSETTO:+0200
TZNAME:CEST
DTSTART:20230326T010000
END:DAYLIGHT
BEGIN:STANDARD
TZOFFSETFROM:+0200
TZOFFSETTO:+0100
TZNAME:CET
DTSTART:20231029T010000
END:STANDARD
BEGIN:DAYLIGHT
TZOFFSETFROM:+0100
TZOFFSETTO:+0200
TZNAME:CEST
DTSTART:20240331T010000
END:DAYLIGHT
BEGIN:STANDARD
TZOFFSETFROM:+0200
TZOFFSETTO:+0100
TZNAME:CET
DTSTART:20241027T010000
END:STANDARD
END:VTIMEZONE
BEGIN:VEVENT
DTSTART;TZID=Europe/Paris:20231202T170000
DTEND;TZID=Europe/Paris:20231202T183000
DTSTAMP:20260423T135350
CREATED:20230912T095055Z
LAST-MODIFIED:20240113T100637Z
UID:10004185-1701536400-1701541800@coeur-eucharistique.net
SUMMARY:"Au coeur de la foi"
DESCRIPTION:La communion des saints et la place de la Vierge Marie\npar l’abbé Chouanard\n  \nSéance bimensuelle de présentation\, d’enseignement et de d’approfondissement de la Parole de Dieu avec l’abbé Chouanard\, Arthur Magnier et quelques invités. \nL’entrée est libre\, sans inscription. Le thème est annoncé ici. \nLes séances s’adressent aussi bien à des catéchumènes\, des curieux ou des recommençants qu’à des fidèles qui veulent approfondir leur foi et apprendre à l’exposer.
URL:https://coeur-eucharistique.net/event/au-coeur-de-la-foi-6/
LOCATION:Salle Saint Louis Martin
CATEGORIES:Au coeur de la foi
ATTACH;FMTTYPE=image/jpeg:https://coeur-eucharistique.net/wp-content/uploads/2023/09/lilartsy-333oj7zFsdg-unsplash-1.jpg
END:VEVENT
BEGIN:VEVENT
DTSTART;TZID=Europe/Paris:20231209T170000
DTEND;TZID=Europe/Paris:20231209T183000
DTSTAMP:20260423T135350
CREATED:20230912T095114Z
LAST-MODIFIED:20240113T100752Z
UID:10004186-1702141200-1702146600@coeur-eucharistique.net
SUMMARY:"Au coeur de la foi"
DESCRIPTION:Séance bimensuelle de présentation\, d’enseignement et de d’approfondissement de la Parole de Dieu avec l’abbé Chouanard\, Arthur Magnier et quelques invités. \nL’entrée est libre\, sans inscription. Le thème est annoncé ici. \nLes séances s’adressent aussi bien à des catéchumènes\, des curieux ou des recommençants qu’à des fidèles qui veulent approfondir leur foi et apprendre à l’exposer.
URL:https://coeur-eucharistique.net/event/au-coeur-de-la-foi-7/
LOCATION:Salle Saint Louis Martin
CATEGORIES:Au coeur de la foi
ATTACH;FMTTYPE=image/jpeg:https://coeur-eucharistique.net/wp-content/uploads/2023/09/lilartsy-333oj7zFsdg-unsplash-1.jpg
END:VEVENT
END:VCALENDAR